BEGIN:VCALENDAR
VERSION:2.0
PRODID:-//Clear Creek County Library District - ECPv6.15.16//NONSGML v1.0//EN
CALSCALE:GREGORIAN
METHOD:PUBLISH
X-ORIGINAL-URL:https://cccld.org
X-WR-CALDESC:Events for Clear Creek County Library District
REFRESH-INTERVAL;VALUE=DURATION:PT1H
X-Robots-Tag:noindex
X-PUBLISHED-TTL:PT1H
BEGIN:VTIMEZONE
TZID:America/Denver
BEGIN:DAYLIGHT
TZOFFSETFROM:-0700
TZOFFSETTO:-0600
TZNAME:MDT
DTSTART:20230312T090000
END:DAYLIGHT
BEGIN:STANDARD
TZOFFSETFROM:-0600
TZOFFSETTO:-0700
TZNAME:MST
DTSTART:20231105T080000
END:STANDARD
BEGIN:DAYLIGHT
TZOFFSETFROM:-0700
TZOFFSETTO:-0600
TZNAME:MDT
DTSTART:20240310T090000
END:DAYLIGHT
BEGIN:STANDARD
TZOFFSETFROM:-0600
TZOFFSETTO:-0700
TZNAME:MST
DTSTART:20241103T080000
END:STANDARD
BEGIN:DAYLIGHT
TZOFFSETFROM:-0700
TZOFFSETTO:-0600
TZNAME:MDT
DTSTART:20250309T090000
END:DAYLIGHT
BEGIN:STANDARD
TZOFFSETFROM:-0600
TZOFFSETTO:-0700
TZNAME:MST
DTSTART:20251102T080000
END:STANDARD
END:VTIMEZONE
BEGIN:VEVENT
DTSTART;TZID=America/Denver:20240601T140000
DTEND;TZID=America/Denver:20240601T153000
DTSTAMP:20260420T100904
CREATED:20240610T174307Z
LAST-MODIFIED:20240830T201203Z
UID:10006473-1717250400-1717255800@cccld.org
SUMMARY:Mountain Jams 2024
DESCRIPTION:Free\, live music every Saturday on Library Park Stage-corner of Sixth Street & Rose Street.
URL:https://cccld.org/event/mountain-jams-2024/2024-06-01/
LOCATION:John Tomay Memorial Library\, 605 6th Street\, Georgetown\, CO\, 80444\, United States
CATEGORIES:Adults,Community Events,Kids,Library Events,Teens
GEO:39.7061997;-105.6974142
X-APPLE-STRUCTURED-LOCATION;VALUE=URI;X-ADDRESS=John Tomay Memorial Library 605 6th Street Georgetown CO 80444 United States;X-APPLE-RADIUS=500;X-TITLE=605 6th Street:geo:-105.6974142,39.7061997
END:VEVENT
BEGIN:VEVENT
DTSTART;TZID=America/Denver:20240608T140000
DTEND;TZID=America/Denver:20240608T153000
DTSTAMP:20260420T100904
CREATED:20240610T174307Z
LAST-MODIFIED:20240830T201203Z
UID:10006474-1717855200-1717860600@cccld.org
SUMMARY:Mountain Jams 2024
DESCRIPTION:Free\, live music every Saturday on Library Park Stage-corner of Sixth Street & Rose Street.
URL:https://cccld.org/event/mountain-jams-2024/2024-06-08/
LOCATION:John Tomay Memorial Library\, 605 6th Street\, Georgetown\, CO\, 80444\, United States
CATEGORIES:Adults,Community Events,Kids,Library Events,Teens
GEO:39.7061997;-105.6974142
X-APPLE-STRUCTURED-LOCATION;VALUE=URI;X-ADDRESS=John Tomay Memorial Library 605 6th Street Georgetown CO 80444 United States;X-APPLE-RADIUS=500;X-TITLE=605 6th Street:geo:-105.6974142,39.7061997
END:VEVENT
BEGIN:VEVENT
DTSTART;TZID=America/Denver:20240611T100000
DTEND;TZID=America/Denver:20240611T130000
DTSTAMP:20260420T100904
CREATED:20240610T165221Z
LAST-MODIFIED:20240610T165221Z
UID:10006459-1718100000-1718110800@cccld.org
SUMMARY:ISPL-Summer Reading
DESCRIPTION:Review complete reading groups & times at cccld.org/summer-reading-2024/\nJoin us on a summertime expedition into the wide world of stories\, crafts\, challenges\, and excursions. Connect with other Clear Creek learners\, and read your way to wonderful prizes! Like all Library District programs\, Summer Reading is 100% free.
URL:https://cccld.org/event/ispl-summer-reading-3/2024-06-11/
LOCATION:Idaho Springs Public Library\, 219 14th Avenue\, Idaho Springs\, CO\, 80452\, United States
CATEGORIES:Kids,Library Events,Summer Reading,Teens
GEO:39.742052;-105.5183552
X-APPLE-STRUCTURED-LOCATION;VALUE=URI;X-ADDRESS=Idaho Springs Public Library 219 14th Avenue Idaho Springs CO 80452 United States;X-APPLE-RADIUS=500;X-TITLE=219 14th Avenue:geo:-105.5183552,39.742052
END:VEVENT
BEGIN:VEVENT
DTSTART;TZID=America/Denver:20240613T100000
DTEND;TZID=America/Denver:20240613T130000
DTSTAMP:20260420T100904
CREATED:20240610T165517Z
LAST-MODIFIED:20240610T165517Z
UID:10006462-1718272800-1718283600@cccld.org
SUMMARY:JTML-Summer Reading
DESCRIPTION:Review complete reading groups & times at cccld.org/summer-reading-2024/\nJoin us on a summertime expedition into the wide world of stories\, crafts\, challenges\, and excursions. Connect with other Clear Creek learners\, and read your way to wonderful prizes! Like all Library District programs\, Summer Reading is 100% free.
URL:https://cccld.org/event/jtml-summer-reading-3/2024-06-13/
LOCATION:John Tomay Memorial Library\, 605 6th Street\, Georgetown\, CO\, 80444\, United States
CATEGORIES:Adults,Kids,Library Events,Summer Reading,Teens
GEO:39.7061997;-105.6974142
X-APPLE-STRUCTURED-LOCATION;VALUE=URI;X-ADDRESS=John Tomay Memorial Library 605 6th Street Georgetown CO 80444 United States;X-APPLE-RADIUS=500;X-TITLE=605 6th Street:geo:-105.6974142,39.7061997
END:VEVENT
BEGIN:VEVENT
DTSTART;TZID=America/Denver:20240615T140000
DTEND;TZID=America/Denver:20240615T153000
DTSTAMP:20260420T100904
CREATED:20240610T174307Z
LAST-MODIFIED:20240830T201203Z
UID:10006475-1718460000-1718465400@cccld.org
SUMMARY:Mountain Jams 2024
DESCRIPTION:Free\, live music every Saturday on Library Park Stage-corner of Sixth Street & Rose Street.
URL:https://cccld.org/event/mountain-jams-2024/2024-06-15/
LOCATION:John Tomay Memorial Library\, 605 6th Street\, Georgetown\, CO\, 80444\, United States
CATEGORIES:Adults,Community Events,Kids,Library Events,Teens
GEO:39.7061997;-105.6974142
X-APPLE-STRUCTURED-LOCATION;VALUE=URI;X-ADDRESS=John Tomay Memorial Library 605 6th Street Georgetown CO 80444 United States;X-APPLE-RADIUS=500;X-TITLE=605 6th Street:geo:-105.6974142,39.7061997
END:VEVENT
BEGIN:VEVENT
DTSTART;TZID=America/Denver:20240618T100000
DTEND;TZID=America/Denver:20240618T130000
DTSTAMP:20260420T100904
CREATED:20240610T165221Z
LAST-MODIFIED:20240610T165221Z
UID:10006460-1718704800-1718715600@cccld.org
SUMMARY:ISPL-Summer Reading
DESCRIPTION:Review complete reading groups & times at cccld.org/summer-reading-2024/\nJoin us on a summertime expedition into the wide world of stories\, crafts\, challenges\, and excursions. Connect with other Clear Creek learners\, and read your way to wonderful prizes! Like all Library District programs\, Summer Reading is 100% free.
URL:https://cccld.org/event/ispl-summer-reading-3/2024-06-18/
LOCATION:Idaho Springs Public Library\, 219 14th Avenue\, Idaho Springs\, CO\, 80452\, United States
CATEGORIES:Kids,Library Events,Summer Reading,Teens
GEO:39.742052;-105.5183552
X-APPLE-STRUCTURED-LOCATION;VALUE=URI;X-ADDRESS=Idaho Springs Public Library 219 14th Avenue Idaho Springs CO 80452 United States;X-APPLE-RADIUS=500;X-TITLE=219 14th Avenue:geo:-105.5183552,39.742052
END:VEVENT
BEGIN:VEVENT
DTSTART;TZID=America/Denver:20240620T100000
DTEND;TZID=America/Denver:20240620T130000
DTSTAMP:20260420T100904
CREATED:20240610T165517Z
LAST-MODIFIED:20240610T165517Z
UID:10006463-1718877600-1718888400@cccld.org
SUMMARY:JTML-Summer Reading
DESCRIPTION:Review complete reading groups & times at cccld.org/summer-reading-2024/\nJoin us on a summertime expedition into the wide world of stories\, crafts\, challenges\, and excursions. Connect with other Clear Creek learners\, and read your way to wonderful prizes! Like all Library District programs\, Summer Reading is 100% free.
URL:https://cccld.org/event/jtml-summer-reading-3/2024-06-20/
LOCATION:John Tomay Memorial Library\, 605 6th Street\, Georgetown\, CO\, 80444\, United States
CATEGORIES:Adults,Kids,Library Events,Summer Reading,Teens
GEO:39.7061997;-105.6974142
X-APPLE-STRUCTURED-LOCATION;VALUE=URI;X-ADDRESS=John Tomay Memorial Library 605 6th Street Georgetown CO 80444 United States;X-APPLE-RADIUS=500;X-TITLE=605 6th Street:geo:-105.6974142,39.7061997
END:VEVENT
BEGIN:VEVENT
DTSTART;TZID=America/Denver:20240622T140000
DTEND;TZID=America/Denver:20240622T153000
DTSTAMP:20260420T100904
CREATED:20240610T174307Z
LAST-MODIFIED:20240830T201203Z
UID:10006476-1719064800-1719070200@cccld.org
SUMMARY:Mountain Jams 2024
DESCRIPTION:Free\, live music every Saturday on Library Park Stage-corner of Sixth Street & Rose Street.
URL:https://cccld.org/event/mountain-jams-2024/2024-06-22/
LOCATION:John Tomay Memorial Library\, 605 6th Street\, Georgetown\, CO\, 80444\, United States
CATEGORIES:Adults,Community Events,Kids,Library Events,Teens
GEO:39.7061997;-105.6974142
X-APPLE-STRUCTURED-LOCATION;VALUE=URI;X-ADDRESS=John Tomay Memorial Library 605 6th Street Georgetown CO 80444 United States;X-APPLE-RADIUS=500;X-TITLE=605 6th Street:geo:-105.6974142,39.7061997
END:VEVENT
BEGIN:VEVENT
DTSTART;TZID=America/Denver:20240625T100000
DTEND;TZID=America/Denver:20240625T130000
DTSTAMP:20260420T100904
CREATED:20240610T165221Z
LAST-MODIFIED:20240610T165221Z
UID:10006461-1719309600-1719320400@cccld.org
SUMMARY:ISPL-Summer Reading
DESCRIPTION:Review complete reading groups & times at cccld.org/summer-reading-2024/\nJoin us on a summertime expedition into the wide world of stories\, crafts\, challenges\, and excursions. Connect with other Clear Creek learners\, and read your way to wonderful prizes! Like all Library District programs\, Summer Reading is 100% free.
URL:https://cccld.org/event/ispl-summer-reading-3/2024-06-25/
LOCATION:Idaho Springs Public Library\, 219 14th Avenue\, Idaho Springs\, CO\, 80452\, United States
CATEGORIES:Kids,Library Events,Summer Reading,Teens
GEO:39.742052;-105.5183552
X-APPLE-STRUCTURED-LOCATION;VALUE=URI;X-ADDRESS=Idaho Springs Public Library 219 14th Avenue Idaho Springs CO 80452 United States;X-APPLE-RADIUS=500;X-TITLE=219 14th Avenue:geo:-105.5183552,39.742052
END:VEVENT
BEGIN:VEVENT
DTSTART;TZID=America/Denver:20240626T130000
DTEND;TZID=America/Denver:20240626T150000
DTSTAMP:20260420T100904
CREATED:20240617T205709Z
LAST-MODIFIED:20240617T205709Z
UID:10006491-1719406800-1719414000@cccld.org
SUMMARY:JTML-Read with Mowgli
DESCRIPTION:Mowgli–handsome therapy dog–loves stories! Will you read to him at the John Tomay Memorial Library? Reading to animals is a great way for young learners to develop their reading skills! Please email holly@cccld.org to sign up to read to Mowgli!
URL:https://cccld.org/event/jtml-read-with-mowgli/
LOCATION:John Tomay Memorial Library\, 605 6th Street\, Georgetown\, CO\, 80444\, United States
CATEGORIES:Kids,Library Events,Teens
GEO:39.7061997;-105.6974142
X-APPLE-STRUCTURED-LOCATION;VALUE=URI;X-ADDRESS=John Tomay Memorial Library 605 6th Street Georgetown CO 80444 United States;X-APPLE-RADIUS=500;X-TITLE=605 6th Street:geo:-105.6974142,39.7061997
END:VEVENT
BEGIN:VEVENT
DTSTART;TZID=America/Denver:20240627T093000
DTEND;TZID=America/Denver:20240627T113000
DTSTAMP:20260420T100904
CREATED:20240610T170152Z
LAST-MODIFIED:20240610T170159Z
UID:10006464-1719480600-1719487800@cccld.org
SUMMARY:Summer Reading - Georgetown Loop Railroad
DESCRIPTION:All Aboard for Adventure! Meet at Georgetown Loop Railroad at 9:30 am. Hop aboard a storytime train with us! Train departs at 10 am and the ride lasts about 75 minutes. Space is limited and registration is required. To register\, please email holly@cccld.org
URL:https://cccld.org/event/summer-reading-georgetown-loop-railroad/
LOCATION:Georgetown Loop Railroad\, Loop Drive\, Georgetown\, CO\, 80444\, United States
CATEGORIES:Adults,Kids,Library Events,Teens
GEO:39.7011333;-105.7065658
X-APPLE-STRUCTURED-LOCATION;VALUE=URI;X-ADDRESS=Georgetown Loop Railroad Loop Drive Georgetown CO 80444 United States;X-APPLE-RADIUS=500;X-TITLE=Loop Drive:geo:-105.7065658,39.7011333
END:VEVENT
BEGIN:VEVENT
DTSTART;TZID=America/Denver:20240629T140000
DTEND;TZID=America/Denver:20240629T153000
DTSTAMP:20260420T100904
CREATED:20240610T174307Z
LAST-MODIFIED:20240830T201203Z
UID:10006477-1719669600-1719675000@cccld.org
SUMMARY:Mountain Jams 2024
DESCRIPTION:Free\, live music every Saturday on Library Park Stage-corner of Sixth Street & Rose Street.
URL:https://cccld.org/event/mountain-jams-2024/2024-06-29/
LOCATION:John Tomay Memorial Library\, 605 6th Street\, Georgetown\, CO\, 80444\, United States
CATEGORIES:Adults,Community Events,Kids,Library Events,Teens
GEO:39.7061997;-105.6974142
X-APPLE-STRUCTURED-LOCATION;VALUE=URI;X-ADDRESS=John Tomay Memorial Library 605 6th Street Georgetown CO 80444 United States;X-APPLE-RADIUS=500;X-TITLE=605 6th Street:geo:-105.6974142,39.7061997
END:VEVENT
END:VCALENDAR