BEGIN:VCALENDAR
VERSION:2.0
PRODID:-//Clear Creek County Library District - ECPv6.15.16//NONSGML v1.0//EN
CALSCALE:GREGORIAN
METHOD:PUBLISH
X-ORIGINAL-URL:https://cccld.org
X-WR-CALDESC:Events for Clear Creek County Library District
REFRESH-INTERVAL;VALUE=DURATION:PT1H
X-Robots-Tag:noindex
X-PUBLISHED-TTL:PT1H
BEGIN:VTIMEZONE
TZID:America/Denver
BEGIN:DAYLIGHT
TZOFFSETFROM:-0700
TZOFFSETTO:-0600
TZNAME:MDT
DTSTART:20230312T090000
END:DAYLIGHT
BEGIN:STANDARD
TZOFFSETFROM:-0600
TZOFFSETTO:-0700
TZNAME:MST
DTSTART:20231105T080000
END:STANDARD
BEGIN:DAYLIGHT
TZOFFSETFROM:-0700
TZOFFSETTO:-0600
TZNAME:MDT
DTSTART:20240310T090000
END:DAYLIGHT
BEGIN:STANDARD
TZOFFSETFROM:-0600
TZOFFSETTO:-0700
TZNAME:MST
DTSTART:20241103T080000
END:STANDARD
BEGIN:DAYLIGHT
TZOFFSETFROM:-0700
TZOFFSETTO:-0600
TZNAME:MDT
DTSTART:20250309T090000
END:DAYLIGHT
BEGIN:STANDARD
TZOFFSETFROM:-0600
TZOFFSETTO:-0700
TZNAME:MST
DTSTART:20251102T080000
END:STANDARD
END:VTIMEZONE
BEGIN:VEVENT
DTSTART;TZID=America/Denver:20240905T170000
DTEND;TZID=America/Denver:20240905T174500
DTSTAMP:20260420T040326
CREATED:20240904T154049Z
LAST-MODIFIED:20240904T154049Z
UID:10006546-1725555600-1725558300@cccld.org
SUMMARY:JTML-English with Jeannette
DESCRIPTION:Free English Lessons! All levels are welcome. For more information contact Jeannette @ 303-517-4896 or jpeterson@mtnminatures.com
URL:https://cccld.org/event/jtml-english-with-jeannette/2024-09-05/
LOCATION:John Tomay Memorial Library\, 605 6th Street\, Georgetown\, CO\, 80444\, United States
CATEGORIES:Adults,Kids,Library Events,Teens
GEO:39.7061997;-105.6974142
X-APPLE-STRUCTURED-LOCATION;VALUE=URI;X-ADDRESS=John Tomay Memorial Library 605 6th Street Georgetown CO 80444 United States;X-APPLE-RADIUS=500;X-TITLE=605 6th Street:geo:-105.6974142,39.7061997
END:VEVENT
BEGIN:VEVENT
DTSTART;TZID=America/Denver:20240906T100000
DTEND;TZID=America/Denver:20240906T113000
DTSTAMP:20260420T040326
CREATED:20240812T201546Z
LAST-MODIFIED:20240812T201546Z
UID:10006526-1725616800-1725622200@cccld.org
SUMMARY:Foster's Place - Parachute & Picinic Storytime
DESCRIPTION:Enjoy stories and games at our outdoor parachute & picnic storytimes in September!
URL:https://cccld.org/event/fosters-place-parachute-picinic-storytime/
LOCATION:Foster’s Place Playground\, Rose Street\, Georgetown\, CO\, 80444\, United States
CATEGORIES:Kids,Library Events
GEO:39.7046123;-105.6974721
X-APPLE-STRUCTURED-LOCATION;VALUE=URI;X-ADDRESS=Foster’s Place Playground Rose Street Georgetown CO 80444 United States;X-APPLE-RADIUS=500;X-TITLE=Rose Street:geo:-105.6974721,39.7046123
END:VEVENT
BEGIN:VEVENT
DTSTART;TZID=America/Denver:20240907T140000
DTEND;TZID=America/Denver:20240907T153000
DTSTAMP:20260420T040326
CREATED:20240610T174307Z
LAST-MODIFIED:20240830T201203Z
UID:10006487-1725717600-1725723000@cccld.org
SUMMARY:Mountain Jams 2024
DESCRIPTION:Free\, live music every Saturday on Library Park Stage-corner of Sixth Street & Rose Street.
URL:https://cccld.org/event/mountain-jams-2024/2024-09-07/
LOCATION:John Tomay Memorial Library\, 605 6th Street\, Georgetown\, CO\, 80444\, United States
CATEGORIES:Adults,Community Events,Kids,Library Events,Teens
GEO:39.7061997;-105.6974142
X-APPLE-STRUCTURED-LOCATION;VALUE=URI;X-ADDRESS=John Tomay Memorial Library 605 6th Street Georgetown CO 80444 United States;X-APPLE-RADIUS=500;X-TITLE=605 6th Street:geo:-105.6974142,39.7061997
END:VEVENT
BEGIN:VEVENT
DTSTART;TZID=America/Denver:20240912T170000
DTEND;TZID=America/Denver:20240912T174500
DTSTAMP:20260420T040326
CREATED:20240904T154049Z
LAST-MODIFIED:20240904T154049Z
UID:10006547-1726160400-1726163100@cccld.org
SUMMARY:JTML-English with Jeannette
DESCRIPTION:Free English Lessons! All levels are welcome. For more information contact Jeannette @ 303-517-4896 or jpeterson@mtnminatures.com
URL:https://cccld.org/event/jtml-english-with-jeannette/2024-09-12/
LOCATION:John Tomay Memorial Library\, 605 6th Street\, Georgetown\, CO\, 80444\, United States
CATEGORIES:Adults,Kids,Library Events,Teens
GEO:39.7061997;-105.6974142
X-APPLE-STRUCTURED-LOCATION;VALUE=URI;X-ADDRESS=John Tomay Memorial Library 605 6th Street Georgetown CO 80444 United States;X-APPLE-RADIUS=500;X-TITLE=605 6th Street:geo:-105.6974142,39.7061997
END:VEVENT
BEGIN:VEVENT
DTSTART;TZID=America/Denver:20240913T100000
DTEND;TZID=America/Denver:20240913T110000
DTSTAMP:20260420T040326
CREATED:20240821T173609Z
LAST-MODIFIED:20240821T174113Z
UID:10006538-1726221600-1726225200@cccld.org
SUMMARY:ISPL Stories & Sunshine
DESCRIPTION:Join us for outdoor storytime at the Idaho Springs Public Library.
URL:https://cccld.org/event/stories-sunshine-3-2/2024-09-13/
LOCATION:Idaho Springs Public Library\, 219 14th Avenue\, Idaho Springs\, CO\, 80452\, United States
CATEGORIES:Kids,Library Events
GEO:39.742052;-105.5183552
X-APPLE-STRUCTURED-LOCATION;VALUE=URI;X-ADDRESS=Idaho Springs Public Library 219 14th Avenue Idaho Springs CO 80452 United States;X-APPLE-RADIUS=500;X-TITLE=219 14th Avenue:geo:-105.5183552,39.742052
END:VEVENT
BEGIN:VEVENT
DTSTART;TZID=America/Denver:20240913T140000
DTEND;TZID=America/Denver:20240913T150000
DTSTAMP:20260420T040326
CREATED:20240830T201930Z
LAST-MODIFIED:20240830T201930Z
UID:10006544-1726236000-1726239600@cccld.org
SUMMARY:ISPL-Crafternoon
DESCRIPTION:Crafternoon Good Luck Stones – Bring your creativity – we’ll provide the supplies!
URL:https://cccld.org/event/ispl-crafternoon-3/
LOCATION:Idaho Springs Public Library\, 219 14th Avenue\, Idaho Springs\, CO\, 80452\, United States
CATEGORIES:Kids,Library Events,Teens
GEO:39.742052;-105.5183552
X-APPLE-STRUCTURED-LOCATION;VALUE=URI;X-ADDRESS=Idaho Springs Public Library 219 14th Avenue Idaho Springs CO 80452 United States;X-APPLE-RADIUS=500;X-TITLE=219 14th Avenue:geo:-105.5183552,39.742052
END:VEVENT
BEGIN:VEVENT
DTSTART;TZID=America/Denver:20240913T140000
DTEND;TZID=America/Denver:20240913T160000
DTSTAMP:20260420T040326
CREATED:20240808T155226Z
LAST-MODIFIED:20260120T201242Z
UID:10006536-1726236000-1726243200@cccld.org
SUMMARY:JTML-Virtual Reality
DESCRIPTION:Explore new worlds and great games at our virtual reality sessions for tweens and teens (ages 12 years and older). Registration is required. Please email heather@cccld.org to learn more and save your spot.
URL:https://cccld.org/event/jtml-virtual-reality-7-2/2024-09-13/
LOCATION:John Tomay Memorial Library\, 605 6th Street\, Georgetown\, CO\, 80444\, United States
CATEGORIES:Kids,Library Events,Teens
GEO:39.7061997;-105.6974142
X-APPLE-STRUCTURED-LOCATION;VALUE=URI;X-ADDRESS=John Tomay Memorial Library 605 6th Street Georgetown CO 80444 United States;X-APPLE-RADIUS=500;X-TITLE=605 6th Street:geo:-105.6974142,39.7061997
END:VEVENT
BEGIN:VEVENT
DTSTART;TZID=America/Denver:20240914T140000
DTEND;TZID=America/Denver:20240914T153000
DTSTAMP:20260420T040326
CREATED:20240610T174307Z
LAST-MODIFIED:20240830T201203Z
UID:10006488-1726322400-1726327800@cccld.org
SUMMARY:Mountain Jams 2024
DESCRIPTION:Free\, live music every Saturday on Library Park Stage-corner of Sixth Street & Rose Street.
URL:https://cccld.org/event/mountain-jams-2024/2024-09-14/
LOCATION:John Tomay Memorial Library\, 605 6th Street\, Georgetown\, CO\, 80444\, United States
CATEGORIES:Adults,Community Events,Kids,Library Events,Teens
GEO:39.7061997;-105.6974142
X-APPLE-STRUCTURED-LOCATION;VALUE=URI;X-ADDRESS=John Tomay Memorial Library 605 6th Street Georgetown CO 80444 United States;X-APPLE-RADIUS=500;X-TITLE=605 6th Street:geo:-105.6974142,39.7061997
END:VEVENT
BEGIN:VEVENT
DTSTART;TZID=America/Denver:20240919T170000
DTEND;TZID=America/Denver:20240919T174500
DTSTAMP:20260420T040326
CREATED:20240904T154049Z
LAST-MODIFIED:20240904T154049Z
UID:10006548-1726765200-1726767900@cccld.org
SUMMARY:JTML-English with Jeannette
DESCRIPTION:Free English Lessons! All levels are welcome. For more information contact Jeannette @ 303-517-4896 or jpeterson@mtnminatures.com
URL:https://cccld.org/event/jtml-english-with-jeannette/2024-09-19/
LOCATION:John Tomay Memorial Library\, 605 6th Street\, Georgetown\, CO\, 80444\, United States
CATEGORIES:Adults,Kids,Library Events,Teens
GEO:39.7061997;-105.6974142
X-APPLE-STRUCTURED-LOCATION;VALUE=URI;X-ADDRESS=John Tomay Memorial Library 605 6th Street Georgetown CO 80444 United States;X-APPLE-RADIUS=500;X-TITLE=605 6th Street:geo:-105.6974142,39.7061997
END:VEVENT
BEGIN:VEVENT
DTSTART;TZID=America/Denver:20240920T100000
DTEND;TZID=America/Denver:20240920T110000
DTSTAMP:20260420T040326
CREATED:20240821T173809Z
LAST-MODIFIED:20240821T174325Z
UID:10006539-1726826400-1726830000@cccld.org
SUMMARY:JTML Stories & Sunshine
DESCRIPTION:Join us for outdoor storytime at the John Tomay Memorial Library.
URL:https://cccld.org/event/jtml-stories-sunshine-2/2024-09-20/
LOCATION:John Tomay Memorial Library\, 605 6th Street\, Georgetown\, CO\, 80444\, United States
CATEGORIES:Kids,Library Events
GEO:39.7061997;-105.6974142
X-APPLE-STRUCTURED-LOCATION;VALUE=URI;X-ADDRESS=John Tomay Memorial Library 605 6th Street Georgetown CO 80444 United States;X-APPLE-RADIUS=500;X-TITLE=605 6th Street:geo:-105.6974142,39.7061997
END:VEVENT
BEGIN:VEVENT
DTSTART;TZID=America/Denver:20240920T130000
DTEND;TZID=America/Denver:20240920T140000
DTSTAMP:20260420T040326
CREATED:20240830T202121Z
LAST-MODIFIED:20240830T202758Z
UID:10006545-1726837200-1726840800@cccld.org
SUMMARY:JTML-Crafternoon
DESCRIPTION:Crafternoon Autumn Leaf Spray Paining – Bring your creativity – we’ll provide the supplies! Children under the age of 8 need an adult with them at the library.
URL:https://cccld.org/event/jtml-crafternoon-3/
LOCATION:John Tomay Memorial Library\, 605 6th Street\, Georgetown\, CO\, 80444\, United States
CATEGORIES:Kids,Library Events,Teens
GEO:39.7061997;-105.6974142
X-APPLE-STRUCTURED-LOCATION;VALUE=URI;X-ADDRESS=John Tomay Memorial Library 605 6th Street Georgetown CO 80444 United States;X-APPLE-RADIUS=500;X-TITLE=605 6th Street:geo:-105.6974142,39.7061997
END:VEVENT
BEGIN:VEVENT
DTSTART;TZID=America/Denver:20240920T140000
DTEND;TZID=America/Denver:20240920T160000
DTSTAMP:20260420T040326
CREATED:20231129T165752Z
LAST-MODIFIED:20250811T210129Z
UID:10006537-1726840800-1726848000@cccld.org
SUMMARY:ISPL-Virtual Reality
DESCRIPTION:Explore new worlds and great games at our virtual reality sessions for tweens and teens (ages 12 years and older). Registration is required. Please email heather@cccld.org to learn more and save your spot.
URL:https://cccld.org/event/ispl-virtual-reality-7/2024-09-20/
LOCATION:CO
CATEGORIES:Kids,Library Events,Teens
END:VEVENT
BEGIN:VEVENT
DTSTART;TZID=America/Denver:20240926T090000
DTEND;TZID=America/Denver:20240926T170000
DTSTAMP:20260420T040326
CREATED:20240802T163231Z
LAST-MODIFIED:20240802T163726Z
UID:10006504-1727341200-1727370000@cccld.org
SUMMARY:JTML Centennial Celebration
DESCRIPTION:September brings our Centennial Celebration for John Tomay Memorial Library! Please join us on Thursday\, September 26\, to honor this once-in-a-lifetime event. More details to come.
URL:https://cccld.org/event/jtml-centennial-celebration/
LOCATION:John Tomay Memorial Library\, 605 6th Street\, Georgetown\, CO\, 80444\, United States
CATEGORIES:Adults,Community Events,Kids,Library Events,Teens
GEO:39.7061997;-105.6974142
X-APPLE-STRUCTURED-LOCATION;VALUE=URI;X-ADDRESS=John Tomay Memorial Library 605 6th Street Georgetown CO 80444 United States;X-APPLE-RADIUS=500;X-TITLE=605 6th Street:geo:-105.6974142,39.7061997
END:VEVENT
BEGIN:VEVENT
DTSTART;TZID=America/Denver:20240927T100000
DTEND;TZID=America/Denver:20240927T233000
DTSTAMP:20260420T040326
CREATED:20240812T201644Z
LAST-MODIFIED:20240812T201644Z
UID:10006527-1727431200-1727479800@cccld.org
SUMMARY:ISPL-Parachute & Picnic Storytime
DESCRIPTION:Enjoy stories and games at our outdoor parachute & picnic storytimes in September!
URL:https://cccld.org/event/ispl-parachute-picnic-storytime/
LOCATION:CO
CATEGORIES:Kids,Library Events
END:VEVENT
BEGIN:VEVENT
DTSTART;TZID=America/Denver:20240930T153000
DTEND;TZID=America/Denver:20240930T163000
DTSTAMP:20260420T040326
CREATED:20240927T212512Z
LAST-MODIFIED:20240927T212512Z
UID:10006554-1727710200-1727713800@cccld.org
SUMMARY:Stories & Sundaes
DESCRIPTION:Celebrate John Tomay Memorial Library’s 100th Birthday with a special storytime and sundaes!!!
URL:https://cccld.org/event/stories-sundaes/
LOCATION:John Tomay Memorial Library\, 605 6th Street\, Georgetown\, CO\, 80444\, United States
CATEGORIES:Adults,Kids,Library Events,Teens
GEO:39.7061997;-105.6974142
X-APPLE-STRUCTURED-LOCATION;VALUE=URI;X-ADDRESS=John Tomay Memorial Library 605 6th Street Georgetown CO 80444 United States;X-APPLE-RADIUS=500;X-TITLE=605 6th Street:geo:-105.6974142,39.7061997
END:VEVENT
END:VCALENDAR