BEGIN:VCALENDAR
VERSION:2.0
PRODID:-//Clear Creek County Library District - ECPv6.15.16//NONSGML v1.0//EN
CALSCALE:GREGORIAN
METHOD:PUBLISH
X-WR-CALNAME:Clear Creek County Library District
X-ORIGINAL-URL:https://cccld.org
X-WR-CALDESC:Events for Clear Creek County Library District
REFRESH-INTERVAL;VALUE=DURATION:PT1H
X-Robots-Tag:noindex
X-PUBLISHED-TTL:PT1H
BEGIN:VTIMEZONE
TZID:America/Denver
BEGIN:DAYLIGHT
TZOFFSETFROM:-0700
TZOFFSETTO:-0600
TZNAME:MDT
DTSTART:20230312T090000
END:DAYLIGHT
BEGIN:STANDARD
TZOFFSETFROM:-0600
TZOFFSETTO:-0700
TZNAME:MST
DTSTART:20231105T080000
END:STANDARD
BEGIN:DAYLIGHT
TZOFFSETFROM:-0700
TZOFFSETTO:-0600
TZNAME:MDT
DTSTART:20240310T090000
END:DAYLIGHT
BEGIN:STANDARD
TZOFFSETFROM:-0600
TZOFFSETTO:-0700
TZNAME:MST
DTSTART:20241103T080000
END:STANDARD
BEGIN:DAYLIGHT
TZOFFSETFROM:-0700
TZOFFSETTO:-0600
TZNAME:MDT
DTSTART:20250309T090000
END:DAYLIGHT
BEGIN:STANDARD
TZOFFSETFROM:-0600
TZOFFSETTO:-0700
TZNAME:MST
DTSTART:20251102T080000
END:STANDARD
END:VTIMEZONE
BEGIN:VEVENT
DTSTART;TZID=America/Denver:20240627T093000
DTEND;TZID=America/Denver:20240627T113000
DTSTAMP:20260420T125441
CREATED:20240610T170152Z
LAST-MODIFIED:20240610T170159Z
UID:10006464-1719480600-1719487800@cccld.org
SUMMARY:Summer Reading - Georgetown Loop Railroad
DESCRIPTION:All Aboard for Adventure! Meet at Georgetown Loop Railroad at 9:30 am. Hop aboard a storytime train with us! Train departs at 10 am and the ride lasts about 75 minutes. Space is limited and registration is required. To register\, please email holly@cccld.org
URL:https://cccld.org/event/summer-reading-georgetown-loop-railroad/
LOCATION:Georgetown Loop Railroad\, Loop Drive\, Georgetown\, CO\, 80444\, United States
CATEGORIES:Adults,Kids,Library Events,Teens
GEO:39.7011333;-105.7065658
X-APPLE-STRUCTURED-LOCATION;VALUE=URI;X-ADDRESS=Georgetown Loop Railroad Loop Drive Georgetown CO 80444 United States;X-APPLE-RADIUS=500;X-TITLE=Loop Drive:geo:-105.7065658,39.7011333
END:VEVENT
END:VCALENDAR