BEGIN:VCALENDAR
VERSION:2.0
PRODID:-//Clear Creek County Library District - ECPv6.15.16//NONSGML v1.0//EN
CALSCALE:GREGORIAN
METHOD:PUBLISH
X-WR-CALNAME:Clear Creek County Library District
X-ORIGINAL-URL:https://cccld.org
X-WR-CALDESC:Events for Clear Creek County Library District
REFRESH-INTERVAL;VALUE=DURATION:PT1H
X-Robots-Tag:noindex
X-PUBLISHED-TTL:PT1H
BEGIN:VTIMEZONE
TZID:America/Denver
BEGIN:DAYLIGHT
TZOFFSETFROM:-0700
TZOFFSETTO:-0600
TZNAME:MDT
DTSTART:20230312T090000
END:DAYLIGHT
BEGIN:STANDARD
TZOFFSETFROM:-0600
TZOFFSETTO:-0700
TZNAME:MST
DTSTART:20231105T080000
END:STANDARD
BEGIN:DAYLIGHT
TZOFFSETFROM:-0700
TZOFFSETTO:-0600
TZNAME:MDT
DTSTART:20240310T090000
END:DAYLIGHT
BEGIN:STANDARD
TZOFFSETFROM:-0600
TZOFFSETTO:-0700
TZNAME:MST
DTSTART:20241103T080000
END:STANDARD
BEGIN:DAYLIGHT
TZOFFSETFROM:-0700
TZOFFSETTO:-0600
TZNAME:MDT
DTSTART:20250309T090000
END:DAYLIGHT
BEGIN:STANDARD
TZOFFSETFROM:-0600
TZOFFSETTO:-0700
TZNAME:MST
DTSTART:20251102T080000
END:STANDARD
END:VTIMEZONE
BEGIN:VEVENT
DTSTART;TZID=America/Denver:20240809T100000
DTEND;TZID=America/Denver:20240809T233000
DTSTAMP:20260420T085031
CREATED:20240802T162818Z
LAST-MODIFIED:20240821T172458Z
UID:10006502-1723197600-1723246200@cccld.org
SUMMARY:Stories & Swimming
DESCRIPTION:Splash into storytime with us! Registration is required. To learn more and sign up\, please email holly@cccld.org. Many thanks to Clear Creek Recreation Center for welcoming storytime into their swimming pool!
URL:https://cccld.org/event/stories-swimming/
LOCATION:Clear Creek Metropolitan Recreation District\, 98 12th Avenue\, Idaho Springs\, CO\, 80452\, United States
CATEGORIES:Kids,Library Events
GEO:39.7419098;-105.5208484
X-APPLE-STRUCTURED-LOCATION;VALUE=URI;X-ADDRESS=Clear Creek Metropolitan Recreation District 98 12th Avenue Idaho Springs CO 80452 United States;X-APPLE-RADIUS=500;X-TITLE=98 12th Avenue:geo:-105.5208484,39.7419098
END:VEVENT
END:VCALENDAR