BEGIN:VCALENDAR
VERSION:2.0
PRODID:-//Clear Creek County Library District - ECPv6.15.16//NONSGML v1.0//EN
CALSCALE:GREGORIAN
METHOD:PUBLISH
X-ORIGINAL-URL:https://cccld.org
X-WR-CALDESC:Events for Clear Creek County Library District
REFRESH-INTERVAL;VALUE=DURATION:PT1H
X-Robots-Tag:noindex
X-PUBLISHED-TTL:PT1H
BEGIN:VTIMEZONE
TZID:America/Denver
BEGIN:DAYLIGHT
TZOFFSETFROM:-0700
TZOFFSETTO:-0600
TZNAME:MDT
DTSTART:20240310T090000
END:DAYLIGHT
BEGIN:STANDARD
TZOFFSETFROM:-0600
TZOFFSETTO:-0700
TZNAME:MST
DTSTART:20241103T080000
END:STANDARD
BEGIN:DAYLIGHT
TZOFFSETFROM:-0700
TZOFFSETTO:-0600
TZNAME:MDT
DTSTART:20250309T090000
END:DAYLIGHT
BEGIN:STANDARD
TZOFFSETFROM:-0600
TZOFFSETTO:-0700
TZNAME:MST
DTSTART:20251102T080000
END:STANDARD
BEGIN:DAYLIGHT
TZOFFSETFROM:-0700
TZOFFSETTO:-0600
TZNAME:MDT
DTSTART:20260308T090000
END:DAYLIGHT
BEGIN:STANDARD
TZOFFSETFROM:-0600
TZOFFSETTO:-0700
TZNAME:MST
DTSTART:20261101T080000
END:STANDARD
END:VTIMEZONE
BEGIN:VEVENT
DTSTART;TZID=America/Denver:20250912T100000
DTEND;TZID=America/Denver:20250912T113000
DTSTAMP:20260419T120104
CREATED:20250829T213000Z
LAST-MODIFIED:20250829T213000Z
UID:10006804-1757671200-1757676600@cccld.org
SUMMARY:ISPL-Birthday Bunnypalooza
DESCRIPTION:Celebrate Miss Honeybun’s birthday with us! Meet special guests Lilou the bunny and Lilac the duck!
URL:https://cccld.org/event/ispl-birthday-bunnypalooza/
LOCATION:Idaho Springs Public Library\, 219 14th Avenue\, Idaho Springs\, CO\, 80452\, United States
CATEGORIES:Kids,Library Events
GEO:39.742052;-105.5183552
X-APPLE-STRUCTURED-LOCATION;VALUE=URI;X-ADDRESS=Idaho Springs Public Library 219 14th Avenue Idaho Springs CO 80452 United States;X-APPLE-RADIUS=500;X-TITLE=219 14th Avenue:geo:-105.5183552,39.742052
END:VEVENT
BEGIN:VEVENT
DTSTART;TZID=America/Denver:20250912T140000
DTEND;TZID=America/Denver:20250912T160000
DTSTAMP:20260419T120104
CREATED:20231129T165752Z
LAST-MODIFIED:20250811T210129Z
UID:10006799-1757685600-1757692800@cccld.org
SUMMARY:ISPL-Virtual Reality
DESCRIPTION:Explore new worlds and great games at our virtual reality sessions for tweens and teens (ages 12 years and older). Registration is required. Please email heather@cccld.org to learn more and save your spot.
URL:https://cccld.org/event/ispl-virtual-reality-7/2025-09-12/
LOCATION:CO
CATEGORIES:Kids,Library Events,Teens
END:VEVENT
END:VCALENDAR