BEGIN:VCALENDAR
VERSION:2.0
PRODID:-//Clear Creek County Library District - ECPv6.15.16//NONSGML v1.0//EN
CALSCALE:GREGORIAN
METHOD:PUBLISH
X-WR-CALNAME:Clear Creek County Library District
X-ORIGINAL-URL:https://cccld.org
X-WR-CALDESC:Events for Clear Creek County Library District
REFRESH-INTERVAL;VALUE=DURATION:PT1H
X-Robots-Tag:noindex
X-PUBLISHED-TTL:PT1H
BEGIN:VTIMEZONE
TZID:America/Denver
BEGIN:DAYLIGHT
TZOFFSETFROM:-0700
TZOFFSETTO:-0600
TZNAME:MDT
DTSTART:20230312T090000
END:DAYLIGHT
BEGIN:STANDARD
TZOFFSETFROM:-0600
TZOFFSETTO:-0700
TZNAME:MST
DTSTART:20231105T080000
END:STANDARD
BEGIN:DAYLIGHT
TZOFFSETFROM:-0700
TZOFFSETTO:-0600
TZNAME:MDT
DTSTART:20240310T090000
END:DAYLIGHT
BEGIN:STANDARD
TZOFFSETFROM:-0600
TZOFFSETTO:-0700
TZNAME:MST
DTSTART:20241103T080000
END:STANDARD
BEGIN:DAYLIGHT
TZOFFSETFROM:-0700
TZOFFSETTO:-0600
TZNAME:MDT
DTSTART:20250309T090000
END:DAYLIGHT
BEGIN:STANDARD
TZOFFSETFROM:-0600
TZOFFSETTO:-0700
TZNAME:MST
DTSTART:20251102T080000
END:STANDARD
BEGIN:DAYLIGHT
TZOFFSETFROM:-0700
TZOFFSETTO:-0600
TZNAME:MDT
DTSTART:20260308T090000
END:DAYLIGHT
BEGIN:STANDARD
TZOFFSETFROM:-0600
TZOFFSETTO:-0700
TZNAME:MST
DTSTART:20261101T080000
END:STANDARD
END:VTIMEZONE
BEGIN:VEVENT
DTSTART;TZID=America/Denver:20250124T100000
DTEND;TZID=America/Denver:20250124T110000
DTSTAMP:20260421T093559
CREATED:20241218T171256Z
LAST-MODIFIED:20241218T171256Z
UID:10006604-1737712800-1737716400@cccld.org
SUMMARY:ISPL - Snow Animal Storytime
DESCRIPTION:Cozy up with polar bears and penguins at this snowy storytime.
URL:https://cccld.org/event/ispl-snow-animal-storytime/
LOCATION:Idaho Springs Public Library\, 219 14th Avenue\, Idaho Springs\, CO\, 80452\, United States
CATEGORIES:Kids,Library Events
GEO:39.742052;-105.5183552
X-APPLE-STRUCTURED-LOCATION;VALUE=URI;X-ADDRESS=Idaho Springs Public Library 219 14th Avenue Idaho Springs CO 80452 United States;X-APPLE-RADIUS=500;X-TITLE=219 14th Avenue:geo:-105.5183552,39.742052
END:VEVENT
BEGIN:VEVENT
DTSTART;TZID=America/Denver:20250117T100000
DTEND;TZID=America/Denver:20250117T110000
DTSTAMP:20260421T093559
CREATED:20241218T171129Z
LAST-MODIFIED:20241218T171129Z
UID:10006603-1737108000-1737111600@cccld.org
SUMMARY:JTML - Music & Movement Storytime
DESCRIPTION:Sing\, dance\, and play with instruments!
URL:https://cccld.org/event/jtml-music-movement-storytime-2/
LOCATION:John Tomay Memorial Library\, 605 6th Street\, Georgetown\, CO\, 80444\, United States
CATEGORIES:Kids,Library Events
GEO:39.7061997;-105.6974142
X-APPLE-STRUCTURED-LOCATION;VALUE=URI;X-ADDRESS=John Tomay Memorial Library 605 6th Street Georgetown CO 80444 United States;X-APPLE-RADIUS=500;X-TITLE=605 6th Street:geo:-105.6974142,39.7061997
END:VEVENT
BEGIN:VEVENT
DTSTART;TZID=America/Denver:20250114T153000
DTEND;TZID=America/Denver:20250114T163000
DTSTAMP:20260421T093559
CREATED:20241218T171820Z
LAST-MODIFIED:20241218T171820Z
UID:10006607-1736868600-1736872200@cccld.org
SUMMARY:ISPL - Marshmallow STEM Lab
DESCRIPTION:
URL:https://cccld.org/event/ispl-marshmallow-stem-lab/
LOCATION:Idaho Springs Public Library\, 219 14th Avenue\, Idaho Springs\, CO\, 80452\, United States
CATEGORIES:Kids,Library Events,Teens
GEO:39.742052;-105.5183552
X-APPLE-STRUCTURED-LOCATION;VALUE=URI;X-ADDRESS=Idaho Springs Public Library 219 14th Avenue Idaho Springs CO 80452 United States;X-APPLE-RADIUS=500;X-TITLE=219 14th Avenue:geo:-105.5183552,39.742052
END:VEVENT
BEGIN:VEVENT
DTSTART;TZID=America/Denver:20250110T100000
DTEND;TZID=America/Denver:20250110T110000
DTSTAMP:20260421T093559
CREATED:20241218T171023Z
LAST-MODIFIED:20241218T171023Z
UID:10006602-1736503200-1736506800@cccld.org
SUMMARY:ISPL - Cookies & Cocoa Storytime
DESCRIPTION:Join us for a scrumptious storytime!
URL:https://cccld.org/event/ispl-cookies-cocoa-storytime/
LOCATION:Idaho Springs Public Library\, 219 14th Avenue\, Idaho Springs\, CO\, 80452\, United States
CATEGORIES:Kids,Library Events
GEO:39.742052;-105.5183552
X-APPLE-STRUCTURED-LOCATION;VALUE=URI;X-ADDRESS=Idaho Springs Public Library 219 14th Avenue Idaho Springs CO 80452 United States;X-APPLE-RADIUS=500;X-TITLE=219 14th Avenue:geo:-105.5183552,39.742052
END:VEVENT
BEGIN:VEVENT
DTSTART;TZID=America/Denver:20250103T100000
DTEND;TZID=America/Denver:20250103T110000
DTSTAMP:20260421T093559
CREATED:20241218T170852Z
LAST-MODIFIED:20241218T170852Z
UID:10006601-1735898400-1735902000@cccld.org
SUMMARY:JTML - Snowy Storytime
DESCRIPTION:You’ll have SNOW MUCH fun with snowy stories and activities.
URL:https://cccld.org/event/jtml-snowy-storytime/
LOCATION:John Tomay Memorial Library\, 605 6th Street\, Georgetown\, CO\, 80444\, United States
CATEGORIES:Kids,Library Events
GEO:39.7061997;-105.6974142
X-APPLE-STRUCTURED-LOCATION;VALUE=URI;X-ADDRESS=John Tomay Memorial Library 605 6th Street Georgetown CO 80444 United States;X-APPLE-RADIUS=500;X-TITLE=605 6th Street:geo:-105.6974142,39.7061997
END:VEVENT
BEGIN:VEVENT
DTSTART;TZID=America/Denver:20250102T100000
DTEND;TZID=America/Denver:20250102T110000
DTSTAMP:20260421T093559
CREATED:20241218T171709Z
LAST-MODIFIED:20241218T171709Z
UID:10006606-1735812000-1735815600@cccld.org
SUMMARY:JTML - Marshmallow STEM Lab
DESCRIPTION:
URL:https://cccld.org/event/jtml-marshmallow-stem-lab/
LOCATION:John Tomay Memorial Library\, 605 6th Street\, Georgetown\, CO\, 80444\, United States
CATEGORIES:Kids,Library Events,Teens
GEO:39.7061997;-105.6974142
X-APPLE-STRUCTURED-LOCATION;VALUE=URI;X-ADDRESS=John Tomay Memorial Library 605 6th Street Georgetown CO 80444 United States;X-APPLE-RADIUS=500;X-TITLE=605 6th Street:geo:-105.6974142,39.7061997
END:VEVENT
BEGIN:VEVENT
DTSTART;TZID=America/Denver:20241227T100000
DTEND;TZID=America/Denver:20241227T110000
DTSTAMP:20260421T093559
CREATED:20241122T180603Z
LAST-MODIFIED:20241122T180718Z
UID:10006581-1735293600-1735297200@cccld.org
SUMMARY:ISPL - Dreidel\, Dreidel Storytime
DESCRIPTION:Hop into Hanukkah with Miss Honeybun!
URL:https://cccld.org/event/ispl-dreidel-dreidel-storytime/
LOCATION:Idaho Springs Public Library\, 219 14th Avenue\, Idaho Springs\, CO\, 80452\, United States
CATEGORIES:Kids,Library Events
GEO:39.742052;-105.5183552
X-APPLE-STRUCTURED-LOCATION;VALUE=URI;X-ADDRESS=Idaho Springs Public Library 219 14th Avenue Idaho Springs CO 80452 United States;X-APPLE-RADIUS=500;X-TITLE=219 14th Avenue:geo:-105.5183552,39.742052
END:VEVENT
BEGIN:VEVENT
DTSTART;TZID=America/Denver:20241220T140000
DTEND;TZID=America/Denver:20241220T160000
DTSTAMP:20260421T093559
CREATED:20240808T155226Z
LAST-MODIFIED:20260120T201242Z
UID:10006535-1734703200-1734710400@cccld.org
SUMMARY:JTML-Virtual Reality
DESCRIPTION:Explore new worlds and great games at our virtual reality sessions for tweens and teens (ages 12 years and older). Registration is required. Please email heather@cccld.org to learn more and save your spot.
URL:https://cccld.org/event/jtml-virtual-reality-7-2/2024-12-20/
LOCATION:John Tomay Memorial Library\, 605 6th Street\, Georgetown\, CO\, 80444\, United States
CATEGORIES:Kids,Library Events,Teens
GEO:39.7061997;-105.6974142
X-APPLE-STRUCTURED-LOCATION;VALUE=URI;X-ADDRESS=John Tomay Memorial Library 605 6th Street Georgetown CO 80444 United States;X-APPLE-RADIUS=500;X-TITLE=605 6th Street:geo:-105.6974142,39.7061997
END:VEVENT
BEGIN:VEVENT
DTSTART;TZID=America/Denver:20241220T100000
DTEND;TZID=America/Denver:20241220T110000
DTSTAMP:20260421T093559
CREATED:20241122T180107Z
LAST-MODIFIED:20241122T180107Z
UID:10006580-1734688800-1734692400@cccld.org
SUMMARY:JTML - Solstice Storytime
DESCRIPTION:Join Miss Honeybun for a storytime celebration of the solstice!
URL:https://cccld.org/event/jtml-solstice-storytime/
LOCATION:CO
CATEGORIES:Kids,Library Events
END:VEVENT
BEGIN:VEVENT
DTSTART;TZID=America/Denver:20241219T153000
DTEND;TZID=America/Denver:20241219T170000
DTSTAMP:20260421T093559
CREATED:20241202T181753Z
LAST-MODIFIED:20241202T181753Z
UID:10006585-1734622200-1734627600@cccld.org
SUMMARY:JTML - Coca & Board Games
DESCRIPTION:Join us for cozy games afternoon for kids.
URL:https://cccld.org/event/jtml-coca-board-games/
LOCATION:John Tomay Memorial Library\, 605 6th Street\, Georgetown\, CO\, 80444\, United States
CATEGORIES:Kids,Library Events
GEO:39.7061997;-105.6974142
X-APPLE-STRUCTURED-LOCATION;VALUE=URI;X-ADDRESS=John Tomay Memorial Library 605 6th Street Georgetown CO 80444 United States;X-APPLE-RADIUS=500;X-TITLE=605 6th Street:geo:-105.6974142,39.7061997
END:VEVENT
BEGIN:VEVENT
DTSTART;TZID=America/Denver:20241215T100000
DTEND;TZID=America/Denver:20241215T160000
DTSTAMP:20260421T093559
CREATED:20241202T183234Z
LAST-MODIFIED:20241202T183234Z
UID:10006589-1734256800-1734278400@cccld.org
SUMMARY:JTML Friends Book Sale
DESCRIPTION:Support the Friends of the Georgetown Library and stop by their annual book sale during the Georgetown Christmas Market.
URL:https://cccld.org/event/jtml-friends-book-sale-7/2024-12-15/
LOCATION:CO
CATEGORIES:Adults,Kids,Library Events,Teens
END:VEVENT
BEGIN:VEVENT
DTSTART;TZID=America/Denver:20241215T090000
DTEND;TZID=America/Denver:20241215T140000
DTSTAMP:20260421T093559
CREATED:20240812T200248Z
LAST-MODIFIED:20240812T200248Z
UID:10006525-1734253200-1734271200@cccld.org
SUMMARY:JTML-Winter Craft Workshops - Georgetown Christmas Market
DESCRIPTION:All kids are welcome at the John Tomay Memorial Library for creative crafts and fun during the Georgetown Christmas Market.
URL:https://cccld.org/event/jtml-winter-craft-workshops-georgetown-christmas-market/2024-12-15/
LOCATION:John Tomay Memorial Library\, 605 6th Street\, Georgetown\, CO\, 80444\, United States
CATEGORIES:Kids,Library Events
GEO:39.7061997;-105.6974142
X-APPLE-STRUCTURED-LOCATION;VALUE=URI;X-ADDRESS=John Tomay Memorial Library 605 6th Street Georgetown CO 80444 United States;X-APPLE-RADIUS=500;X-TITLE=605 6th Street:geo:-105.6974142,39.7061997
END:VEVENT
BEGIN:VEVENT
DTSTART;TZID=America/Denver:20241214T100000
DTEND;TZID=America/Denver:20241214T160000
DTSTAMP:20260421T093559
CREATED:20241202T183234Z
LAST-MODIFIED:20241202T183234Z
UID:10006588-1734170400-1734192000@cccld.org
SUMMARY:JTML Friends Book Sale
DESCRIPTION:Support the Friends of the Georgetown Library and stop by their annual book sale during the Georgetown Christmas Market.
URL:https://cccld.org/event/jtml-friends-book-sale-7/2024-12-14/
LOCATION:CO
CATEGORIES:Adults,Kids,Library Events,Teens
END:VEVENT
BEGIN:VEVENT
DTSTART;TZID=America/Denver:20241214T090000
DTEND;TZID=America/Denver:20241214T140000
DTSTAMP:20260421T093559
CREATED:20240812T200248Z
LAST-MODIFIED:20240812T200248Z
UID:10006524-1734166800-1734184800@cccld.org
SUMMARY:JTML-Winter Craft Workshops - Georgetown Christmas Market
DESCRIPTION:All kids are welcome at the John Tomay Memorial Library for creative crafts and fun during the Georgetown Christmas Market.
URL:https://cccld.org/event/jtml-winter-craft-workshops-georgetown-christmas-market/2024-12-14/
LOCATION:John Tomay Memorial Library\, 605 6th Street\, Georgetown\, CO\, 80444\, United States
CATEGORIES:Kids,Library Events
GEO:39.7061997;-105.6974142
X-APPLE-STRUCTURED-LOCATION;VALUE=URI;X-ADDRESS=John Tomay Memorial Library 605 6th Street Georgetown CO 80444 United States;X-APPLE-RADIUS=500;X-TITLE=605 6th Street:geo:-105.6974142,39.7061997
END:VEVENT
BEGIN:VEVENT
DTSTART;TZID=America/Denver:20241213T140000
DTEND;TZID=America/Denver:20241213T160000
DTSTAMP:20260421T093559
CREATED:20231129T165752Z
LAST-MODIFIED:20250811T210129Z
UID:10006532-1734098400-1734105600@cccld.org
SUMMARY:ISPL-Virtual Reality
DESCRIPTION:Explore new worlds and great games at our virtual reality sessions for tweens and teens (ages 12 years and older). Registration is required. Please email heather@cccld.org to learn more and save your spot.
URL:https://cccld.org/event/ispl-virtual-reality-7/2024-12-13/
LOCATION:CO
CATEGORIES:Kids,Library Events,Teens
END:VEVENT
BEGIN:VEVENT
DTSTART;TZID=America/Denver:20241213T140000
DTEND;TZID=America/Denver:20241213T153000
DTSTAMP:20260421T093559
CREATED:20241202T181700Z
LAST-MODIFIED:20241202T181700Z
UID:10006584-1734098400-1734103800@cccld.org
SUMMARY:ISPL - Coca & Board Games
DESCRIPTION:Join us for cozy games afternoon for kids.
URL:https://cccld.org/event/ispl-coca-board-games/
LOCATION:Idaho Springs Public Library\, 219 14th Avenue\, Idaho Springs\, CO\, 80452\, United States
CATEGORIES:Kids,Library Events
GEO:39.742052;-105.5183552
X-APPLE-STRUCTURED-LOCATION;VALUE=URI;X-ADDRESS=Idaho Springs Public Library 219 14th Avenue Idaho Springs CO 80452 United States;X-APPLE-RADIUS=500;X-TITLE=219 14th Avenue:geo:-105.5183552,39.742052
END:VEVENT
BEGIN:VEVENT
DTSTART;TZID=America/Denver:20241213T100000
DTEND;TZID=America/Denver:20241213T110000
DTSTAMP:20260421T093559
CREATED:20241122T175812Z
LAST-MODIFIED:20241122T175812Z
UID:10006579-1734084000-1734087600@cccld.org
SUMMARY:ISPL - Gingerbread Storytime
DESCRIPTION:Join us for a sweet storytime\, and decorate your own gingerbread creation!
URL:https://cccld.org/event/ispl-gingerbread-storytime/
LOCATION:Idaho Springs Public Library\, 219 14th Avenue\, Idaho Springs\, CO\, 80452\, United States
CATEGORIES:Kids,Library Events
GEO:39.742052;-105.5183552
X-APPLE-STRUCTURED-LOCATION;VALUE=URI;X-ADDRESS=Idaho Springs Public Library 219 14th Avenue Idaho Springs CO 80452 United States;X-APPLE-RADIUS=500;X-TITLE=219 14th Avenue:geo:-105.5183552,39.742052
END:VEVENT
BEGIN:VEVENT
DTSTART;TZID=America/Denver:20241208T100000
DTEND;TZID=America/Denver:20241208T160000
DTSTAMP:20260421T093559
CREATED:20241202T183234Z
LAST-MODIFIED:20241202T183234Z
UID:10006587-1733652000-1733673600@cccld.org
SUMMARY:JTML Friends Book Sale
DESCRIPTION:Support the Friends of the Georgetown Library and stop by their annual book sale during the Georgetown Christmas Market.
URL:https://cccld.org/event/jtml-friends-book-sale-7/2024-12-08/
LOCATION:CO
CATEGORIES:Adults,Kids,Library Events,Teens
END:VEVENT
BEGIN:VEVENT
DTSTART;TZID=America/Denver:20241208T090000
DTEND;TZID=America/Denver:20241208T140000
DTSTAMP:20260421T093559
CREATED:20240812T200248Z
LAST-MODIFIED:20240812T200248Z
UID:10006523-1733648400-1733666400@cccld.org
SUMMARY:JTML-Winter Craft Workshops - Georgetown Christmas Market
DESCRIPTION:All kids are welcome at the John Tomay Memorial Library for creative crafts and fun during the Georgetown Christmas Market.
URL:https://cccld.org/event/jtml-winter-craft-workshops-georgetown-christmas-market/2024-12-08/
LOCATION:John Tomay Memorial Library\, 605 6th Street\, Georgetown\, CO\, 80444\, United States
CATEGORIES:Kids,Library Events
GEO:39.7061997;-105.6974142
X-APPLE-STRUCTURED-LOCATION;VALUE=URI;X-ADDRESS=John Tomay Memorial Library 605 6th Street Georgetown CO 80444 United States;X-APPLE-RADIUS=500;X-TITLE=605 6th Street:geo:-105.6974142,39.7061997
END:VEVENT
BEGIN:VEVENT
DTSTART;TZID=America/Denver:20241207T100000
DTEND;TZID=America/Denver:20241207T160000
DTSTAMP:20260421T093559
CREATED:20241202T183234Z
LAST-MODIFIED:20241202T183234Z
UID:10006586-1733565600-1733587200@cccld.org
SUMMARY:JTML Friends Book Sale
DESCRIPTION:Support the Friends of the Georgetown Library and stop by their annual book sale during the Georgetown Christmas Market.
URL:https://cccld.org/event/jtml-friends-book-sale-7/2024-12-07/
LOCATION:CO
CATEGORIES:Adults,Kids,Library Events,Teens
END:VEVENT
BEGIN:VEVENT
DTSTART;TZID=America/Denver:20241207T090000
DTEND;TZID=America/Denver:20241207T140000
DTSTAMP:20260421T093559
CREATED:20240812T200248Z
LAST-MODIFIED:20240812T200248Z
UID:10006522-1733562000-1733580000@cccld.org
SUMMARY:JTML-Winter Craft Workshops - Georgetown Christmas Market
DESCRIPTION:All kids are welcome at the John Tomay Memorial Library for creative crafts and fun during the Georgetown Christmas Market.
URL:https://cccld.org/event/jtml-winter-craft-workshops-georgetown-christmas-market/2024-12-07/
LOCATION:John Tomay Memorial Library\, 605 6th Street\, Georgetown\, CO\, 80444\, United States
CATEGORIES:Kids,Library Events
GEO:39.7061997;-105.6974142
X-APPLE-STRUCTURED-LOCATION;VALUE=URI;X-ADDRESS=John Tomay Memorial Library 605 6th Street Georgetown CO 80444 United States;X-APPLE-RADIUS=500;X-TITLE=605 6th Street:geo:-105.6974142,39.7061997
END:VEVENT
BEGIN:VEVENT
DTSTART;TZID=America/Denver:20241206T100000
DTEND;TZID=America/Denver:20241206T110000
DTSTAMP:20260421T093559
CREATED:20241122T175544Z
LAST-MODIFIED:20241122T175544Z
UID:10006578-1733479200-1733482800@cccld.org
SUMMARY:JTML - Santa Claus Storytime
DESCRIPTION:Share stories and cookies and cookies\, and get photos with Santa!
URL:https://cccld.org/event/jtml-santa-claus-storytime/
LOCATION:John Tomay Memorial Library\, 605 6th Street\, Georgetown\, CO\, 80444\, United States
CATEGORIES:Kids,Library Events
GEO:39.7061997;-105.6974142
X-APPLE-STRUCTURED-LOCATION;VALUE=URI;X-ADDRESS=John Tomay Memorial Library 605 6th Street Georgetown CO 80444 United States;X-APPLE-RADIUS=500;X-TITLE=605 6th Street:geo:-105.6974142,39.7061997
END:VEVENT
BEGIN:VEVENT
DTSTART;TZID=America/Denver:20241130T170000
DTEND;TZID=America/Denver:20241130T180000
DTSTAMP:20260421T093559
CREATED:20241101T165603Z
LAST-MODIFIED:20241101T165603Z
UID:10006571-1732986000-1732989600@cccld.org
SUMMARY:Georgetown Tree Lighting
DESCRIPTION:Look for us at the Tree Lighting for a yummy cookie!
URL:https://cccld.org/event/georgetown-tree-lighting/
LOCATION:Strousse Park\, Georgetown\, CO\, 80444\, United States
CATEGORIES:Adults,Kids,Library Events,Teens
GEO:39.7060984;-105.6975041
END:VEVENT
BEGIN:VEVENT
DTSTART;TZID=America/Denver:20241127T153000
DTEND;TZID=America/Denver:20241127T163000
DTSTAMP:20260421T093559
CREATED:20241101T170143Z
LAST-MODIFIED:20241101T170143Z
UID:10006573-1732721400-1732725000@cccld.org
SUMMARY:JTML - Survival Lab: Oregon Trail
DESCRIPTION:Would you survive a pioneer journey on the Oregon Trail? Beware\, danger awaits you along every twist and turn on this fun game!
URL:https://cccld.org/event/jtml-survival-lab-oregon-trail/
LOCATION:John Tomay Memorial Library\, 605 6th Street\, Georgetown\, CO\, 80444\, United States
CATEGORIES:Kids,Library Events,Teens
GEO:39.7061997;-105.6974142
X-APPLE-STRUCTURED-LOCATION;VALUE=URI;X-ADDRESS=John Tomay Memorial Library 605 6th Street Georgetown CO 80444 United States;X-APPLE-RADIUS=500;X-TITLE=605 6th Street:geo:-105.6974142,39.7061997
END:VEVENT
BEGIN:VEVENT
DTSTART;TZID=America/Denver:20241126T153000
DTEND;TZID=America/Denver:20241126T163000
DTSTAMP:20260421T093559
CREATED:20241101T170310Z
LAST-MODIFIED:20241101T170310Z
UID:10006574-1732635000-1732638600@cccld.org
SUMMARY:ISPL - Survival Lab: Oregon Trail
DESCRIPTION:Would you survive a pioneer journey on the Oregon Trail? Beware\, danger awaits you along every twist and turn on this fun game!
URL:https://cccld.org/event/ispl-survival-lab-oregon-trail/
LOCATION:Idaho Springs Public Library\, 219 14th Avenue\, Idaho Springs\, CO\, 80452\, United States
CATEGORIES:Kids,Library Events,Teens
GEO:39.742052;-105.5183552
X-APPLE-STRUCTURED-LOCATION;VALUE=URI;X-ADDRESS=Idaho Springs Public Library 219 14th Avenue Idaho Springs CO 80452 United States;X-APPLE-RADIUS=500;X-TITLE=219 14th Avenue:geo:-105.5183552,39.742052
END:VEVENT
BEGIN:VEVENT
DTSTART;TZID=America/Denver:20241122T100000
DTEND;TZID=America/Denver:20241122T110000
DTSTAMP:20260421T093559
CREATED:20241101T164830Z
LAST-MODIFIED:20241101T172103Z
UID:10006568-1732269600-1732273200@cccld.org
SUMMARY:JTML - Gobble\, Gobble Storytime
DESCRIPTION:Hop into fun Thanksgiving stories and a colorful craft with Miss Honeybun.
URL:https://cccld.org/event/gobble-gobble-storytime/
LOCATION:CO
CATEGORIES:Kids,Library Events
END:VEVENT
BEGIN:VEVENT
DTSTART;TZID=America/Denver:20241115T140000
DTEND;TZID=America/Denver:20241115T160000
DTSTAMP:20260421T093559
CREATED:20240808T155226Z
LAST-MODIFIED:20260120T201242Z
UID:10006534-1731679200-1731686400@cccld.org
SUMMARY:JTML-Virtual Reality
DESCRIPTION:Explore new worlds and great games at our virtual reality sessions for tweens and teens (ages 12 years and older). Registration is required. Please email heather@cccld.org to learn more and save your spot.
URL:https://cccld.org/event/jtml-virtual-reality-7-2/2024-11-15/
LOCATION:John Tomay Memorial Library\, 605 6th Street\, Georgetown\, CO\, 80444\, United States
CATEGORIES:Kids,Library Events,Teens
GEO:39.7061997;-105.6974142
X-APPLE-STRUCTURED-LOCATION;VALUE=URI;X-ADDRESS=John Tomay Memorial Library 605 6th Street Georgetown CO 80444 United States;X-APPLE-RADIUS=500;X-TITLE=605 6th Street:geo:-105.6974142,39.7061997
END:VEVENT
BEGIN:VEVENT
DTSTART;TZID=America/Denver:20241115T100000
DTEND;TZID=America/Denver:20241115T110000
DTSTAMP:20260421T093559
CREATED:20241101T164722Z
LAST-MODIFIED:20241101T172027Z
UID:10006567-1731664800-1731668400@cccld.org
SUMMARY:ISPL - Cinnamon and Spice Storytime
DESCRIPTION:Join us for a baking-themed storytime with a special treat!
URL:https://cccld.org/event/cinnamon-and-spice-storytime/
LOCATION:Idaho Springs Public Library\, 219 14th Avenue\, Idaho Springs\, CO\, 80452\, United States
CATEGORIES:Kids,Library Events
GEO:39.742052;-105.5183552
X-APPLE-STRUCTURED-LOCATION;VALUE=URI;X-ADDRESS=Idaho Springs Public Library 219 14th Avenue Idaho Springs CO 80452 United States;X-APPLE-RADIUS=500;X-TITLE=219 14th Avenue:geo:-105.5183552,39.742052
END:VEVENT
BEGIN:VEVENT
DTSTART;TZID=America/Denver:20241109T100000
DTEND;TZID=America/Denver:20241109T140000
DTSTAMP:20260421T093559
CREATED:20241101T165412Z
LAST-MODIFIED:20241101T165412Z
UID:10006570-1731146400-1731160800@cccld.org
SUMMARY:JTML - Bighorn Sheep Festival Puppet Workshop
DESCRIPTION:The festival features multiple activities in Georgetown at different sites. Join us for a fun puppet workshop.
URL:https://cccld.org/event/jtml-bighorn-sheep-festival-puppet-workshop/
LOCATION:John Tomay Memorial Library\, 605 6th Street\, Georgetown\, CO\, 80444\, United States
CATEGORIES:Adults,Kids,Library Events,Teens
GEO:39.7061997;-105.6974142
X-APPLE-STRUCTURED-LOCATION;VALUE=URI;X-ADDRESS=John Tomay Memorial Library 605 6th Street Georgetown CO 80444 United States;X-APPLE-RADIUS=500;X-TITLE=605 6th Street:geo:-105.6974142,39.7061997
END:VEVENT
BEGIN:VEVENT
DTSTART;TZID=America/Denver:20241108T140000
DTEND;TZID=America/Denver:20241108T160000
DTSTAMP:20260421T093559
CREATED:20231129T165752Z
LAST-MODIFIED:20250811T210129Z
UID:10006531-1731074400-1731081600@cccld.org
SUMMARY:ISPL-Virtual Reality
DESCRIPTION:Explore new worlds and great games at our virtual reality sessions for tweens and teens (ages 12 years and older). Registration is required. Please email heather@cccld.org to learn more and save your spot.
URL:https://cccld.org/event/ispl-virtual-reality-7/2024-11-08/
LOCATION:CO
CATEGORIES:Kids,Library Events,Teens
END:VEVENT
END:VCALENDAR