BEGIN:VCALENDAR
VERSION:2.0
PRODID:-//Clear Creek County Library District - ECPv6.15.16//NONSGML v1.0//EN
CALSCALE:GREGORIAN
METHOD:PUBLISH
X-WR-CALNAME:Clear Creek County Library District
X-ORIGINAL-URL:https://cccld.org
X-WR-CALDESC:Events for Clear Creek County Library District
REFRESH-INTERVAL;VALUE=DURATION:PT1H
X-Robots-Tag:noindex
X-PUBLISHED-TTL:PT1H
BEGIN:VTIMEZONE
TZID:America/Denver
BEGIN:DAYLIGHT
TZOFFSETFROM:-0700
TZOFFSETTO:-0600
TZNAME:MDT
DTSTART:20210314T090000
END:DAYLIGHT
BEGIN:STANDARD
TZOFFSETFROM:-0600
TZOFFSETTO:-0700
TZNAME:MST
DTSTART:20211107T080000
END:STANDARD
BEGIN:DAYLIGHT
TZOFFSETFROM:-0700
TZOFFSETTO:-0600
TZNAME:MDT
DTSTART:20220313T090000
END:DAYLIGHT
BEGIN:STANDARD
TZOFFSETFROM:-0600
TZOFFSETTO:-0700
TZNAME:MST
DTSTART:20221106T080000
END:STANDARD
BEGIN:DAYLIGHT
TZOFFSETFROM:-0700
TZOFFSETTO:-0600
TZNAME:MDT
DTSTART:20230312T090000
END:DAYLIGHT
BEGIN:STANDARD
TZOFFSETFROM:-0600
TZOFFSETTO:-0700
TZNAME:MST
DTSTART:20231105T080000
END:STANDARD
END:VTIMEZONE
BEGIN:VEVENT
DTSTART;TZID=America/Denver:20220920T111500
DTEND;TZID=America/Denver:20220920T111500
DTSTAMP:20260425T045111
CREATED:20220823T161139Z
LAST-MODIFIED:20230601T154258Z
UID:10005838-1663672500-1663672500@cccld.org
SUMMARY:ISPL Storytime
DESCRIPTION:Join us for storytime and crafts at the Idaho Springs Public Library.
URL:https://cccld.org/event/ispl-storytime-9/2022-09-20/
LOCATION:Idaho Springs Public Library\, 219 14th Avenue\, Idaho Springs\, CO\, 80452\, United States
CATEGORIES:Kids,Library Events
GEO:39.742052;-105.5183552
X-APPLE-STRUCTURED-LOCATION;VALUE=URI;X-ADDRESS=Idaho Springs Public Library 219 14th Avenue Idaho Springs CO 80452 United States;X-APPLE-RADIUS=500;X-TITLE=219 14th Avenue:geo:-105.5183552,39.742052
END:VEVENT
BEGIN:VEVENT
DTSTART;TZID=America/Denver:20220916T123000
DTEND;TZID=America/Denver:20220916T150000
DTSTAMP:20260425T045111
CREATED:20220823T170701Z
LAST-MODIFIED:20230307T211506Z
UID:10005933-1663331400-1663340400@cccld.org
SUMMARY:JTML & ISPL COMPASS Fridays
DESCRIPTION:Join us for FREE guided and independent activities on Friday afternoons during the school year\, funded through your Library District.
URL:https://cccld.org/event/jtml-ispl-compass-fridays/2022-09-16/
LOCATION:CO\, 80444\, United States
CATEGORIES:Kids,Library Events,Teens
GEO:39.7104468;-105.6969788
END:VEVENT
BEGIN:VEVENT
DTSTART;TZID=America/Denver:20220915T154500
DTEND;TZID=America/Denver:20220915T164500
DTSTAMP:20260425T045111
CREATED:20220823T162546Z
LAST-MODIFIED:20221004T165614Z
UID:10005917-1663256700-1663260300@cccld.org
SUMMARY:JTML Niños Learning Español
DESCRIPTION:Learn basic\, conversational Spanish with our very own Señora Maria at the John Tomay Memorial Library.
URL:https://cccld.org/event/jtml-ninos-learning-espanol/2022-09-15/
LOCATION:John Tomay Memorial Library\, 605 6th Street\, Georgetown\, CO\, 80444\, United States
CATEGORIES:Kids,Library Events,Teens
GEO:39.7061997;-105.6974142
X-APPLE-STRUCTURED-LOCATION;VALUE=URI;X-ADDRESS=John Tomay Memorial Library 605 6th Street Georgetown CO 80444 United States;X-APPLE-RADIUS=500;X-TITLE=605 6th Street:geo:-105.6974142,39.7061997
END:VEVENT
BEGIN:VEVENT
DTSTART;TZID=America/Denver:20220915T111500
DTEND;TZID=America/Denver:20220915T111500
DTSTAMP:20260425T045111
CREATED:20220823T161604Z
LAST-MODIFIED:20230601T154437Z
UID:10005876-1663240500-1663240500@cccld.org
SUMMARY:JTML Storytime
DESCRIPTION:Join us for storytime and crafts at the John Tomay Memorial Library.
URL:https://cccld.org/event/jtml-storytime-9/2022-09-15/
LOCATION:John Tomay Memorial Library\, 605 6th Street\, Georgetown\, CO\, 80444\, United States
CATEGORIES:Kids,Library Events
GEO:39.7061997;-105.6974142
X-APPLE-STRUCTURED-LOCATION;VALUE=URI;X-ADDRESS=John Tomay Memorial Library 605 6th Street Georgetown CO 80444 United States;X-APPLE-RADIUS=500;X-TITLE=605 6th Street:geo:-105.6974142,39.7061997
END:VEVENT
BEGIN:VEVENT
DTSTART;TZID=America/Denver:20220913T111500
DTEND;TZID=America/Denver:20220913T111500
DTSTAMP:20260425T045111
CREATED:20220823T161139Z
LAST-MODIFIED:20230601T154258Z
UID:10005837-1663067700-1663067700@cccld.org
SUMMARY:ISPL Storytime
DESCRIPTION:Join us for storytime and crafts at the Idaho Springs Public Library.
URL:https://cccld.org/event/ispl-storytime-9/2022-09-13/
LOCATION:Idaho Springs Public Library\, 219 14th Avenue\, Idaho Springs\, CO\, 80452\, United States
CATEGORIES:Kids,Library Events
GEO:39.742052;-105.5183552
X-APPLE-STRUCTURED-LOCATION;VALUE=URI;X-ADDRESS=Idaho Springs Public Library 219 14th Avenue Idaho Springs CO 80452 United States;X-APPLE-RADIUS=500;X-TITLE=219 14th Avenue:geo:-105.5183552,39.742052
END:VEVENT
BEGIN:VEVENT
DTSTART;TZID=America/Denver:20220909T123000
DTEND;TZID=America/Denver:20220909T150000
DTSTAMP:20260425T045111
CREATED:20220823T170701Z
LAST-MODIFIED:20230307T211506Z
UID:10005932-1662726600-1662735600@cccld.org
SUMMARY:JTML & ISPL COMPASS Fridays
DESCRIPTION:Join us for FREE guided and independent activities on Friday afternoons during the school year\, funded through your Library District.
URL:https://cccld.org/event/jtml-ispl-compass-fridays/2022-09-09/
LOCATION:CO\, 80444\, United States
CATEGORIES:Kids,Library Events,Teens
GEO:39.7104468;-105.6969788
END:VEVENT
BEGIN:VEVENT
DTSTART;TZID=America/Denver:20220908T154500
DTEND;TZID=America/Denver:20220908T164500
DTSTAMP:20260425T045111
CREATED:20220823T162546Z
LAST-MODIFIED:20221004T165614Z
UID:10005916-1662651900-1662655500@cccld.org
SUMMARY:JTML Niños Learning Español
DESCRIPTION:Learn basic\, conversational Spanish with our very own Señora Maria at the John Tomay Memorial Library.
URL:https://cccld.org/event/jtml-ninos-learning-espanol/2022-09-08/
LOCATION:John Tomay Memorial Library\, 605 6th Street\, Georgetown\, CO\, 80444\, United States
CATEGORIES:Kids,Library Events,Teens
GEO:39.7061997;-105.6974142
X-APPLE-STRUCTURED-LOCATION;VALUE=URI;X-ADDRESS=John Tomay Memorial Library 605 6th Street Georgetown CO 80444 United States;X-APPLE-RADIUS=500;X-TITLE=605 6th Street:geo:-105.6974142,39.7061997
END:VEVENT
BEGIN:VEVENT
DTSTART;TZID=America/Denver:20220908T111500
DTEND;TZID=America/Denver:20220908T111500
DTSTAMP:20260425T045111
CREATED:20220823T161604Z
LAST-MODIFIED:20230601T154437Z
UID:10005875-1662635700-1662635700@cccld.org
SUMMARY:JTML Storytime
DESCRIPTION:Join us for storytime and crafts at the John Tomay Memorial Library.
URL:https://cccld.org/event/jtml-storytime-9/2022-09-08/
LOCATION:John Tomay Memorial Library\, 605 6th Street\, Georgetown\, CO\, 80444\, United States
CATEGORIES:Kids,Library Events
GEO:39.7061997;-105.6974142
X-APPLE-STRUCTURED-LOCATION;VALUE=URI;X-ADDRESS=John Tomay Memorial Library 605 6th Street Georgetown CO 80444 United States;X-APPLE-RADIUS=500;X-TITLE=605 6th Street:geo:-105.6974142,39.7061997
END:VEVENT
BEGIN:VEVENT
DTSTART;TZID=America/Denver:20220906T111500
DTEND;TZID=America/Denver:20220906T111500
DTSTAMP:20260425T045111
CREATED:20220823T161139Z
LAST-MODIFIED:20230601T154258Z
UID:10005836-1662462900-1662462900@cccld.org
SUMMARY:ISPL Storytime
DESCRIPTION:Join us for storytime and crafts at the Idaho Springs Public Library.
URL:https://cccld.org/event/ispl-storytime-9/2022-09-06/
LOCATION:Idaho Springs Public Library\, 219 14th Avenue\, Idaho Springs\, CO\, 80452\, United States
CATEGORIES:Kids,Library Events
GEO:39.742052;-105.5183552
X-APPLE-STRUCTURED-LOCATION;VALUE=URI;X-ADDRESS=Idaho Springs Public Library 219 14th Avenue Idaho Springs CO 80452 United States;X-APPLE-RADIUS=500;X-TITLE=219 14th Avenue:geo:-105.5183552,39.742052
END:VEVENT
BEGIN:VEVENT
DTSTART;TZID=America/Denver:20220903T100000
DTEND;TZID=America/Denver:20220905T160000
DTSTAMP:20260425T045111
CREATED:20220823T165125Z
LAST-MODIFIED:20220823T165420Z
UID:10005930-1662199200-1662393600@cccld.org
SUMMARY:JTML Friends Book Sale 10 am - 4 pm
DESCRIPTION:Stop by the Friends of the Georgetown Library annual Labor Day weekend book sale Saturday-September 3\, Sunday-September 4\, and Monday-September 5 from 10 am to 4 pm.
URL:https://cccld.org/event/16650/
LOCATION:John Tomay Memorial Library\, 605 6th Street\, Georgetown\, CO\, 80444\, United States
CATEGORIES:Adults,Kids,Library Events,Teens
GEO:39.7061997;-105.6974142
X-APPLE-STRUCTURED-LOCATION;VALUE=URI;X-ADDRESS=John Tomay Memorial Library 605 6th Street Georgetown CO 80444 United States;X-APPLE-RADIUS=500;X-TITLE=605 6th Street:geo:-105.6974142,39.7061997
END:VEVENT
BEGIN:VEVENT
DTSTART;TZID=America/Denver:20220902T123000
DTEND;TZID=America/Denver:20220902T150000
DTSTAMP:20260425T045111
CREATED:20220823T170701Z
LAST-MODIFIED:20230307T211506Z
UID:10005931-1662121800-1662130800@cccld.org
SUMMARY:JTML & ISPL COMPASS Fridays
DESCRIPTION:Join us for FREE guided and independent activities on Friday afternoons during the school year\, funded through your Library District.
URL:https://cccld.org/event/jtml-ispl-compass-fridays/2022-09-02/
LOCATION:CO\, 80444\, United States
CATEGORIES:Kids,Library Events,Teens
GEO:39.7104468;-105.6969788
END:VEVENT
BEGIN:VEVENT
DTSTART;TZID=America/Denver:20220826T130000
DTEND;TZID=America/Denver:20220826T140000
DTSTAMP:20260425T045111
CREATED:20220802T190144Z
LAST-MODIFIED:20220802T190144Z
UID:10005833-1661518800-1661522400@cccld.org
SUMMARY:ISPL & JTML Rock Painting
DESCRIPTION:COMPASS FRIDAYS – Let your COMPASS guide you to free Friday fun at your Clear Creek County Libraries!
URL:https://cccld.org/event/ispl-jtml-rock-painting/
LOCATION:CO\, 80444\, United States
CATEGORIES:Kids,Library Events,Teens
GEO:39.7104468;-105.6969788
END:VEVENT
BEGIN:VEVENT
DTSTART;TZID=America/Denver:20220825T190000
DTEND;TZID=America/Denver:20220825T200000
DTSTAMP:20260425T045111
CREATED:20220502T163830Z
LAST-MODIFIED:20220823T164507Z
UID:10005795-1661454000-1661457600@cccld.org
SUMMARY:Virtual Goodnight Storytime
DESCRIPTION:Get ready for bed with Miss Holly and Miss Honeybun during our Virtual Goodnight Storytime. Join us live on our Facebook page at 7 pm every Thursday.
URL:https://cccld.org/event/virtual-goodnight-storytime-2/2022-08-25/
LOCATION:CO\, 80444\, United States
CATEGORIES:Kids,Library Events
GEO:39.7104468;-105.6969788
END:VEVENT
BEGIN:VEVENT
DTSTART;TZID=America/Denver:20220824T111500
DTEND;TZID=America/Denver:20220824T121500
DTSTAMP:20260425T045111
CREATED:20220502T164225Z
LAST-MODIFIED:20220823T164634Z
UID:10005812-1661339700-1661343300@cccld.org
SUMMARY:Virtual Morning Storytime
DESCRIPTION:Join Miss Holly and Miss Honeybun for Morning Storytime live on our Facebook page at 11:15 am every Wednesday.
URL:https://cccld.org/event/virtual-morning-storytime-2/2022-08-24/
LOCATION:CO\, 80444\, United States
CATEGORIES:Kids,Library Events
GEO:39.7104468;-105.6969788
END:VEVENT
BEGIN:VEVENT
DTSTART;TZID=America/Denver:20220822T081500
DTEND;TZID=America/Denver:20220822T151500
DTSTAMP:20260425T045111
CREATED:20220713T183624Z
LAST-MODIFIED:20220713T184228Z
UID:10005155-1661156100-1661181300@cccld.org
SUMMARY:School Starts
DESCRIPTION:
URL:https://cccld.org/event/school-starts/
LOCATION:CO\, 80444\, United States
CATEGORIES:Adults,Kids,Library Events,Teens
GEO:39.7104468;-105.6969788
END:VEVENT
BEGIN:VEVENT
DTSTART;TZID=America/Denver:20220818T190000
DTEND;TZID=America/Denver:20220818T200000
DTSTAMP:20260425T045111
CREATED:20220502T163830Z
LAST-MODIFIED:20220823T164507Z
UID:10005794-1660849200-1660852800@cccld.org
SUMMARY:Virtual Goodnight Storytime
DESCRIPTION:Get ready for bed with Miss Holly and Miss Honeybun during our Virtual Goodnight Storytime. Join us live on our Facebook page at 7 pm every Thursday.
URL:https://cccld.org/event/virtual-goodnight-storytime-2/2022-08-18/
LOCATION:CO\, 80444\, United States
CATEGORIES:Kids,Library Events
GEO:39.7104468;-105.6969788
END:VEVENT
BEGIN:VEVENT
DTSTART;TZID=America/Denver:20220817T160000
DTEND;TZID=America/Denver:20220817T180000
DTSTAMP:20260425T045111
CREATED:20220802T190502Z
LAST-MODIFIED:20220802T190502Z
UID:10005834-1660752000-1660759200@cccld.org
SUMMARY:ISPL - Community Picnic
DESCRIPTION:Back-To-School Night Community Picnic @ Idaho Springs Public Library. Free book for each child! Sponsored by Friends of the Idaho Springs Library.
URL:https://cccld.org/event/ispl-community-picnic/
LOCATION:Idaho Springs Public Library\, 219 14th Avenue\, Idaho Springs\, CO\, 80452\, United States
CATEGORIES:Adults,Community Events,Kids,Library Events,Teens
GEO:39.742052;-105.5183552
X-APPLE-STRUCTURED-LOCATION;VALUE=URI;X-ADDRESS=Idaho Springs Public Library 219 14th Avenue Idaho Springs CO 80452 United States;X-APPLE-RADIUS=500;X-TITLE=219 14th Avenue:geo:-105.5183552,39.742052
END:VEVENT
BEGIN:VEVENT
DTSTART;TZID=America/Denver:20220817T111500
DTEND;TZID=America/Denver:20220817T121500
DTSTAMP:20260425T045111
CREATED:20220502T164225Z
LAST-MODIFIED:20220823T164634Z
UID:10005811-1660734900-1660738500@cccld.org
SUMMARY:Virtual Morning Storytime
DESCRIPTION:Join Miss Holly and Miss Honeybun for Morning Storytime live on our Facebook page at 11:15 am every Wednesday.
URL:https://cccld.org/event/virtual-morning-storytime-2/2022-08-17/
LOCATION:CO\, 80444\, United States
CATEGORIES:Kids,Library Events
GEO:39.7104468;-105.6969788
END:VEVENT
BEGIN:VEVENT
DTSTART;TZID=America/Denver:20220815T130000
DTEND;TZID=America/Denver:20220815T150000
DTSTAMP:20260425T045111
CREATED:20220713T183035Z
LAST-MODIFIED:20220726T152812Z
UID:10005144-1660568400-1660575600@cccld.org
SUMMARY:JTML Virtual Reality
DESCRIPTION:Join the fun with the new Oculus Quest 2. Email heather@cccld.org for additional information and to register.
URL:https://cccld.org/event/jtml-virtual-reality-3/
LOCATION:John Tomay Memorial Library\, 605 6th Street\, Georgetown\, CO\, 80444\, United States
CATEGORIES:Adults,Kids,Library Events,Teens
GEO:39.7061997;-105.6974142
X-APPLE-STRUCTURED-LOCATION;VALUE=URI;X-ADDRESS=John Tomay Memorial Library 605 6th Street Georgetown CO 80444 United States;X-APPLE-RADIUS=500;X-TITLE=605 6th Street:geo:-105.6974142,39.7061997
END:VEVENT
BEGIN:VEVENT
DTSTART;TZID=America/Denver:20220813T120000
DTEND;TZID=America/Denver:20220813T140000
DTSTAMP:20260425T045111
CREATED:20220713T183303Z
LAST-MODIFIED:20220713T183303Z
UID:10005146-1660392000-1660399200@cccld.org
SUMMARY:OMEGA
DESCRIPTION:Join us for food and fun at our new LBGTQ+ Social Group for kids ages 12-20. Held monthly at the Idaho Springs Public Library. For further information email joe@cccld.org.
URL:https://cccld.org/event/omega-3/
LOCATION:Idaho Springs Public Library\, 219 14th Avenue\, Idaho Springs\, CO\, 80452\, United States
CATEGORIES:Kids,Library Events,Teens
GEO:39.742052;-105.5183552
X-APPLE-STRUCTURED-LOCATION;VALUE=URI;X-ADDRESS=Idaho Springs Public Library 219 14th Avenue Idaho Springs CO 80452 United States;X-APPLE-RADIUS=500;X-TITLE=219 14th Avenue:geo:-105.5183552,39.742052
END:VEVENT
BEGIN:VEVENT
DTSTART;TZID=America/Denver:20220812T130000
DTEND;TZID=America/Denver:20220812T150000
DTSTAMP:20260425T045111
CREATED:20220713T182935Z
LAST-MODIFIED:20220713T182935Z
UID:10005142-1660309200-1660316400@cccld.org
SUMMARY:ISPL Virtual Reality
DESCRIPTION:Join the fun with the new Oculus Quest 2. Email heather@cccld.org for additional information and to register.
URL:https://cccld.org/event/ispl-virtual-reality-3/
LOCATION:Idaho Springs Public Library\, 219 14th Avenue\, Idaho Springs\, CO\, 80452\, United States
CATEGORIES:Adults,Kids,Library Events,Teens
GEO:39.742052;-105.5183552
X-APPLE-STRUCTURED-LOCATION;VALUE=URI;X-ADDRESS=Idaho Springs Public Library 219 14th Avenue Idaho Springs CO 80452 United States;X-APPLE-RADIUS=500;X-TITLE=219 14th Avenue:geo:-105.5183552,39.742052
END:VEVENT
BEGIN:VEVENT
DTSTART;TZID=America/Denver:20220811T190000
DTEND;TZID=America/Denver:20220811T200000
DTSTAMP:20260425T045111
CREATED:20220502T163830Z
LAST-MODIFIED:20220823T164507Z
UID:10005793-1660244400-1660248000@cccld.org
SUMMARY:Virtual Goodnight Storytime
DESCRIPTION:Get ready for bed with Miss Holly and Miss Honeybun during our Virtual Goodnight Storytime. Join us live on our Facebook page at 7 pm every Thursday.
URL:https://cccld.org/event/virtual-goodnight-storytime-2/2022-08-11/
LOCATION:CO\, 80444\, United States
CATEGORIES:Kids,Library Events
GEO:39.7104468;-105.6969788
END:VEVENT
BEGIN:VEVENT
DTSTART;TZID=America/Denver:20220810T111500
DTEND;TZID=America/Denver:20220810T121500
DTSTAMP:20260425T045111
CREATED:20220502T164225Z
LAST-MODIFIED:20220823T164634Z
UID:10005810-1660130100-1660133700@cccld.org
SUMMARY:Virtual Morning Storytime
DESCRIPTION:Join Miss Holly and Miss Honeybun for Morning Storytime live on our Facebook page at 11:15 am every Wednesday.
URL:https://cccld.org/event/virtual-morning-storytime-2/2022-08-10/
LOCATION:CO\, 80444\, United States
CATEGORIES:Kids,Library Events
GEO:39.7104468;-105.6969788
END:VEVENT
BEGIN:VEVENT
DTSTART;TZID=America/Denver:20220804T190000
DTEND;TZID=America/Denver:20220804T200000
DTSTAMP:20260425T045111
CREATED:20220502T163830Z
LAST-MODIFIED:20220823T164507Z
UID:10005792-1659639600-1659643200@cccld.org
SUMMARY:Virtual Goodnight Storytime
DESCRIPTION:Get ready for bed with Miss Holly and Miss Honeybun during our Virtual Goodnight Storytime. Join us live on our Facebook page at 7 pm every Thursday.
URL:https://cccld.org/event/virtual-goodnight-storytime-2/2022-08-04/
LOCATION:CO\, 80444\, United States
CATEGORIES:Kids,Library Events
GEO:39.7104468;-105.6969788
END:VEVENT
BEGIN:VEVENT
DTSTART;TZID=America/Denver:20220803T111500
DTEND;TZID=America/Denver:20220803T121500
DTSTAMP:20260425T045111
CREATED:20220502T164225Z
LAST-MODIFIED:20220823T164634Z
UID:10005809-1659525300-1659528900@cccld.org
SUMMARY:Virtual Morning Storytime
DESCRIPTION:Join Miss Holly and Miss Honeybun for Morning Storytime live on our Facebook page at 11:15 am every Wednesday.
URL:https://cccld.org/event/virtual-morning-storytime-2/2022-08-03/
LOCATION:CO\, 80444\, United States
CATEGORIES:Kids,Library Events
GEO:39.7104468;-105.6969788
END:VEVENT
BEGIN:VEVENT
DTSTART;TZID=America/Denver:20220728T190000
DTEND;TZID=America/Denver:20220728T200000
DTSTAMP:20260425T045111
CREATED:20220502T163830Z
LAST-MODIFIED:20220823T164507Z
UID:10005791-1659034800-1659038400@cccld.org
SUMMARY:Virtual Goodnight Storytime
DESCRIPTION:Get ready for bed with Miss Holly and Miss Honeybun during our Virtual Goodnight Storytime. Join us live on our Facebook page at 7 pm every Thursday.
URL:https://cccld.org/event/virtual-goodnight-storytime-2/2022-07-28/
LOCATION:CO\, 80444\, United States
CATEGORIES:Kids,Library Events
GEO:39.7104468;-105.6969788
END:VEVENT
BEGIN:VEVENT
DTSTART;TZID=America/Denver:20220727T111500
DTEND;TZID=America/Denver:20220727T121500
DTSTAMP:20260425T045111
CREATED:20220502T164225Z
LAST-MODIFIED:20220823T164634Z
UID:10005808-1658920500-1658924100@cccld.org
SUMMARY:Virtual Morning Storytime
DESCRIPTION:Join Miss Holly and Miss Honeybun for Morning Storytime live on our Facebook page at 11:15 am every Wednesday.
URL:https://cccld.org/event/virtual-morning-storytime-2/2022-07-27/
LOCATION:CO\, 80444\, United States
CATEGORIES:Kids,Library Events
GEO:39.7104468;-105.6969788
END:VEVENT
BEGIN:VEVENT
DTSTART;TZID=America/Denver:20220722T130000
DTEND;TZID=America/Denver:20220722T150000
DTSTAMP:20260425T045111
CREATED:20220628T170726Z
LAST-MODIFIED:20220707T181646Z
UID:10005136-1658494800-1658502000@cccld.org
SUMMARY:ISPL Virtual Reality
DESCRIPTION:Join the fun with the new Oculus Quest 2. Email heather@cccld.org for additional information and to register.
URL:https://cccld.org/event/ispl-virtual-reality-2/
LOCATION:CO\, 80444\, United States
CATEGORIES:Kids,Library Events,Teens
GEO:39.7104468;-105.6969788
END:VEVENT
BEGIN:VEVENT
DTSTART;TZID=America/Denver:20220721T190000
DTEND;TZID=America/Denver:20220721T200000
DTSTAMP:20260425T045111
CREATED:20220502T163830Z
LAST-MODIFIED:20220823T164507Z
UID:10005790-1658430000-1658433600@cccld.org
SUMMARY:Virtual Goodnight Storytime
DESCRIPTION:Get ready for bed with Miss Holly and Miss Honeybun during our Virtual Goodnight Storytime. Join us live on our Facebook page at 7 pm every Thursday.
URL:https://cccld.org/event/virtual-goodnight-storytime-2/2022-07-21/
LOCATION:CO\, 80444\, United States
CATEGORIES:Kids,Library Events
GEO:39.7104468;-105.6969788
END:VEVENT
BEGIN:VEVENT
DTSTART;TZID=America/Denver:20220720T111500
DTEND;TZID=America/Denver:20220720T121500
DTSTAMP:20260425T045111
CREATED:20220502T164225Z
LAST-MODIFIED:20220823T164634Z
UID:10005807-1658315700-1658319300@cccld.org
SUMMARY:Virtual Morning Storytime
DESCRIPTION:Join Miss Holly and Miss Honeybun for Morning Storytime live on our Facebook page at 11:15 am every Wednesday.
URL:https://cccld.org/event/virtual-morning-storytime-2/2022-07-20/
LOCATION:CO\, 80444\, United States
CATEGORIES:Kids,Library Events
GEO:39.7104468;-105.6969788
END:VEVENT
END:VCALENDAR