BEGIN:VCALENDAR
VERSION:2.0
PRODID:-//Clear Creek County Library District - ECPv6.15.16//NONSGML v1.0//EN
CALSCALE:GREGORIAN
METHOD:PUBLISH
X-ORIGINAL-URL:https://cccld.org
X-WR-CALDESC:Events for Clear Creek County Library District
REFRESH-INTERVAL;VALUE=DURATION:PT1H
X-Robots-Tag:noindex
X-PUBLISHED-TTL:PT1H
BEGIN:VTIMEZONE
TZID:America/Denver
BEGIN:DAYLIGHT
TZOFFSETFROM:-0700
TZOFFSETTO:-0600
TZNAME:MDT
DTSTART:20240310T090000
END:DAYLIGHT
BEGIN:STANDARD
TZOFFSETFROM:-0600
TZOFFSETTO:-0700
TZNAME:MST
DTSTART:20241103T080000
END:STANDARD
BEGIN:DAYLIGHT
TZOFFSETFROM:-0700
TZOFFSETTO:-0600
TZNAME:MDT
DTSTART:20250309T090000
END:DAYLIGHT
BEGIN:STANDARD
TZOFFSETFROM:-0600
TZOFFSETTO:-0700
TZNAME:MST
DTSTART:20251102T080000
END:STANDARD
BEGIN:DAYLIGHT
TZOFFSETFROM:-0700
TZOFFSETTO:-0600
TZNAME:MDT
DTSTART:20260308T090000
END:DAYLIGHT
BEGIN:STANDARD
TZOFFSETFROM:-0600
TZOFFSETTO:-0700
TZNAME:MST
DTSTART:20261101T080000
END:STANDARD
END:VTIMEZONE
BEGIN:VEVENT
DTSTART;TZID=America/Denver:20250912T100000
DTEND;TZID=America/Denver:20250912T113000
DTSTAMP:20260421T021956
CREATED:20250829T213000Z
LAST-MODIFIED:20250829T213000Z
UID:10006804-1757671200-1757676600@cccld.org
SUMMARY:ISPL-Birthday Bunnypalooza
DESCRIPTION:Celebrate Miss Honeybun’s birthday with us! Meet special guests Lilou the bunny and Lilac the duck!
URL:https://cccld.org/event/ispl-birthday-bunnypalooza/
LOCATION:Idaho Springs Public Library\, 219 14th Avenue\, Idaho Springs\, CO\, 80452\, United States
CATEGORIES:Kids,Library Events
GEO:39.742052;-105.5183552
X-APPLE-STRUCTURED-LOCATION;VALUE=URI;X-ADDRESS=Idaho Springs Public Library 219 14th Avenue Idaho Springs CO 80452 United States;X-APPLE-RADIUS=500;X-TITLE=219 14th Avenue:geo:-105.5183552,39.742052
END:VEVENT
BEGIN:VEVENT
DTSTART;TZID=America/Denver:20250905T100000
DTEND;TZID=America/Denver:20250905T110000
DTSTAMP:20260421T021956
CREATED:20250829T212749Z
LAST-MODIFIED:20250829T212749Z
UID:10006803-1757066400-1757070000@cccld.org
SUMMARY:JTML-Apple Storytime
DESCRIPTION:Learn about harvest time and enjoy a yummy apple treat!
URL:https://cccld.org/event/jtml-apple-storytime/
LOCATION:John Tomay Memorial Library\, 605 6th Street\, Georgetown\, CO\, 80444\, United States
CATEGORIES:Kids,Library Events
GEO:39.7061997;-105.6974142
X-APPLE-STRUCTURED-LOCATION;VALUE=URI;X-ADDRESS=John Tomay Memorial Library 605 6th Street Georgetown CO 80444 United States;X-APPLE-RADIUS=500;X-TITLE=605 6th Street:geo:-105.6974142,39.7061997
END:VEVENT
BEGIN:VEVENT
DTSTART;TZID=America/Denver:20250829T100000
DTEND;TZID=America/Denver:20250829T233000
DTSTAMP:20260421T021956
CREATED:20250731T162713Z
LAST-MODIFIED:20250731T162713Z
UID:10006788-1756461600-1756510200@cccld.org
SUMMARY:Splashy Storytime - Clear Creek Recreation Center
DESCRIPTION:Hop into a splashy storytime at the pool\, followed by time to play! Registration is required for Splashy Storytime. Please email holly@cccld.org.
URL:https://cccld.org/event/splashy-storytime-clear-creek-recreation-center/
LOCATION:Clear Creek Metropolitan Recreation District\, 98 12th Avenue\, Idaho Springs\, CO\, 80452\, United States
CATEGORIES:Kids,Library Events
GEO:39.7419098;-105.5208484
X-APPLE-STRUCTURED-LOCATION;VALUE=URI;X-ADDRESS=Clear Creek Metropolitan Recreation District 98 12th Avenue Idaho Springs CO 80452 United States;X-APPLE-RADIUS=500;X-TITLE=98 12th Avenue:geo:-105.5208484,39.7419098
END:VEVENT
BEGIN:VEVENT
DTSTART;TZID=America/Denver:20250822T140000
DTEND;TZID=America/Denver:20250822T160000
DTSTAMP:20260421T021956
CREATED:20240808T155226Z
LAST-MODIFIED:20260120T201242Z
UID:10006791-1755871200-1755878400@cccld.org
SUMMARY:JTML-Virtual Reality
DESCRIPTION:Explore new worlds and great games at our virtual reality sessions for tweens and teens (ages 12 years and older). Registration is required. Please email heather@cccld.org to learn more and save your spot.
URL:https://cccld.org/event/jtml-virtual-reality-7-2/2025-08-22/
LOCATION:John Tomay Memorial Library\, 605 6th Street\, Georgetown\, CO\, 80444\, United States
CATEGORIES:Kids,Library Events,Teens
GEO:39.7061997;-105.6974142
X-APPLE-STRUCTURED-LOCATION;VALUE=URI;X-ADDRESS=John Tomay Memorial Library 605 6th Street Georgetown CO 80444 United States;X-APPLE-RADIUS=500;X-TITLE=605 6th Street:geo:-105.6974142,39.7061997
END:VEVENT
BEGIN:VEVENT
DTSTART;TZID=America/Denver:20250822T100000
DTEND;TZID=America/Denver:20250822T110000
DTSTAMP:20260421T021956
CREATED:20250731T162304Z
LAST-MODIFIED:20250731T165358Z
UID:10006787-1755856800-1755860400@cccld.org
SUMMARY:Parachute Storytime - Foster's Place Georgetown
DESCRIPTION:Join us for stories and parachute games at Foster’s Place in Georgetown. Bring a small stuffed animal! In the event of rain\, we will switch to an indoor storytime at John Tomay Memorial Library.
URL:https://cccld.org/event/fosters-place-parachute-storytime/
LOCATION:Foster’s Place Playground\, Rose Street\, Georgetown\, CO\, 80444\, United States
CATEGORIES:Kids,Library Events
GEO:39.7046123;-105.6974721
X-APPLE-STRUCTURED-LOCATION;VALUE=URI;X-ADDRESS=Foster’s Place Playground Rose Street Georgetown CO 80444 United States;X-APPLE-RADIUS=500;X-TITLE=Rose Street:geo:-105.6974721,39.7046123
END:VEVENT
BEGIN:VEVENT
DTSTART;TZID=America/Denver:20250815T100000
DTEND;TZID=America/Denver:20250815T110000
DTSTAMP:20260421T021956
CREATED:20250731T161858Z
LAST-MODIFIED:20250731T162827Z
UID:10006786-1755252000-1755255600@cccld.org
SUMMARY:Wheels on the Bus Storytime - ISPL
DESCRIPTION:Beep beep – it’s a brand-new school year! Join us for stories and songs\, plus ICE CREAM!
URL:https://cccld.org/event/ispl-wheels-on-the-bus-storytime/
LOCATION:Idaho Springs Public Library\, 219 14th Avenue\, Idaho Springs\, CO\, 80452\, United States
CATEGORIES:Kids,Library Events
GEO:39.742052;-105.5183552
X-APPLE-STRUCTURED-LOCATION;VALUE=URI;X-ADDRESS=Idaho Springs Public Library 219 14th Avenue Idaho Springs CO 80452 United States;X-APPLE-RADIUS=500;X-TITLE=219 14th Avenue:geo:-105.5183552,39.742052
END:VEVENT
BEGIN:VEVENT
DTSTART;VALUE=DATE:20250813
DTEND;VALUE=DATE:20250814
DTSTAMP:20260421T021956
CREATED:20250731T170027Z
LAST-MODIFIED:20250731T170119Z
UID:10006792-1755043200-1755129599@cccld.org
SUMMARY:Back to School
DESCRIPTION:
URL:https://cccld.org/event/back-to-school/
LOCATION:CO
CATEGORIES:Adults,Kids,Library Events,Teens
END:VEVENT
BEGIN:VEVENT
DTSTART;TZID=America/Denver:20250808T140000
DTEND;TZID=America/Denver:20250808T160000
DTSTAMP:20260421T021956
CREATED:20231129T165752Z
LAST-MODIFIED:20250811T210129Z
UID:10006789-1754661600-1754668800@cccld.org
SUMMARY:ISPL-Virtual Reality
DESCRIPTION:Explore new worlds and great games at our virtual reality sessions for tweens and teens (ages 12 years and older). Registration is required. Please email heather@cccld.org to learn more and save your spot.
URL:https://cccld.org/event/ispl-virtual-reality-7/2025-08-08/
LOCATION:CO
CATEGORIES:Kids,Library Events,Teens
END:VEVENT
BEGIN:VEVENT
DTSTART;TZID=America/Denver:20250725T140000
DTEND;TZID=America/Denver:20250725T160000
DTSTAMP:20260421T021956
CREATED:20240808T155226Z
LAST-MODIFIED:20260120T201242Z
UID:10006775-1753452000-1753459200@cccld.org
SUMMARY:JTML-Virtual Reality
DESCRIPTION:Explore new worlds and great games at our virtual reality sessions for tweens and teens (ages 12 years and older). Registration is required. Please email heather@cccld.org to learn more and save your spot.
URL:https://cccld.org/event/jtml-virtual-reality-7-2/2025-07-25/
LOCATION:John Tomay Memorial Library\, 605 6th Street\, Georgetown\, CO\, 80444\, United States
CATEGORIES:Kids,Library Events,Teens
GEO:39.7061997;-105.6974142
X-APPLE-STRUCTURED-LOCATION;VALUE=URI;X-ADDRESS=John Tomay Memorial Library 605 6th Street Georgetown CO 80444 United States;X-APPLE-RADIUS=500;X-TITLE=605 6th Street:geo:-105.6974142,39.7061997
END:VEVENT
BEGIN:VEVENT
DTSTART;TZID=America/Denver:20250722T083000
DTEND;TZID=America/Denver:20250722T143000
DTSTAMP:20260421T021956
CREATED:20250515T212010Z
LAST-MODIFIED:20250515T212010Z
UID:10006767-1753173000-1753194600@cccld.org
SUMMARY:Summer Reading-Art Museum Field Trip
DESCRIPTION:Celebrate your Summer Reading achievements with a trip to the Denver Art Museum! REGISTRATION required by Friday\, June 20!
URL:https://cccld.org/event/summer-reading-art-museum-field-trip/
LOCATION:CO
CATEGORIES:Kids,Library Events
END:VEVENT
BEGIN:VEVENT
DTSTART;TZID=America/Denver:20250717T100000
DTEND;TZID=America/Denver:20250717T110000
DTSTAMP:20260421T021956
CREATED:20250515T211643Z
LAST-MODIFIED:20250515T211643Z
UID:10006766-1752746400-1752750000@cccld.org
SUMMARY:JTML-Summer Reading
DESCRIPTION:Review complete reading groups and times at cccld.org/summer-reading/ Join us for Summer Reading 2025–Color Our World! Read\, imagine\, create-make this summer a masterpiece. Connect with other Clear Creek learners\, and read your way to wonderful prizes! Like all Library District programs\, Summer Reading is 100% free.
URL:https://cccld.org/event/jtml-summer-reading-4/2025-07-17/
LOCATION:CO
CATEGORIES:Kids,Library Events
END:VEVENT
BEGIN:VEVENT
DTSTART;TZID=America/Denver:20250715T100000
DTEND;TZID=America/Denver:20250715T110000
DTSTAMP:20260421T021956
CREATED:20250515T211343Z
LAST-MODIFIED:20250515T211343Z
UID:10006761-1752573600-1752577200@cccld.org
SUMMARY:ISPL-Summer Reading
DESCRIPTION:Review complete reading groups and times at cccld.org/summer-reading/ Join us for Summer Reading 2025–Color Our World! Read\, imagine\, create-make this summer a masterpiece. Connect with other Clear Creek learners\, and read your way to wonderful prizes! Like all Library District programs\, Summer Reading is 100% free.
URL:https://cccld.org/event/ispl-summer-reading-4/2025-07-15/
LOCATION:Idaho Springs Public Library\, 219 14th Avenue\, Idaho Springs\, CO\, 80452\, United States
CATEGORIES:Adults,Kids,Library Events,Teens
GEO:39.742052;-105.5183552
X-APPLE-STRUCTURED-LOCATION;VALUE=URI;X-ADDRESS=Idaho Springs Public Library 219 14th Avenue Idaho Springs CO 80452 United States;X-APPLE-RADIUS=500;X-TITLE=219 14th Avenue:geo:-105.5183552,39.742052
END:VEVENT
BEGIN:VEVENT
DTSTART;TZID=America/Denver:20250711T140000
DTEND;TZID=America/Denver:20250711T160000
DTSTAMP:20260421T021956
CREATED:20231129T165752Z
LAST-MODIFIED:20250811T210129Z
UID:10006774-1752242400-1752249600@cccld.org
SUMMARY:ISPL-Virtual Reality
DESCRIPTION:Explore new worlds and great games at our virtual reality sessions for tweens and teens (ages 12 years and older). Registration is required. Please email heather@cccld.org to learn more and save your spot.
URL:https://cccld.org/event/ispl-virtual-reality-7/2025-07-11/
LOCATION:CO
CATEGORIES:Kids,Library Events,Teens
END:VEVENT
BEGIN:VEVENT
DTSTART;TZID=America/Denver:20250710T100000
DTEND;TZID=America/Denver:20250710T110000
DTSTAMP:20260421T021956
CREATED:20250515T211643Z
LAST-MODIFIED:20250515T211643Z
UID:10006765-1752141600-1752145200@cccld.org
SUMMARY:JTML-Summer Reading
DESCRIPTION:Review complete reading groups and times at cccld.org/summer-reading/ Join us for Summer Reading 2025–Color Our World! Read\, imagine\, create-make this summer a masterpiece. Connect with other Clear Creek learners\, and read your way to wonderful prizes! Like all Library District programs\, Summer Reading is 100% free.
URL:https://cccld.org/event/jtml-summer-reading-4/2025-07-10/
LOCATION:CO
CATEGORIES:Kids,Library Events
END:VEVENT
BEGIN:VEVENT
DTSTART;TZID=America/Denver:20250708T100000
DTEND;TZID=America/Denver:20250708T110000
DTSTAMP:20260421T021956
CREATED:20250515T211343Z
LAST-MODIFIED:20250515T211343Z
UID:10006760-1751968800-1751972400@cccld.org
SUMMARY:ISPL-Summer Reading
DESCRIPTION:Review complete reading groups and times at cccld.org/summer-reading/ Join us for Summer Reading 2025–Color Our World! Read\, imagine\, create-make this summer a masterpiece. Connect with other Clear Creek learners\, and read your way to wonderful prizes! Like all Library District programs\, Summer Reading is 100% free.
URL:https://cccld.org/event/ispl-summer-reading-4/2025-07-08/
LOCATION:Idaho Springs Public Library\, 219 14th Avenue\, Idaho Springs\, CO\, 80452\, United States
CATEGORIES:Adults,Kids,Library Events,Teens
GEO:39.742052;-105.5183552
X-APPLE-STRUCTURED-LOCATION;VALUE=URI;X-ADDRESS=Idaho Springs Public Library 219 14th Avenue Idaho Springs CO 80452 United States;X-APPLE-RADIUS=500;X-TITLE=219 14th Avenue:geo:-105.5183552,39.742052
END:VEVENT
BEGIN:VEVENT
DTSTART;TZID=America/Denver:20250704T101500
DTEND;TZID=America/Denver:20250704T113000
DTSTAMP:20260421T021956
CREATED:20240617T211716Z
LAST-MODIFIED:20250618T161921Z
UID:10006495-1751624100-1751628600@cccld.org
SUMMARY:March in Kazoo Band Georgetown 4th of July Parade
DESCRIPTION:Hey kids! March in the Georgetown Fourth of July Parade with The Friends of the Georgetown Library\, Friday\, July 4. Meet at Werlin Park in Georgetown at 10:15 a.m. Kazoos provided! No kazoo experience necessary.
URL:https://cccld.org/event/kazoo-band-4th-of-july-parade-georgetown/
LOCATION:Werlin Park\, 1014 Taos Street\, Georgetown\, CO\, 80444\, United States
CATEGORIES:Community Events,Kids,Library Events,Teens
GEO:39.7098503;-105.6948933
X-APPLE-STRUCTURED-LOCATION;VALUE=URI;X-ADDRESS=Werlin Park 1014 Taos Street Georgetown CO 80444 United States;X-APPLE-RADIUS=500;X-TITLE=1014 Taos Street:geo:-105.6948933,39.7098503
END:VEVENT
BEGIN:VEVENT
DTSTART;TZID=America/Denver:20250704T100000
DTEND;TZID=America/Denver:20250706T160000
DTSTAMP:20260421T021956
CREATED:20210618T213151Z
LAST-MODIFIED:20250618T161704Z
UID:10005624-1751623200-1751817600@cccld.org
SUMMARY:JTML Friends BOOK SALE
DESCRIPTION:Friends of the Georgetown Library Book Sale. July 4-5 – 10 am – 4 pm @ John Tomay Memorial Library – 605 6th St.\, Georgetown\, CO.
URL:https://cccld.org/event/book-sale/
LOCATION:CO
CATEGORIES:Adults,Community Events,Kids,Library Events,Teens
END:VEVENT
BEGIN:VEVENT
DTSTART;VALUE=DATE:20250704
DTEND;VALUE=DATE:20250705
DTSTAMP:20260421T021956
CREATED:20250603T221047Z
LAST-MODIFIED:20250603T221047Z
UID:10006776-1751587200-1751673599@cccld.org
SUMMARY:LIBRARY CLOSED
DESCRIPTION:
URL:https://cccld.org/event/library-closed-29/
LOCATION:CO
CATEGORIES:Adults,Community Events,Kids,Library Events,Summer Reading
END:VEVENT
BEGIN:VEVENT
DTSTART;TZID=America/Denver:20250703T100000
DTEND;TZID=America/Denver:20250703T110000
DTSTAMP:20260421T021956
CREATED:20250515T211643Z
LAST-MODIFIED:20250515T211643Z
UID:10006764-1751536800-1751540400@cccld.org
SUMMARY:JTML-Summer Reading
DESCRIPTION:Review complete reading groups and times at cccld.org/summer-reading/ Join us for Summer Reading 2025–Color Our World! Read\, imagine\, create-make this summer a masterpiece. Connect with other Clear Creek learners\, and read your way to wonderful prizes! Like all Library District programs\, Summer Reading is 100% free.
URL:https://cccld.org/event/jtml-summer-reading-4/2025-07-03/
LOCATION:CO
CATEGORIES:Kids,Library Events
END:VEVENT
BEGIN:VEVENT
DTSTART;TZID=America/Denver:20250701T100000
DTEND;TZID=America/Denver:20250701T110000
DTSTAMP:20260421T021956
CREATED:20250515T211343Z
LAST-MODIFIED:20250515T211343Z
UID:10006759-1751364000-1751367600@cccld.org
SUMMARY:ISPL-Summer Reading
DESCRIPTION:Review complete reading groups and times at cccld.org/summer-reading/ Join us for Summer Reading 2025–Color Our World! Read\, imagine\, create-make this summer a masterpiece. Connect with other Clear Creek learners\, and read your way to wonderful prizes! Like all Library District programs\, Summer Reading is 100% free.
URL:https://cccld.org/event/ispl-summer-reading-4/2025-07-01/
LOCATION:Idaho Springs Public Library\, 219 14th Avenue\, Idaho Springs\, CO\, 80452\, United States
CATEGORIES:Adults,Kids,Library Events,Teens
GEO:39.742052;-105.5183552
X-APPLE-STRUCTURED-LOCATION;VALUE=URI;X-ADDRESS=Idaho Springs Public Library 219 14th Avenue Idaho Springs CO 80452 United States;X-APPLE-RADIUS=500;X-TITLE=219 14th Avenue:geo:-105.5183552,39.742052
END:VEVENT
BEGIN:VEVENT
DTSTART;TZID=America/Denver:20250627T140000
DTEND;TZID=America/Denver:20250627T160000
DTSTAMP:20260421T021956
CREATED:20240808T155226Z
LAST-MODIFIED:20260120T201242Z
UID:10006751-1751032800-1751040000@cccld.org
SUMMARY:JTML-Virtual Reality
DESCRIPTION:Explore new worlds and great games at our virtual reality sessions for tweens and teens (ages 12 years and older). Registration is required. Please email heather@cccld.org to learn more and save your spot.
URL:https://cccld.org/event/jtml-virtual-reality-7-2/2025-06-27/
LOCATION:John Tomay Memorial Library\, 605 6th Street\, Georgetown\, CO\, 80444\, United States
CATEGORIES:Kids,Library Events,Teens
GEO:39.7061997;-105.6974142
X-APPLE-STRUCTURED-LOCATION;VALUE=URI;X-ADDRESS=John Tomay Memorial Library 605 6th Street Georgetown CO 80444 United States;X-APPLE-RADIUS=500;X-TITLE=605 6th Street:geo:-105.6974142,39.7061997
END:VEVENT
BEGIN:VEVENT
DTSTART;TZID=America/Denver:20250626T100000
DTEND;TZID=America/Denver:20250626T110000
DTSTAMP:20260421T021956
CREATED:20250515T211643Z
LAST-MODIFIED:20250515T211643Z
UID:10006763-1750932000-1750935600@cccld.org
SUMMARY:JTML-Summer Reading
DESCRIPTION:Review complete reading groups and times at cccld.org/summer-reading/ Join us for Summer Reading 2025–Color Our World! Read\, imagine\, create-make this summer a masterpiece. Connect with other Clear Creek learners\, and read your way to wonderful prizes! Like all Library District programs\, Summer Reading is 100% free.
URL:https://cccld.org/event/jtml-summer-reading-4/2025-06-26/
LOCATION:CO
CATEGORIES:Kids,Library Events
END:VEVENT
BEGIN:VEVENT
DTSTART;TZID=America/Denver:20250624T100000
DTEND;TZID=America/Denver:20250624T110000
DTSTAMP:20260421T021956
CREATED:20250515T211343Z
LAST-MODIFIED:20250515T211343Z
UID:10006758-1750759200-1750762800@cccld.org
SUMMARY:ISPL-Summer Reading
DESCRIPTION:Review complete reading groups and times at cccld.org/summer-reading/ Join us for Summer Reading 2025–Color Our World! Read\, imagine\, create-make this summer a masterpiece. Connect with other Clear Creek learners\, and read your way to wonderful prizes! Like all Library District programs\, Summer Reading is 100% free.
URL:https://cccld.org/event/ispl-summer-reading-4/2025-06-24/
LOCATION:Idaho Springs Public Library\, 219 14th Avenue\, Idaho Springs\, CO\, 80452\, United States
CATEGORIES:Adults,Kids,Library Events,Teens
GEO:39.742052;-105.5183552
X-APPLE-STRUCTURED-LOCATION;VALUE=URI;X-ADDRESS=Idaho Springs Public Library 219 14th Avenue Idaho Springs CO 80452 United States;X-APPLE-RADIUS=500;X-TITLE=219 14th Avenue:geo:-105.5183552,39.742052
END:VEVENT
BEGIN:VEVENT
DTSTART;TZID=America/Denver:20250618T100000
DTEND;TZID=America/Denver:20250618T110000
DTSTAMP:20260421T021956
CREATED:20250515T211643Z
LAST-MODIFIED:20250515T211643Z
UID:10006762-1750240800-1750244400@cccld.org
SUMMARY:JTML-Summer Reading
DESCRIPTION:Review complete reading groups and times at cccld.org/summer-reading/ Join us for Summer Reading 2025–Color Our World! Read\, imagine\, create-make this summer a masterpiece. Connect with other Clear Creek learners\, and read your way to wonderful prizes! Like all Library District programs\, Summer Reading is 100% free.
URL:https://cccld.org/event/jtml-summer-reading-4/2025-06-18/
LOCATION:CO
CATEGORIES:Kids,Library Events
END:VEVENT
BEGIN:VEVENT
DTSTART;TZID=America/Denver:20250617T100000
DTEND;TZID=America/Denver:20250617T110000
DTSTAMP:20260421T021956
CREATED:20250515T211343Z
LAST-MODIFIED:20250515T211343Z
UID:10006757-1750154400-1750158000@cccld.org
SUMMARY:ISPL-Summer Reading
DESCRIPTION:Review complete reading groups and times at cccld.org/summer-reading/ Join us for Summer Reading 2025–Color Our World! Read\, imagine\, create-make this summer a masterpiece. Connect with other Clear Creek learners\, and read your way to wonderful prizes! Like all Library District programs\, Summer Reading is 100% free.
URL:https://cccld.org/event/ispl-summer-reading-4/2025-06-17/
LOCATION:Idaho Springs Public Library\, 219 14th Avenue\, Idaho Springs\, CO\, 80452\, United States
CATEGORIES:Adults,Kids,Library Events,Teens
GEO:39.742052;-105.5183552
X-APPLE-STRUCTURED-LOCATION;VALUE=URI;X-ADDRESS=Idaho Springs Public Library 219 14th Avenue Idaho Springs CO 80452 United States;X-APPLE-RADIUS=500;X-TITLE=219 14th Avenue:geo:-105.5183552,39.742052
END:VEVENT
BEGIN:VEVENT
DTSTART;TZID=America/Denver:20250613T140000
DTEND;TZID=America/Denver:20250613T160000
DTSTAMP:20260421T021956
CREATED:20231129T165752Z
LAST-MODIFIED:20250811T210129Z
UID:10006750-1749823200-1749830400@cccld.org
SUMMARY:ISPL-Virtual Reality
DESCRIPTION:Explore new worlds and great games at our virtual reality sessions for tweens and teens (ages 12 years and older). Registration is required. Please email heather@cccld.org to learn more and save your spot.
URL:https://cccld.org/event/ispl-virtual-reality-7/2025-06-13/
LOCATION:CO
CATEGORIES:Kids,Library Events,Teens
END:VEVENT
BEGIN:VEVENT
DTSTART;TZID=America/Denver:20250530T140000
DTEND;TZID=America/Denver:20250530T160000
DTSTAMP:20260421T021956
CREATED:20240808T155226Z
LAST-MODIFIED:20260120T201242Z
UID:10006661-1748613600-1748620800@cccld.org
SUMMARY:JTML-Virtual Reality
DESCRIPTION:Explore new worlds and great games at our virtual reality sessions for tweens and teens (ages 12 years and older). Registration is required. Please email heather@cccld.org to learn more and save your spot.
URL:https://cccld.org/event/jtml-virtual-reality-7-2/2025-05-30/
LOCATION:John Tomay Memorial Library\, 605 6th Street\, Georgetown\, CO\, 80444\, United States
CATEGORIES:Kids,Library Events,Teens
GEO:39.7061997;-105.6974142
X-APPLE-STRUCTURED-LOCATION;VALUE=URI;X-ADDRESS=John Tomay Memorial Library 605 6th Street Georgetown CO 80444 United States;X-APPLE-RADIUS=500;X-TITLE=605 6th Street:geo:-105.6974142,39.7061997
END:VEVENT
BEGIN:VEVENT
DTSTART;TZID=America/Denver:20250530T100000
DTEND;TZID=America/Denver:20250530T110000
DTSTAMP:20260421T021956
CREATED:20250515T210734Z
LAST-MODIFIED:20250515T210821Z
UID:10006756-1748599200-1748602800@cccld.org
SUMMARY:JTML - Build It! Storytime
DESCRIPTION:Gear up for a build-tastic storytime!
URL:https://cccld.org/event/jtml-build-it-storytime/
LOCATION:John Tomay Memorial Library\, 605 6th Street\, Georgetown\, CO\, 80444\, United States
CATEGORIES:Kids,Library Events
GEO:39.7061997;-105.6974142
X-APPLE-STRUCTURED-LOCATION;VALUE=URI;X-ADDRESS=John Tomay Memorial Library 605 6th Street Georgetown CO 80444 United States;X-APPLE-RADIUS=500;X-TITLE=605 6th Street:geo:-105.6974142,39.7061997
END:VEVENT
BEGIN:VEVENT
DTSTART;TZID=America/Denver:20250524T100000
DTEND;TZID=America/Denver:20250526T160000
DTSTAMP:20260421T021956
CREATED:20250418T155519Z
LAST-MODIFIED:20250418T155519Z
UID:10006663-1748080800-1748275200@cccld.org
SUMMARY:JTML-Friends of Georgetown Library Book Sale
DESCRIPTION:Don’t miss the Friends of the Georgetown Library Memorial Day Book Sale\, at the John Tomay Memorial Library\, 605 6th Street\, Georgetown\, CO\, from Saturday\, May 24\, to Monday\, May 26\, 10 am—4 pm.
URL:https://cccld.org/event/jtml-friends-of-georgetown-library-book-sale/
LOCATION:John Tomay Memorial Library\, 605 6th Street\, Georgetown\, CO\, 80444\, United States
CATEGORIES:Adults,Community Events,Kids,Library Events,Teens
GEO:39.7061997;-105.6974142
X-APPLE-STRUCTURED-LOCATION;VALUE=URI;X-ADDRESS=John Tomay Memorial Library 605 6th Street Georgetown CO 80444 United States;X-APPLE-RADIUS=500;X-TITLE=605 6th Street:geo:-105.6974142,39.7061997
END:VEVENT
BEGIN:VEVENT
DTSTART;TZID=America/Denver:20250523T100000
DTEND;TZID=America/Denver:20250523T110000
DTSTAMP:20260421T021956
CREATED:20250515T210620Z
LAST-MODIFIED:20250515T210620Z
UID:10006755-1747994400-1747998000@cccld.org
SUMMARY:ISPL - FLower Storytime
DESCRIPTION:Bloom into storytime with petal-powered fun!
URL:https://cccld.org/event/ispl-flower-storytime/
LOCATION:Idaho Springs Public Library\, 219 14th Avenue\, Idaho Springs\, CO\, 80452\, United States
CATEGORIES:Kids,Library Events
GEO:39.742052;-105.5183552
X-APPLE-STRUCTURED-LOCATION;VALUE=URI;X-ADDRESS=Idaho Springs Public Library 219 14th Avenue Idaho Springs CO 80452 United States;X-APPLE-RADIUS=500;X-TITLE=219 14th Avenue:geo:-105.5183552,39.742052
END:VEVENT
END:VCALENDAR