BEGIN:VCALENDAR
VERSION:2.0
PRODID:-//Clear Creek County Library District - ECPv6.15.16//NONSGML v1.0//EN
CALSCALE:GREGORIAN
METHOD:PUBLISH
X-WR-CALNAME:Clear Creek County Library District
X-ORIGINAL-URL:https://cccld.org
X-WR-CALDESC:Events for Clear Creek County Library District
REFRESH-INTERVAL;VALUE=DURATION:PT1H
X-Robots-Tag:noindex
X-PUBLISHED-TTL:PT1H
BEGIN:VTIMEZONE
TZID:America/Denver
BEGIN:DAYLIGHT
TZOFFSETFROM:-0700
TZOFFSETTO:-0600
TZNAME:MDT
DTSTART:20210314T090000
END:DAYLIGHT
BEGIN:STANDARD
TZOFFSETFROM:-0600
TZOFFSETTO:-0700
TZNAME:MST
DTSTART:20211107T080000
END:STANDARD
BEGIN:DAYLIGHT
TZOFFSETFROM:-0700
TZOFFSETTO:-0600
TZNAME:MDT
DTSTART:20220313T090000
END:DAYLIGHT
BEGIN:STANDARD
TZOFFSETFROM:-0600
TZOFFSETTO:-0700
TZNAME:MST
DTSTART:20221106T080000
END:STANDARD
BEGIN:DAYLIGHT
TZOFFSETFROM:-0700
TZOFFSETTO:-0600
TZNAME:MDT
DTSTART:20230312T090000
END:DAYLIGHT
BEGIN:STANDARD
TZOFFSETFROM:-0600
TZOFFSETTO:-0700
TZNAME:MST
DTSTART:20231105T080000
END:STANDARD
END:VTIMEZONE
BEGIN:VEVENT
DTSTART;TZID=America/Denver:20220324T190000
DTEND;TZID=America/Denver:20220324T200000
DTSTAMP:20260425T213004
CREATED:20200406T173842Z
LAST-MODIFIED:20220328T213223Z
UID:10004927-1648148400-1648152000@cccld.org
SUMMARY:Virtual Goodnight Storytime
DESCRIPTION:Get ready for bed with Miss Holly and Miss Honeybun during our Virtual Goodnight Storytime. Join us live on our Facebook page at 7pm every Thursday.
URL:https://cccld.org/event/virtual-bedtime-storytime/2022-03-24/
LOCATION:CO\, 80444\, United States
CATEGORIES:Kids,Library Events
GEO:39.7104468;-105.6969788
END:VEVENT
BEGIN:VEVENT
DTSTART;TZID=America/Denver:20220324T190000
DTEND;TZID=America/Denver:20220324T200000
DTSTAMP:20260425T213004
CREATED:20220111T160356Z
LAST-MODIFIED:20220222T170637Z
UID:10005722-1648148400-1648152000@cccld.org
SUMMARY:Virtual Starlight Stories
DESCRIPTION:Hop online for live\, interactive storytimes. Email holly@cccld.org to learn more and reserve your supplies.
URL:https://cccld.org/event/virtual-starlight-stories/2022-03-24/
LOCATION:CO\, 80444\, United States
CATEGORIES:Kids,Library Events
GEO:39.7104468;-105.6969788
END:VEVENT
BEGIN:VEVENT
DTSTART;TZID=America/Denver:20220324T111500
DTEND;TZID=America/Denver:20220324T111500
DTSTAMP:20260425T213004
CREATED:20211026T215648Z
LAST-MODIFIED:20220301T221228Z
UID:10005667-1648120500-1648120500@cccld.org
SUMMARY:JTML Storytime
DESCRIPTION:Join us for storytime and crafts at the John Tomay Memorial Library.
URL:https://cccld.org/event/jtml-storytime-8/2022-03-24/
LOCATION:John Tomay Memorial Library\, 605 6th Street\, Georgetown\, CO\, 80444\, United States
CATEGORIES:Kids,Library Events
GEO:39.7061997;-105.6974142
X-APPLE-STRUCTURED-LOCATION;VALUE=URI;X-ADDRESS=John Tomay Memorial Library 605 6th Street Georgetown CO 80444 United States;X-APPLE-RADIUS=500;X-TITLE=605 6th Street:geo:-105.6974142,39.7061997
END:VEVENT
BEGIN:VEVENT
DTSTART;TZID=America/Denver:20220322T153000
DTEND;TZID=America/Denver:20220322T163000
DTSTAMP:20260425T213004
CREATED:20220222T162954Z
LAST-MODIFIED:20220301T204036Z
UID:10005745-1647963000-1647966600@cccld.org
SUMMARY:ISPL Introductory American Sign Language
DESCRIPTION:Introductory American Sign Language at the Idaho Springs Public Library. To learn more\, email joe@cccld.org
URL:https://cccld.org/event/american-sign-language/2022-03-22/
LOCATION:Idaho Springs Public Library\, 219 14th Avenue\, Idaho Springs\, CO\, 80452\, United States
CATEGORIES:Kids,Library Events,Teens
GEO:39.742052;-105.5183552
X-APPLE-STRUCTURED-LOCATION;VALUE=URI;X-ADDRESS=Idaho Springs Public Library 219 14th Avenue Idaho Springs CO 80452 United States;X-APPLE-RADIUS=500;X-TITLE=219 14th Avenue:geo:-105.5183552,39.742052
END:VEVENT
BEGIN:VEVENT
DTSTART;TZID=America/Denver:20220322T111500
DTEND;TZID=America/Denver:20220322T111500
DTSTAMP:20260425T213004
CREATED:20211026T215431Z
LAST-MODIFIED:20220301T221537Z
UID:10005056-1647947700-1647947700@cccld.org
SUMMARY:ISPL Storytime
DESCRIPTION:Join us for storytime and crafts at the Idaho Springs Public Library.
URL:https://cccld.org/event/ispl-storytime-8/2022-03-22/
LOCATION:CO\, 80444\, United States
CATEGORIES:Kids,Library Events
GEO:39.7104468;-105.6969788
END:VEVENT
BEGIN:VEVENT
DTSTART;TZID=America/Denver:20220321T130000
DTEND;TZID=America/Denver:20220321T160000
DTSTAMP:20260425T213004
CREATED:20220222T170209Z
LAST-MODIFIED:20220222T170209Z
UID:10005751-1647867600-1647878400@cccld.org
SUMMARY:JTML Virtual Reality
DESCRIPTION:Join the fun with the new Oculus Quest 2.
URL:https://cccld.org/event/jtml-virtual-reality/
LOCATION:John Tomay Memorial Library\, 605 6th Street\, Georgetown\, CO\, 80444\, United States
CATEGORIES:Kids,Teens
GEO:39.7061997;-105.6974142
X-APPLE-STRUCTURED-LOCATION;VALUE=URI;X-ADDRESS=John Tomay Memorial Library 605 6th Street Georgetown CO 80444 United States;X-APPLE-RADIUS=500;X-TITLE=605 6th Street:geo:-105.6974142,39.7061997
END:VEVENT
BEGIN:VEVENT
DTSTART;TZID=America/Denver:20220317T190000
DTEND;TZID=America/Denver:20220317T200000
DTSTAMP:20260425T213004
CREATED:20200406T173842Z
LAST-MODIFIED:20220328T213223Z
UID:10004926-1647543600-1647547200@cccld.org
SUMMARY:Virtual Goodnight Storytime
DESCRIPTION:Get ready for bed with Miss Holly and Miss Honeybun during our Virtual Goodnight Storytime. Join us live on our Facebook page at 7pm every Thursday.
URL:https://cccld.org/event/virtual-bedtime-storytime/2022-03-17/
LOCATION:CO\, 80444\, United States
CATEGORIES:Kids,Library Events
GEO:39.7104468;-105.6969788
END:VEVENT
BEGIN:VEVENT
DTSTART;TZID=America/Denver:20220317T190000
DTEND;TZID=America/Denver:20220317T200000
DTSTAMP:20260425T213004
CREATED:20220111T160356Z
LAST-MODIFIED:20220222T170637Z
UID:10005721-1647543600-1647547200@cccld.org
SUMMARY:Virtual Starlight Stories
DESCRIPTION:Hop online for live\, interactive storytimes. Email holly@cccld.org to learn more and reserve your supplies.
URL:https://cccld.org/event/virtual-starlight-stories/2022-03-17/
LOCATION:CO\, 80444\, United States
CATEGORIES:Kids,Library Events
GEO:39.7104468;-105.6969788
END:VEVENT
BEGIN:VEVENT
DTSTART;TZID=America/Denver:20220317T111500
DTEND;TZID=America/Denver:20220317T111500
DTSTAMP:20260425T213004
CREATED:20211026T215648Z
LAST-MODIFIED:20220301T221228Z
UID:10005666-1647515700-1647515700@cccld.org
SUMMARY:JTML Storytime
DESCRIPTION:Join us for storytime and crafts at the John Tomay Memorial Library.
URL:https://cccld.org/event/jtml-storytime-8/2022-03-17/
LOCATION:John Tomay Memorial Library\, 605 6th Street\, Georgetown\, CO\, 80444\, United States
CATEGORIES:Kids,Library Events
GEO:39.7061997;-105.6974142
X-APPLE-STRUCTURED-LOCATION;VALUE=URI;X-ADDRESS=John Tomay Memorial Library 605 6th Street Georgetown CO 80444 United States;X-APPLE-RADIUS=500;X-TITLE=605 6th Street:geo:-105.6974142,39.7061997
END:VEVENT
BEGIN:VEVENT
DTSTART;TZID=America/Denver:20220315T153000
DTEND;TZID=America/Denver:20220315T163000
DTSTAMP:20260425T213004
CREATED:20220222T162954Z
LAST-MODIFIED:20220301T204036Z
UID:10005744-1647358200-1647361800@cccld.org
SUMMARY:ISPL Introductory American Sign Language
DESCRIPTION:Introductory American Sign Language at the Idaho Springs Public Library. To learn more\, email joe@cccld.org
URL:https://cccld.org/event/american-sign-language/2022-03-15/
LOCATION:Idaho Springs Public Library\, 219 14th Avenue\, Idaho Springs\, CO\, 80452\, United States
CATEGORIES:Kids,Library Events,Teens
GEO:39.742052;-105.5183552
X-APPLE-STRUCTURED-LOCATION;VALUE=URI;X-ADDRESS=Idaho Springs Public Library 219 14th Avenue Idaho Springs CO 80452 United States;X-APPLE-RADIUS=500;X-TITLE=219 14th Avenue:geo:-105.5183552,39.742052
END:VEVENT
BEGIN:VEVENT
DTSTART;TZID=America/Denver:20220315T111500
DTEND;TZID=America/Denver:20220315T111500
DTSTAMP:20260425T213004
CREATED:20211026T215431Z
LAST-MODIFIED:20220301T221537Z
UID:10005055-1647342900-1647342900@cccld.org
SUMMARY:ISPL Storytime
DESCRIPTION:Join us for storytime and crafts at the Idaho Springs Public Library.
URL:https://cccld.org/event/ispl-storytime-8/2022-03-15/
LOCATION:CO\, 80444\, United States
CATEGORIES:Kids,Library Events
GEO:39.7104468;-105.6969788
END:VEVENT
BEGIN:VEVENT
DTSTART;TZID=America/Denver:20220310T190000
DTEND;TZID=America/Denver:20220310T200000
DTSTAMP:20260425T213004
CREATED:20200406T173842Z
LAST-MODIFIED:20220328T213223Z
UID:10004925-1646938800-1646942400@cccld.org
SUMMARY:Virtual Goodnight Storytime
DESCRIPTION:Get ready for bed with Miss Holly and Miss Honeybun during our Virtual Goodnight Storytime. Join us live on our Facebook page at 7pm every Thursday.
URL:https://cccld.org/event/virtual-bedtime-storytime/2022-03-10/
LOCATION:CO\, 80444\, United States
CATEGORIES:Kids,Library Events
GEO:39.7104468;-105.6969788
END:VEVENT
BEGIN:VEVENT
DTSTART;TZID=America/Denver:20220310T190000
DTEND;TZID=America/Denver:20220310T200000
DTSTAMP:20260425T213004
CREATED:20220111T160356Z
LAST-MODIFIED:20220222T170637Z
UID:10005720-1646938800-1646942400@cccld.org
SUMMARY:Virtual Starlight Stories
DESCRIPTION:Hop online for live\, interactive storytimes. Email holly@cccld.org to learn more and reserve your supplies.
URL:https://cccld.org/event/virtual-starlight-stories/2022-03-10/
LOCATION:CO\, 80444\, United States
CATEGORIES:Kids,Library Events
GEO:39.7104468;-105.6969788
END:VEVENT
BEGIN:VEVENT
DTSTART;TZID=America/Denver:20220310T111500
DTEND;TZID=America/Denver:20220310T111500
DTSTAMP:20260425T213004
CREATED:20211026T215648Z
LAST-MODIFIED:20220301T221228Z
UID:10005665-1646910900-1646910900@cccld.org
SUMMARY:JTML Storytime
DESCRIPTION:Join us for storytime and crafts at the John Tomay Memorial Library.
URL:https://cccld.org/event/jtml-storytime-8/2022-03-10/
LOCATION:John Tomay Memorial Library\, 605 6th Street\, Georgetown\, CO\, 80444\, United States
CATEGORIES:Kids,Library Events
GEO:39.7061997;-105.6974142
X-APPLE-STRUCTURED-LOCATION;VALUE=URI;X-ADDRESS=John Tomay Memorial Library 605 6th Street Georgetown CO 80444 United States;X-APPLE-RADIUS=500;X-TITLE=605 6th Street:geo:-105.6974142,39.7061997
END:VEVENT
BEGIN:VEVENT
DTSTART;TZID=America/Denver:20220308T153000
DTEND;TZID=America/Denver:20220308T163000
DTSTAMP:20260425T213004
CREATED:20220222T162954Z
LAST-MODIFIED:20220301T204036Z
UID:10005743-1646753400-1646757000@cccld.org
SUMMARY:ISPL Introductory American Sign Language
DESCRIPTION:Introductory American Sign Language at the Idaho Springs Public Library. To learn more\, email joe@cccld.org
URL:https://cccld.org/event/american-sign-language/2022-03-08/
LOCATION:Idaho Springs Public Library\, 219 14th Avenue\, Idaho Springs\, CO\, 80452\, United States
CATEGORIES:Kids,Library Events,Teens
GEO:39.742052;-105.5183552
X-APPLE-STRUCTURED-LOCATION;VALUE=URI;X-ADDRESS=Idaho Springs Public Library 219 14th Avenue Idaho Springs CO 80452 United States;X-APPLE-RADIUS=500;X-TITLE=219 14th Avenue:geo:-105.5183552,39.742052
END:VEVENT
BEGIN:VEVENT
DTSTART;TZID=America/Denver:20220308T111500
DTEND;TZID=America/Denver:20220308T111500
DTSTAMP:20260425T213004
CREATED:20211026T215431Z
LAST-MODIFIED:20220301T221537Z
UID:10005054-1646738100-1646738100@cccld.org
SUMMARY:ISPL Storytime
DESCRIPTION:Join us for storytime and crafts at the Idaho Springs Public Library.
URL:https://cccld.org/event/ispl-storytime-8/2022-03-08/
LOCATION:CO\, 80444\, United States
CATEGORIES:Kids,Library Events
GEO:39.7104468;-105.6969788
END:VEVENT
BEGIN:VEVENT
DTSTART;TZID=America/Denver:20220303T190000
DTEND;TZID=America/Denver:20220303T200000
DTSTAMP:20260425T213004
CREATED:20200406T173842Z
LAST-MODIFIED:20220328T213223Z
UID:10004924-1646334000-1646337600@cccld.org
SUMMARY:Virtual Goodnight Storytime
DESCRIPTION:Get ready for bed with Miss Holly and Miss Honeybun during our Virtual Goodnight Storytime. Join us live on our Facebook page at 7pm every Thursday.
URL:https://cccld.org/event/virtual-bedtime-storytime/2022-03-03/
LOCATION:CO\, 80444\, United States
CATEGORIES:Kids,Library Events
GEO:39.7104468;-105.6969788
END:VEVENT
BEGIN:VEVENT
DTSTART;TZID=America/Denver:20220303T190000
DTEND;TZID=America/Denver:20220303T200000
DTSTAMP:20260425T213004
CREATED:20220111T160356Z
LAST-MODIFIED:20220222T170637Z
UID:10005719-1646334000-1646337600@cccld.org
SUMMARY:Virtual Starlight Stories
DESCRIPTION:Hop online for live\, interactive storytimes. Email holly@cccld.org to learn more and reserve your supplies.
URL:https://cccld.org/event/virtual-starlight-stories/2022-03-03/
LOCATION:CO\, 80444\, United States
CATEGORIES:Kids,Library Events
GEO:39.7104468;-105.6969788
END:VEVENT
BEGIN:VEVENT
DTSTART;TZID=America/Denver:20220303T111500
DTEND;TZID=America/Denver:20220303T111500
DTSTAMP:20260425T213004
CREATED:20211026T215648Z
LAST-MODIFIED:20220301T221228Z
UID:10005664-1646306100-1646306100@cccld.org
SUMMARY:JTML Storytime
DESCRIPTION:Join us for storytime and crafts at the John Tomay Memorial Library.
URL:https://cccld.org/event/jtml-storytime-8/2022-03-03/
LOCATION:John Tomay Memorial Library\, 605 6th Street\, Georgetown\, CO\, 80444\, United States
CATEGORIES:Kids,Library Events
GEO:39.7061997;-105.6974142
X-APPLE-STRUCTURED-LOCATION;VALUE=URI;X-ADDRESS=John Tomay Memorial Library 605 6th Street Georgetown CO 80444 United States;X-APPLE-RADIUS=500;X-TITLE=605 6th Street:geo:-105.6974142,39.7061997
END:VEVENT
BEGIN:VEVENT
DTSTART;TZID=America/Denver:20220301T153000
DTEND;TZID=America/Denver:20220301T163000
DTSTAMP:20260425T213004
CREATED:20220222T162954Z
LAST-MODIFIED:20220301T204036Z
UID:10005742-1646148600-1646152200@cccld.org
SUMMARY:ISPL Introductory American Sign Language
DESCRIPTION:Introductory American Sign Language at the Idaho Springs Public Library. To learn more\, email joe@cccld.org
URL:https://cccld.org/event/american-sign-language/2022-03-01/
LOCATION:Idaho Springs Public Library\, 219 14th Avenue\, Idaho Springs\, CO\, 80452\, United States
CATEGORIES:Kids,Library Events,Teens
GEO:39.742052;-105.5183552
X-APPLE-STRUCTURED-LOCATION;VALUE=URI;X-ADDRESS=Idaho Springs Public Library 219 14th Avenue Idaho Springs CO 80452 United States;X-APPLE-RADIUS=500;X-TITLE=219 14th Avenue:geo:-105.5183552,39.742052
END:VEVENT
BEGIN:VEVENT
DTSTART;TZID=America/Denver:20220301T111500
DTEND;TZID=America/Denver:20220301T111500
DTSTAMP:20260425T213004
CREATED:20211026T215431Z
LAST-MODIFIED:20220301T221537Z
UID:10005053-1646133300-1646133300@cccld.org
SUMMARY:ISPL Storytime
DESCRIPTION:Join us for storytime and crafts at the Idaho Springs Public Library.
URL:https://cccld.org/event/ispl-storytime-8/2022-03-01/
LOCATION:CO\, 80444\, United States
CATEGORIES:Kids,Library Events
GEO:39.7104468;-105.6969788
END:VEVENT
BEGIN:VEVENT
DTSTART;TZID=America/Denver:20220224T190000
DTEND;TZID=America/Denver:20220224T200000
DTSTAMP:20260425T213004
CREATED:20200406T173842Z
LAST-MODIFIED:20220328T213223Z
UID:10004923-1645729200-1645732800@cccld.org
SUMMARY:Virtual Goodnight Storytime
DESCRIPTION:Get ready for bed with Miss Holly and Miss Honeybun during our Virtual Goodnight Storytime. Join us live on our Facebook page at 7pm every Thursday.
URL:https://cccld.org/event/virtual-bedtime-storytime/2022-02-24/
LOCATION:CO\, 80444\, United States
CATEGORIES:Kids,Library Events
GEO:39.7104468;-105.6969788
END:VEVENT
BEGIN:VEVENT
DTSTART;TZID=America/Denver:20220223T111500
DTEND;TZID=America/Denver:20220223T111500
DTSTAMP:20260425T213004
CREATED:20200406T172950Z
LAST-MODIFIED:20211207T224229Z
UID:10004861-1645614900-1645614900@cccld.org
SUMMARY:Virtual Storytime
DESCRIPTION:Hop into Storytime Miss Holly and Miss Honeybun join us live on our Facebook page at 11:15 am every Wednesday.
URL:https://cccld.org/event/virtual-storytime/2022-02-23/
LOCATION:CO\, 80444\, United States
CATEGORIES:Kids,Library Events
GEO:39.7104468;-105.6969788
END:VEVENT
BEGIN:VEVENT
DTSTART;TZID=America/Denver:20220222T113000
DTEND;TZID=America/Denver:20220222T123000
DTSTAMP:20260425T213004
CREATED:20220111T160236Z
LAST-MODIFIED:20220128T165957Z
UID:10005718-1645529400-1645533000@cccld.org
SUMMARY:Virtual Story Garden
DESCRIPTION:In January\, hop online for live\, interactive storytimes. Email holly@cccld.org to learn more and reserve your supplies.
URL:https://cccld.org/event/virtual-story-garden/2022-02-22/
LOCATION:CO\, 80444\, United States
CATEGORIES:Kids,Library Events
GEO:39.7104468;-105.6969788
END:VEVENT
BEGIN:VEVENT
DTSTART;TZID=America/Denver:20220218T130000
DTEND;TZID=America/Denver:20220218T150000
DTSTAMP:20260425T213004
CREATED:20220128T164511Z
LAST-MODIFIED:20220128T164511Z
UID:10005733-1645189200-1645196400@cccld.org
SUMMARY:Kids' Snowshoe Adventure
DESCRIPTION:Join us for a guided snowshoe hike with Georgetown Outdoor Adventure. To learn more and register please contact holly@cccld.org
URL:https://cccld.org/event/kids-snowshoe-adventure/
LOCATION:CO\, 80444\, United States
CATEGORIES:Kids,Library Events
GEO:39.7104468;-105.6969788
END:VEVENT
BEGIN:VEVENT
DTSTART;TZID=America/Denver:20220217T190000
DTEND;TZID=America/Denver:20220217T200000
DTSTAMP:20260425T213004
CREATED:20200406T173842Z
LAST-MODIFIED:20220328T213223Z
UID:10004922-1645124400-1645128000@cccld.org
SUMMARY:Virtual Goodnight Storytime
DESCRIPTION:Get ready for bed with Miss Holly and Miss Honeybun during our Virtual Goodnight Storytime. Join us live on our Facebook page at 7pm every Thursday.
URL:https://cccld.org/event/virtual-bedtime-storytime/2022-02-17/
LOCATION:CO\, 80444\, United States
CATEGORIES:Kids,Library Events
GEO:39.7104468;-105.6969788
END:VEVENT
BEGIN:VEVENT
DTSTART;TZID=America/Denver:20220216T111500
DTEND;TZID=America/Denver:20220216T111500
DTSTAMP:20260425T213004
CREATED:20200406T172950Z
LAST-MODIFIED:20211207T224229Z
UID:10004860-1645010100-1645010100@cccld.org
SUMMARY:Virtual Storytime
DESCRIPTION:Hop into Storytime Miss Holly and Miss Honeybun join us live on our Facebook page at 11:15 am every Wednesday.
URL:https://cccld.org/event/virtual-storytime/2022-02-16/
LOCATION:CO\, 80444\, United States
CATEGORIES:Kids,Library Events
GEO:39.7104468;-105.6969788
END:VEVENT
BEGIN:VEVENT
DTSTART;TZID=America/Denver:20220215T113000
DTEND;TZID=America/Denver:20220215T123000
DTSTAMP:20260425T213004
CREATED:20220111T160236Z
LAST-MODIFIED:20220128T165957Z
UID:10005717-1644924600-1644928200@cccld.org
SUMMARY:Virtual Story Garden
DESCRIPTION:In January\, hop online for live\, interactive storytimes. Email holly@cccld.org to learn more and reserve your supplies.
URL:https://cccld.org/event/virtual-story-garden/2022-02-15/
LOCATION:CO\, 80444\, United States
CATEGORIES:Kids,Library Events
GEO:39.7104468;-105.6969788
END:VEVENT
BEGIN:VEVENT
DTSTART;TZID=America/Denver:20220210T190000
DTEND;TZID=America/Denver:20220210T200000
DTSTAMP:20260425T213004
CREATED:20200406T173842Z
LAST-MODIFIED:20220328T213223Z
UID:10004921-1644519600-1644523200@cccld.org
SUMMARY:Virtual Goodnight Storytime
DESCRIPTION:Get ready for bed with Miss Holly and Miss Honeybun during our Virtual Goodnight Storytime. Join us live on our Facebook page at 7pm every Thursday.
URL:https://cccld.org/event/virtual-bedtime-storytime/2022-02-10/
LOCATION:CO\, 80444\, United States
CATEGORIES:Kids,Library Events
GEO:39.7104468;-105.6969788
END:VEVENT
BEGIN:VEVENT
DTSTART;TZID=America/Denver:20220209T111500
DTEND;TZID=America/Denver:20220209T111500
DTSTAMP:20260425T213004
CREATED:20200406T172950Z
LAST-MODIFIED:20211207T224229Z
UID:10004859-1644405300-1644405300@cccld.org
SUMMARY:Virtual Storytime
DESCRIPTION:Hop into Storytime Miss Holly and Miss Honeybun join us live on our Facebook page at 11:15 am every Wednesday.
URL:https://cccld.org/event/virtual-storytime/2022-02-09/
LOCATION:CO\, 80444\, United States
CATEGORIES:Kids,Library Events
GEO:39.7104468;-105.6969788
END:VEVENT
END:VCALENDAR