BEGIN:VCALENDAR
VERSION:2.0
PRODID:-//Clear Creek County Library District - ECPv6.15.16//NONSGML v1.0//EN
CALSCALE:GREGORIAN
METHOD:PUBLISH
X-WR-CALNAME:Clear Creek County Library District
X-ORIGINAL-URL:https://cccld.org
X-WR-CALDESC:Events for Clear Creek County Library District
REFRESH-INTERVAL;VALUE=DURATION:PT1H
X-Robots-Tag:noindex
X-PUBLISHED-TTL:PT1H
BEGIN:VTIMEZONE
TZID:America/Denver
BEGIN:DAYLIGHT
TZOFFSETFROM:-0700
TZOFFSETTO:-0600
TZNAME:MDT
DTSTART:20240310T090000
END:DAYLIGHT
BEGIN:STANDARD
TZOFFSETFROM:-0600
TZOFFSETTO:-0700
TZNAME:MST
DTSTART:20241103T080000
END:STANDARD
BEGIN:DAYLIGHT
TZOFFSETFROM:-0700
TZOFFSETTO:-0600
TZNAME:MDT
DTSTART:20250309T090000
END:DAYLIGHT
BEGIN:STANDARD
TZOFFSETFROM:-0600
TZOFFSETTO:-0700
TZNAME:MST
DTSTART:20251102T080000
END:STANDARD
BEGIN:DAYLIGHT
TZOFFSETFROM:-0700
TZOFFSETTO:-0600
TZNAME:MDT
DTSTART:20260308T090000
END:DAYLIGHT
BEGIN:STANDARD
TZOFFSETFROM:-0600
TZOFFSETTO:-0700
TZNAME:MST
DTSTART:20261101T080000
END:STANDARD
END:VTIMEZONE
BEGIN:VEVENT
DTSTART;TZID=America/Denver:20250516T140000
DTEND;TZID=America/Denver:20250516T160000
DTSTAMP:20260421T054737
CREATED:20231129T165752Z
LAST-MODIFIED:20250811T210129Z
UID:10006660-1747404000-1747411200@cccld.org
SUMMARY:ISPL-Virtual Reality
DESCRIPTION:Explore new worlds and great games at our virtual reality sessions for tweens and teens (ages 12 years and older). Registration is required. Please email heather@cccld.org to learn more and save your spot.
URL:https://cccld.org/event/ispl-virtual-reality-7/2025-05-16/
LOCATION:CO
CATEGORIES:Kids,Library Events,Teens
END:VEVENT
BEGIN:VEVENT
DTSTART;TZID=America/Denver:20250516T100000
DTEND;TZID=America/Denver:20250516T110000
DTSTAMP:20260421T054737
CREATED:20250515T210515Z
LAST-MODIFIED:20250515T210515Z
UID:10006754-1747389600-1747393200@cccld.org
SUMMARY:JTML - Caterpillar Storytime
DESCRIPTION:Wiggle into storytime with us.
URL:https://cccld.org/event/jtml-caterpillar-storytime/
LOCATION:John Tomay Memorial Library\, 605 6th Street\, Georgetown\, CO\, 80444\, United States
CATEGORIES:Kids,Library Events
GEO:39.7061997;-105.6974142
X-APPLE-STRUCTURED-LOCATION;VALUE=URI;X-ADDRESS=John Tomay Memorial Library 605 6th Street Georgetown CO 80444 United States;X-APPLE-RADIUS=500;X-TITLE=605 6th Street:geo:-105.6974142,39.7061997
END:VEVENT
BEGIN:VEVENT
DTSTART;TZID=America/Denver:20250509T140000
DTEND;TZID=America/Denver:20250509T160000
DTSTAMP:20260421T054737
CREATED:20250424T171321Z
LAST-MODIFIED:20250424T171321Z
UID:10006675-1746799200-1746806400@cccld.org
SUMMARY:ISPL-Werewolf Donut Den
DESCRIPTION:Join the Pack! Get your howl on with us! Wolf down donuts and enjoy playing “Werewolf.”
URL:https://cccld.org/event/ispl-werewolf-donut-den/
LOCATION:Idaho Springs Public Library\, 219 14th Avenue\, Idaho Springs\, CO\, 80452\, United States
CATEGORIES:Kids,Library Events,Teens
GEO:39.742052;-105.5183552
X-APPLE-STRUCTURED-LOCATION;VALUE=URI;X-ADDRESS=Idaho Springs Public Library 219 14th Avenue Idaho Springs CO 80452 United States;X-APPLE-RADIUS=500;X-TITLE=219 14th Avenue:geo:-105.5183552,39.742052
END:VEVENT
BEGIN:VEVENT
DTSTART;TZID=America/Denver:20250509T100000
DTEND;TZID=America/Denver:20250509T110000
DTSTAMP:20260421T054737
CREATED:20250515T210422Z
LAST-MODIFIED:20250515T210422Z
UID:10006753-1746784800-1746788400@cccld.org
SUMMARY:ISPL - Ice Cream Storytime
DESCRIPTION:Join us for a sweet storytime with sprinkles on top!
URL:https://cccld.org/event/ispl-ice-cream-storytime/
LOCATION:Idaho Springs Public Library\, 219 14th Avenue\, Idaho Springs\, CO\, 80452\, United States
CATEGORIES:Kids,Library Events
GEO:39.742052;-105.5183552
X-APPLE-STRUCTURED-LOCATION;VALUE=URI;X-ADDRESS=Idaho Springs Public Library 219 14th Avenue Idaho Springs CO 80452 United States;X-APPLE-RADIUS=500;X-TITLE=219 14th Avenue:geo:-105.5183552,39.742052
END:VEVENT
BEGIN:VEVENT
DTSTART;TZID=America/Denver:20250508T153000
DTEND;TZID=America/Denver:20250508T170000
DTSTAMP:20260421T054737
CREATED:20250424T171156Z
LAST-MODIFIED:20250424T171156Z
UID:10006674-1746718200-1746723600@cccld.org
SUMMARY:JTML-Werewolf Donut Den
DESCRIPTION:Join the Pack! Get your howl on with us! Wolf down donuts and enjoy playing “Werewolf” after school.
URL:https://cccld.org/event/jtml-werewolf-donut-den-2/
LOCATION:John Tomay Memorial Library\, 605 6th Street\, Georgetown\, CO\, 80444\, United States
CATEGORIES:Kids,Library Events,Teens
GEO:39.7061997;-105.6974142
X-APPLE-STRUCTURED-LOCATION;VALUE=URI;X-ADDRESS=John Tomay Memorial Library 605 6th Street Georgetown CO 80444 United States;X-APPLE-RADIUS=500;X-TITLE=605 6th Street:geo:-105.6974142,39.7061997
END:VEVENT
BEGIN:VEVENT
DTSTART;TZID=America/Denver:20250502T100000
DTEND;TZID=America/Denver:20250502T110000
DTSTAMP:20260421T054737
CREATED:20250515T210303Z
LAST-MODIFIED:20250515T210303Z
UID:10006752-1746180000-1746183600@cccld.org
SUMMARY:JTML- Shapes Storytime
DESCRIPTION:Squares and circles\, triangles too – let’s find the shapes in a story or two!
URL:https://cccld.org/event/jtml-shapes-storytime/
LOCATION:John Tomay Memorial Library\, 605 6th Street\, Georgetown\, CO\, 80444\, United States
CATEGORIES:Kids,Library Events
GEO:39.7061997;-105.6974142
X-APPLE-STRUCTURED-LOCATION;VALUE=URI;X-ADDRESS=John Tomay Memorial Library 605 6th Street Georgetown CO 80444 United States;X-APPLE-RADIUS=500;X-TITLE=605 6th Street:geo:-105.6974142,39.7061997
END:VEVENT
BEGIN:VEVENT
DTSTART;TZID=America/Denver:20250430T153000
DTEND;TZID=America/Denver:20250430T173000
DTSTAMP:20260421T054737
CREATED:20250326T161841Z
LAST-MODIFIED:20260320T202402Z
UID:10006642-1746027000-1746034200@cccld.org
SUMMARY:Día de los Niños Party
DESCRIPTION:Celebrate children\, families\, and literacy at our annual Día party! Refreshments\, traditional dance performances\, and a storytime en Español promise a lively time at this after-school fiesta.
URL:https://cccld.org/event/dia-de-los-ninos-4-2/2025-04-30/
LOCATION:Idaho Springs Public Library\, 219 14th Avenue\, Idaho Springs\, CO\, 80452\, United States
CATEGORIES:Adults,Kids,Library Events,Teens
GEO:39.742052;-105.5183552
X-APPLE-STRUCTURED-LOCATION;VALUE=URI;X-ADDRESS=Idaho Springs Public Library 219 14th Avenue Idaho Springs CO 80452 United States;X-APPLE-RADIUS=500;X-TITLE=219 14th Avenue:geo:-105.5183552,39.742052
END:VEVENT
BEGIN:VEVENT
DTSTART;VALUE=DATE:20250420
DTEND;VALUE=DATE:20250427
DTSTAMP:20260421T054737
CREATED:20250326T162457Z
LAST-MODIFIED:20260320T203051Z
UID:10006916-1745107200-1745711999@cccld.org
SUMMARY:Celebrate National Library Week!
DESCRIPTION:Celebrate National Library Week! This is an annual celebration highlighting the roles that libraries\, librarians\, and library workers play in transforming lives and strengthening communities. Stop by the Idaho Springs Public Library or the John Tomay Memorial Library for tea\, coffee\, and cookies. Fill out an entry form for prize drawings.
URL:https://cccld.org/event/national-library-week-4/2025-04-20/
LOCATION:CO
CATEGORIES:Adults,Kids,Library Events,Teens
END:VEVENT
BEGIN:VEVENT
DTSTART;TZID=America/Denver:20250411T140000
DTEND;TZID=America/Denver:20250411T150000
DTSTAMP:20260421T054737
CREATED:20250326T161539Z
LAST-MODIFIED:20250326T161539Z
UID:10006657-1744380000-1744383600@cccld.org
SUMMARY:JTML - Miss Honeybun's Springtime Hat Workshop
DESCRIPTION:Bring your favorite stuffed friend and get crafty with us at this springtime workshop!
URL:https://cccld.org/event/jtml-miss-honeybuns-springtime-hat-workshop/
LOCATION:John Tomay Memorial Library\, 605 6th Street\, Georgetown\, CO\, 80444\, United States
CATEGORIES:Kids,Library Events
GEO:39.7061997;-105.6974142
X-APPLE-STRUCTURED-LOCATION;VALUE=URI;X-ADDRESS=John Tomay Memorial Library 605 6th Street Georgetown CO 80444 United States;X-APPLE-RADIUS=500;X-TITLE=605 6th Street:geo:-105.6974142,39.7061997
END:VEVENT
BEGIN:VEVENT
DTSTART;TZID=America/Denver:20250411T100000
DTEND;TZID=America/Denver:20250411T110000
DTSTAMP:20260421T054737
CREATED:20250324T192434Z
LAST-MODIFIED:20250324T192434Z
UID:10006655-1744365600-1744369200@cccld.org
SUMMARY:JTML - Library Love Storytime
DESCRIPTION:Hop into National Library Week with Miss Honeybun!
URL:https://cccld.org/event/jtml-library-love-storytime/
LOCATION:John Tomay Memorial Library\, 605 6th Street\, Georgetown\, CO\, 80444\, United States
CATEGORIES:Kids,Library Events
GEO:39.7061997;-105.6974142
X-APPLE-STRUCTURED-LOCATION;VALUE=URI;X-ADDRESS=John Tomay Memorial Library 605 6th Street Georgetown CO 80444 United States;X-APPLE-RADIUS=500;X-TITLE=605 6th Street:geo:-105.6974142,39.7061997
END:VEVENT
BEGIN:VEVENT
DTSTART;TZID=America/Denver:20250404T100000
DTEND;TZID=America/Denver:20250404T110000
DTSTAMP:20260421T054737
CREATED:20250324T192304Z
LAST-MODIFIED:20250324T192304Z
UID:10006654-1743760800-1743764400@cccld.org
SUMMARY:ISPL - Egg & Nest Storytime
DESCRIPTION:Join us for stories\, songs\, and more egg-stra special fun!
URL:https://cccld.org/event/ispl-egg-nest-storytime/
LOCATION:Idaho Springs Public Library\, 219 14th Avenue\, Idaho Springs\, CO\, 80452\, United States
CATEGORIES:Kids,Library Events
GEO:39.742052;-105.5183552
X-APPLE-STRUCTURED-LOCATION;VALUE=URI;X-ADDRESS=Idaho Springs Public Library 219 14th Avenue Idaho Springs CO 80452 United States;X-APPLE-RADIUS=500;X-TITLE=219 14th Avenue:geo:-105.5183552,39.742052
END:VEVENT
BEGIN:VEVENT
DTSTART;TZID=America/Denver:20250328T100000
DTEND;TZID=America/Denver:20250328T110000
DTSTAMP:20260421T054737
CREATED:20250219T224224Z
LAST-MODIFIED:20250219T224224Z
UID:10006640-1743156000-1743159600@cccld.org
SUMMARY:JTML - Dinosaur Storytime
DESCRIPTION:Get your ROAR on with us at this totally T-rexcellent storytime!
URL:https://cccld.org/event/jtml-dinosaur-storytime/
LOCATION:John Tomay Memorial Library\, 605 6th Street\, Georgetown\, CO\, 80444\, United States
CATEGORIES:Kids,Library Events
GEO:39.7061997;-105.6974142
X-APPLE-STRUCTURED-LOCATION;VALUE=URI;X-ADDRESS=John Tomay Memorial Library 605 6th Street Georgetown CO 80444 United States;X-APPLE-RADIUS=500;X-TITLE=605 6th Street:geo:-105.6974142,39.7061997
END:VEVENT
BEGIN:VEVENT
DTSTART;TZID=America/Denver:20250321T140000
DTEND;TZID=America/Denver:20250321T160000
DTSTAMP:20260421T054737
CREATED:20240808T155226Z
LAST-MODIFIED:20260120T201242Z
UID:10006647-1742565600-1742572800@cccld.org
SUMMARY:JTML-Virtual Reality
DESCRIPTION:Explore new worlds and great games at our virtual reality sessions for tweens and teens (ages 12 years and older). Registration is required. Please email heather@cccld.org to learn more and save your spot.
URL:https://cccld.org/event/jtml-virtual-reality-7-2/2025-03-21/
LOCATION:John Tomay Memorial Library\, 605 6th Street\, Georgetown\, CO\, 80444\, United States
CATEGORIES:Kids,Library Events,Teens
GEO:39.7061997;-105.6974142
X-APPLE-STRUCTURED-LOCATION;VALUE=URI;X-ADDRESS=John Tomay Memorial Library 605 6th Street Georgetown CO 80444 United States;X-APPLE-RADIUS=500;X-TITLE=605 6th Street:geo:-105.6974142,39.7061997
END:VEVENT
BEGIN:VEVENT
DTSTART;TZID=America/Denver:20250321T140000
DTEND;TZID=America/Denver:20250321T150000
DTSTAMP:20260421T054737
CREATED:20250225T201729Z
LAST-MODIFIED:20250225T201737Z
UID:10006649-1742565600-1742569200@cccld.org
SUMMARY:ISPL - Kids' Drama Workshop
DESCRIPTION:Get creative and express yourself!
URL:https://cccld.org/event/ispl-kids-drama-workshop/
LOCATION:Idaho Springs Public Library\, 219 14th Avenue\, Idaho Springs\, CO\, 80452\, United States
CATEGORIES:Kids,Library Events
GEO:39.742052;-105.5183552
X-APPLE-STRUCTURED-LOCATION;VALUE=URI;X-ADDRESS=Idaho Springs Public Library 219 14th Avenue Idaho Springs CO 80452 United States;X-APPLE-RADIUS=500;X-TITLE=219 14th Avenue:geo:-105.5183552,39.742052
END:VEVENT
BEGIN:VEVENT
DTSTART;TZID=America/Denver:20250321T100000
DTEND;TZID=America/Denver:20250321T110000
DTSTAMP:20260421T054737
CREATED:20250219T224045Z
LAST-MODIFIED:20250219T224045Z
UID:10006639-1742551200-1742554800@cccld.org
SUMMARY:ISPL - Barnyard Storytime
DESCRIPTION:Oink\, moo\, neigh – join us for farm-fresh stories\, songs\, and playtime!
URL:https://cccld.org/event/ispl-barnyard-storytime/
LOCATION:Idaho Springs Public Library\, 219 14th Avenue\, Idaho Springs\, CO\, 80452\, United States
CATEGORIES:Kids,Library Events
GEO:39.742052;-105.5183552
X-APPLE-STRUCTURED-LOCATION;VALUE=URI;X-ADDRESS=Idaho Springs Public Library 219 14th Avenue Idaho Springs CO 80452 United States;X-APPLE-RADIUS=500;X-TITLE=219 14th Avenue:geo:-105.5183552,39.742052
END:VEVENT
BEGIN:VEVENT
DTSTART;TZID=America/Denver:20250314T140000
DTEND;TZID=America/Denver:20250314T160000
DTSTAMP:20260421T054737
CREATED:20231129T165752Z
LAST-MODIFIED:20250811T210129Z
UID:10006646-1741960800-1741968000@cccld.org
SUMMARY:ISPL-Virtual Reality
DESCRIPTION:Explore new worlds and great games at our virtual reality sessions for tweens and teens (ages 12 years and older). Registration is required. Please email heather@cccld.org to learn more and save your spot.
URL:https://cccld.org/event/ispl-virtual-reality-7/2025-03-14/
LOCATION:CO
CATEGORIES:Kids,Library Events,Teens
END:VEVENT
BEGIN:VEVENT
DTSTART;TZID=America/Denver:20250314T140000
DTEND;TZID=America/Denver:20250314T150000
DTSTAMP:20260421T054737
CREATED:20250225T201545Z
LAST-MODIFIED:20250225T201545Z
UID:10006648-1741960800-1741964400@cccld.org
SUMMARY:JTML - Leprechaun Trap Workshop
DESCRIPTION:Use your creativity to craft a trap for a wee leprechaun!
URL:https://cccld.org/event/jtml-leprechaun-trap-workshop/
LOCATION:John Tomay Memorial Library\, 605 6th Street\, Georgetown\, CO\, 80444\, United States
CATEGORIES:Kids,Library Events
GEO:39.7061997;-105.6974142
X-APPLE-STRUCTURED-LOCATION;VALUE=URI;X-ADDRESS=John Tomay Memorial Library 605 6th Street Georgetown CO 80444 United States;X-APPLE-RADIUS=500;X-TITLE=605 6th Street:geo:-105.6974142,39.7061997
END:VEVENT
BEGIN:VEVENT
DTSTART;TZID=America/Denver:20250314T100000
DTEND;TZID=America/Denver:20250314T110000
DTSTAMP:20260421T054737
CREATED:20250219T223916Z
LAST-MODIFIED:20250219T223916Z
UID:10006638-1741946400-1741950000@cccld.org
SUMMARY:JTML - Shamrock Storytime
DESCRIPTION:Join Miss Honeybun for a storytime sprinkled with leprechaun magic.
URL:https://cccld.org/event/jtml-shamrock-storytime/
LOCATION:John Tomay Memorial Library\, 605 6th Street\, Georgetown\, CO\, 80444\, United States
CATEGORIES:Kids,Library Events
GEO:39.7061997;-105.6974142
X-APPLE-STRUCTURED-LOCATION;VALUE=URI;X-ADDRESS=John Tomay Memorial Library 605 6th Street Georgetown CO 80444 United States;X-APPLE-RADIUS=500;X-TITLE=605 6th Street:geo:-105.6974142,39.7061997
END:VEVENT
BEGIN:VEVENT
DTSTART;TZID=America/Denver:20250307T100000
DTEND;TZID=America/Denver:20250307T110000
DTSTAMP:20260421T054737
CREATED:20250219T223726Z
LAST-MODIFIED:20250219T223726Z
UID:10006637-1741341600-1741345200@cccld.org
SUMMARY:ISPL - Vroom\, Vroom! Storytime
DESCRIPTION:Zoom into storytime fun with us!
URL:https://cccld.org/event/ispl-vroom-vroom-storytime/
LOCATION:Idaho Springs Public Library\, 219 14th Avenue\, Idaho Springs\, CO\, 80452\, United States
CATEGORIES:Kids,Library Events
GEO:39.742052;-105.5183552
X-APPLE-STRUCTURED-LOCATION;VALUE=URI;X-ADDRESS=Idaho Springs Public Library 219 14th Avenue Idaho Springs CO 80452 United States;X-APPLE-RADIUS=500;X-TITLE=219 14th Avenue:geo:-105.5183552,39.742052
END:VEVENT
BEGIN:VEVENT
DTSTART;TZID=America/Denver:20250228T100000
DTEND;TZID=America/Denver:20250228T110000
DTSTAMP:20260421T054737
CREATED:20250121T230343Z
LAST-MODIFIED:20250121T230820Z
UID:10006628-1740736800-1740740400@cccld.org
SUMMARY:JTML - Pizza Pie Storytime
DESCRIPTION:Dough you love stories? Join us for pizza-themed fun!
URL:https://cccld.org/event/jtml-pizza-pie-storytime/
LOCATION:John Tomay Memorial Library\, 605 6th Street\, Georgetown\, CO\, 80444\, United States
CATEGORIES:Kids,Library Events
GEO:39.7061997;-105.6974142
X-APPLE-STRUCTURED-LOCATION;VALUE=URI;X-ADDRESS=John Tomay Memorial Library 605 6th Street Georgetown CO 80444 United States;X-APPLE-RADIUS=500;X-TITLE=605 6th Street:geo:-105.6974142,39.7061997
END:VEVENT
BEGIN:VEVENT
DTSTART;TZID=America/Denver:20250227T153000
DTEND;TZID=America/Denver:20250227T173000
DTSTAMP:20260421T054737
CREATED:20240104T215441Z
LAST-MODIFIED:20250131T210727Z
UID:10006634-1740670200-1740677400@cccld.org
SUMMARY:ISPL Monster Mash Party
DESCRIPTION:Wolf down faboolous treats\, play spooky games\, and learn silly monster dances! Huge thanks to Tommyknocker Brewery for donating refreshments.
URL:https://cccld.org/event/ispl-monster-mash-party-2/2025-02-27/
LOCATION:Idaho Springs Public Library\, 219 14th Avenue\, Idaho Springs\, CO\, 80452\, United States
CATEGORIES:Kids,Library Events,Teens
GEO:39.742052;-105.5183552
X-APPLE-STRUCTURED-LOCATION;VALUE=URI;X-ADDRESS=Idaho Springs Public Library 219 14th Avenue Idaho Springs CO 80452 United States;X-APPLE-RADIUS=500;X-TITLE=219 14th Avenue:geo:-105.5183552,39.742052
END:VEVENT
BEGIN:VEVENT
DTSTART;TZID=America/Denver:20250221T140000
DTEND;TZID=America/Denver:20250221T160000
DTSTAMP:20260421T054737
CREATED:20231129T165858Z
LAST-MODIFIED:20250102T182751Z
UID:10006610-1740146400-1740153600@cccld.org
SUMMARY:JTML-Virtual Reality
DESCRIPTION:Explore new worlds and great games at our virtual reality sessions for tweens and teens (ages 12 years and older). Registration is required. Please email heather@cccld.org to learn more and save your spot.
URL:https://cccld.org/event/jtml-virtual-reality-7/2025-02-21/
LOCATION:John Tomay Memorial Library\, 605 6th Street\, Georgetown\, CO\, 80444\, United States
CATEGORIES:Kids,Library Events,Teens
GEO:39.7061997;-105.6974142
X-APPLE-STRUCTURED-LOCATION;VALUE=URI;X-ADDRESS=John Tomay Memorial Library 605 6th Street Georgetown CO 80444 United States;X-APPLE-RADIUS=500;X-TITLE=605 6th Street:geo:-105.6974142,39.7061997
END:VEVENT
BEGIN:VEVENT
DTSTART;TZID=America/Denver:20250221T100000
DTEND;TZID=America/Denver:20250221T110000
DTSTAMP:20260421T054737
CREATED:20250121T230212Z
LAST-MODIFIED:20250121T230212Z
UID:10006627-1740132000-1740135600@cccld.org
SUMMARY:ISPL - Beautiful Colors Storytime
DESCRIPTION:Sparkle and shine at this vibrant storytime with Miss Honeybun!
URL:https://cccld.org/event/ispl-beautiful-colors-storytime/
LOCATION:Idaho Springs Public Library\, 219 14th Avenue\, Idaho Springs\, CO\, 80452\, United States
CATEGORIES:Kids,Library Events
GEO:39.742052;-105.5183552
X-APPLE-STRUCTURED-LOCATION;VALUE=URI;X-ADDRESS=Idaho Springs Public Library 219 14th Avenue Idaho Springs CO 80452 United States;X-APPLE-RADIUS=500;X-TITLE=219 14th Avenue:geo:-105.5183552,39.742052
END:VEVENT
BEGIN:VEVENT
DTSTART;TZID=America/Denver:20250214T140000
DTEND;TZID=America/Denver:20250214T160000
DTSTAMP:20260421T054737
CREATED:20231129T165752Z
LAST-MODIFIED:20250811T210129Z
UID:10006611-1739541600-1739548800@cccld.org
SUMMARY:ISPL-Virtual Reality
DESCRIPTION:Explore new worlds and great games at our virtual reality sessions for tweens and teens (ages 12 years and older). Registration is required. Please email heather@cccld.org to learn more and save your spot.
URL:https://cccld.org/event/ispl-virtual-reality-7/2025-02-14/
LOCATION:CO
CATEGORIES:Kids,Library Events,Teens
END:VEVENT
BEGIN:VEVENT
DTSTART;TZID=America/Denver:20250214T140000
DTEND;TZID=America/Denver:20250214T150000
DTSTAMP:20260421T054737
CREATED:20250121T225311Z
LAST-MODIFIED:20250121T225311Z
UID:10006623-1739541600-1739545200@cccld.org
SUMMARY:JTML - Valentine's Bingo
DESCRIPTION:Valentine’s Bingo – Snacks! Prizes! Fun!\nChildren under the age of 8 need an adult with them at the library.
URL:https://cccld.org/event/jtml-valentines-bingo/
LOCATION:John Tomay Memorial Library\, 605 6th Street\, Georgetown\, CO\, 80444\, United States
CATEGORIES:Kids,Library Events,Teens
GEO:39.7061997;-105.6974142
X-APPLE-STRUCTURED-LOCATION;VALUE=URI;X-ADDRESS=John Tomay Memorial Library 605 6th Street Georgetown CO 80444 United States;X-APPLE-RADIUS=500;X-TITLE=605 6th Street:geo:-105.6974142,39.7061997
END:VEVENT
BEGIN:VEVENT
DTSTART;TZID=America/Denver:20250214T100000
DTEND;TZID=America/Denver:20250214T110000
DTSTAMP:20260421T054737
CREATED:20250121T230033Z
LAST-MODIFIED:20250121T230033Z
UID:10006626-1739527200-1739530800@cccld.org
SUMMARY:JTML - Love & Hugs Storytime
DESCRIPTION:Join us for sweet Valentine’s Day stories\, treats\, and activities.
URL:https://cccld.org/event/jtml-love-hugs-storytime/
LOCATION:John Tomay Memorial Library\, 605 6th Street\, Georgetown\, CO\, 80444\, United States
CATEGORIES:Kids,Library Events
GEO:39.7061997;-105.6974142
X-APPLE-STRUCTURED-LOCATION;VALUE=URI;X-ADDRESS=John Tomay Memorial Library 605 6th Street Georgetown CO 80444 United States;X-APPLE-RADIUS=500;X-TITLE=605 6th Street:geo:-105.6974142,39.7061997
END:VEVENT
BEGIN:VEVENT
DTSTART;TZID=America/Denver:20250213T110000
DTEND;TZID=America/Denver:20250213T133000
DTSTAMP:20260421T054737
CREATED:20240125T165136Z
LAST-MODIFIED:20250131T210550Z
UID:10006633-1739444400-1739453400@cccld.org
SUMMARY:JTML- Friends of Georgetown Library Annual Soup Lunch
DESCRIPTION:Join the Friends of the Georgetown Library for their FREE Annual Soup Lunch at the John Tomay Memorial Library.
URL:https://cccld.org/event/jtml-friends-of-georgetown-library-annual-soup-lunch/2025-02-13/
LOCATION:John Tomay Memorial Library\, 605 6th Street\, Georgetown\, CO\, 80444\, United States
CATEGORIES:Adults,Community Events,Kids,Library Events,Teens
GEO:39.7061997;-105.6974142
X-APPLE-STRUCTURED-LOCATION;VALUE=URI;X-ADDRESS=John Tomay Memorial Library 605 6th Street Georgetown CO 80444 United States;X-APPLE-RADIUS=500;X-TITLE=605 6th Street:geo:-105.6974142,39.7061997
END:VEVENT
BEGIN:VEVENT
DTSTART;TZID=America/Denver:20250207T140000
DTEND;TZID=America/Denver:20250207T150000
DTSTAMP:20260421T054737
CREATED:20250121T225207Z
LAST-MODIFIED:20250121T225207Z
UID:10006622-1738936800-1738940400@cccld.org
SUMMARY:ISPL - Valentine's Bingo
DESCRIPTION:Valentine’s Bingo – Snacks! Prizes! Fun!\nChildren under the age of 8 need an adult with them at the library.
URL:https://cccld.org/event/ispl-valentines-bingo/
LOCATION:Idaho Springs Public Library\, 219 14th Avenue\, Idaho Springs\, CO\, 80452\, United States
CATEGORIES:Kids,Library Events,Teens
GEO:39.742052;-105.5183552
X-APPLE-STRUCTURED-LOCATION;VALUE=URI;X-ADDRESS=Idaho Springs Public Library 219 14th Avenue Idaho Springs CO 80452 United States;X-APPLE-RADIUS=500;X-TITLE=219 14th Avenue:geo:-105.5183552,39.742052
END:VEVENT
BEGIN:VEVENT
DTSTART;TZID=America/Denver:20250207T100000
DTEND;TZID=America/Denver:20250207T110000
DTSTAMP:20260421T054737
CREATED:20250121T225858Z
LAST-MODIFIED:20250121T225858Z
UID:10006625-1738922400-1738926000@cccld.org
SUMMARY:ISPL - Tooth Fairy Storytime
DESCRIPTION:Bring your favorite stuffed animal for a smiletastic storytime.
URL:https://cccld.org/event/ispl-tooth-fairy-storytime/
LOCATION:Idaho Springs Public Library\, 219 14th Avenue\, Idaho Springs\, CO\, 80452\, United States
CATEGORIES:Kids,Library Events
GEO:39.742052;-105.5183552
X-APPLE-STRUCTURED-LOCATION;VALUE=URI;X-ADDRESS=Idaho Springs Public Library 219 14th Avenue Idaho Springs CO 80452 United States;X-APPLE-RADIUS=500;X-TITLE=219 14th Avenue:geo:-105.5183552,39.742052
END:VEVENT
BEGIN:VEVENT
DTSTART;TZID=America/Denver:20250131T100000
DTEND;TZID=America/Denver:20250131T110000
DTSTAMP:20260421T054737
CREATED:20241218T171446Z
LAST-MODIFIED:20241218T171446Z
UID:10006605-1738317600-1738321200@cccld.org
SUMMARY:JTML - Groundhog Storytime
DESCRIPTION:Hop into the fun of Groundhog Day with Miss Honeybun!
URL:https://cccld.org/event/jtml-groundhog-storytime/
LOCATION:John Tomay Memorial Library\, 605 6th Street\, Georgetown\, CO\, 80444\, United States
CATEGORIES:Kids,Library Events
GEO:39.7061997;-105.6974142
X-APPLE-STRUCTURED-LOCATION;VALUE=URI;X-ADDRESS=John Tomay Memorial Library 605 6th Street Georgetown CO 80444 United States;X-APPLE-RADIUS=500;X-TITLE=605 6th Street:geo:-105.6974142,39.7061997
END:VEVENT
END:VCALENDAR