BEGIN:VCALENDAR
VERSION:2.0
PRODID:-//Clear Creek County Library District - ECPv6.15.16//NONSGML v1.0//EN
CALSCALE:GREGORIAN
METHOD:PUBLISH
X-WR-CALNAME:Clear Creek County Library District
X-ORIGINAL-URL:https://cccld.org
X-WR-CALDESC:Events for Clear Creek County Library District
REFRESH-INTERVAL;VALUE=DURATION:PT1H
X-Robots-Tag:noindex
X-PUBLISHED-TTL:PT1H
BEGIN:VTIMEZONE
TZID:America/Denver
BEGIN:DAYLIGHT
TZOFFSETFROM:-0700
TZOFFSETTO:-0600
TZNAME:MDT
DTSTART:20210314T090000
END:DAYLIGHT
BEGIN:STANDARD
TZOFFSETFROM:-0600
TZOFFSETTO:-0700
TZNAME:MST
DTSTART:20211107T080000
END:STANDARD
BEGIN:DAYLIGHT
TZOFFSETFROM:-0700
TZOFFSETTO:-0600
TZNAME:MDT
DTSTART:20220313T090000
END:DAYLIGHT
BEGIN:STANDARD
TZOFFSETFROM:-0600
TZOFFSETTO:-0700
TZNAME:MST
DTSTART:20221106T080000
END:STANDARD
BEGIN:DAYLIGHT
TZOFFSETFROM:-0700
TZOFFSETTO:-0600
TZNAME:MDT
DTSTART:20230312T090000
END:DAYLIGHT
BEGIN:STANDARD
TZOFFSETFROM:-0600
TZOFFSETTO:-0700
TZNAME:MST
DTSTART:20231105T080000
END:STANDARD
END:VTIMEZONE
BEGIN:VEVENT
DTSTART;TZID=America/Denver:20220301T153000
DTEND;TZID=America/Denver:20220301T163000
DTSTAMP:20260423T170027
CREATED:20220222T162954Z
LAST-MODIFIED:20220301T204036Z
UID:10005742-1646148600-1646152200@cccld.org
SUMMARY:ISPL Introductory American Sign Language
DESCRIPTION:Introductory American Sign Language at the Idaho Springs Public Library. To learn more\, email joe@cccld.org
URL:https://cccld.org/event/american-sign-language/2022-03-01/
LOCATION:Idaho Springs Public Library\, 219 14th Avenue\, Idaho Springs\, CO\, 80452\, United States
CATEGORIES:Kids,Library Events,Teens
GEO:39.742052;-105.5183552
X-APPLE-STRUCTURED-LOCATION;VALUE=URI;X-ADDRESS=Idaho Springs Public Library 219 14th Avenue Idaho Springs CO 80452 United States;X-APPLE-RADIUS=500;X-TITLE=219 14th Avenue:geo:-105.5183552,39.742052
END:VEVENT
BEGIN:VEVENT
DTSTART;TZID=America/Denver:20220308T153000
DTEND;TZID=America/Denver:20220308T163000
DTSTAMP:20260423T170027
CREATED:20220222T162954Z
LAST-MODIFIED:20220301T204036Z
UID:10005743-1646753400-1646757000@cccld.org
SUMMARY:ISPL Introductory American Sign Language
DESCRIPTION:Introductory American Sign Language at the Idaho Springs Public Library. To learn more\, email joe@cccld.org
URL:https://cccld.org/event/american-sign-language/2022-03-08/
LOCATION:Idaho Springs Public Library\, 219 14th Avenue\, Idaho Springs\, CO\, 80452\, United States
CATEGORIES:Kids,Library Events,Teens
GEO:39.742052;-105.5183552
X-APPLE-STRUCTURED-LOCATION;VALUE=URI;X-ADDRESS=Idaho Springs Public Library 219 14th Avenue Idaho Springs CO 80452 United States;X-APPLE-RADIUS=500;X-TITLE=219 14th Avenue:geo:-105.5183552,39.742052
END:VEVENT
BEGIN:VEVENT
DTSTART;TZID=America/Denver:20220315T153000
DTEND;TZID=America/Denver:20220315T163000
DTSTAMP:20260423T170027
CREATED:20220222T162954Z
LAST-MODIFIED:20220301T204036Z
UID:10005744-1647358200-1647361800@cccld.org
SUMMARY:ISPL Introductory American Sign Language
DESCRIPTION:Introductory American Sign Language at the Idaho Springs Public Library. To learn more\, email joe@cccld.org
URL:https://cccld.org/event/american-sign-language/2022-03-15/
LOCATION:Idaho Springs Public Library\, 219 14th Avenue\, Idaho Springs\, CO\, 80452\, United States
CATEGORIES:Kids,Library Events,Teens
GEO:39.742052;-105.5183552
X-APPLE-STRUCTURED-LOCATION;VALUE=URI;X-ADDRESS=Idaho Springs Public Library 219 14th Avenue Idaho Springs CO 80452 United States;X-APPLE-RADIUS=500;X-TITLE=219 14th Avenue:geo:-105.5183552,39.742052
END:VEVENT
BEGIN:VEVENT
DTSTART;TZID=America/Denver:20220321T130000
DTEND;TZID=America/Denver:20220321T160000
DTSTAMP:20260423T170027
CREATED:20220222T170209Z
LAST-MODIFIED:20220222T170209Z
UID:10005751-1647867600-1647878400@cccld.org
SUMMARY:JTML Virtual Reality
DESCRIPTION:Join the fun with the new Oculus Quest 2.
URL:https://cccld.org/event/jtml-virtual-reality/
LOCATION:John Tomay Memorial Library\, 605 6th Street\, Georgetown\, CO\, 80444\, United States
CATEGORIES:Kids,Teens
GEO:39.7061997;-105.6974142
X-APPLE-STRUCTURED-LOCATION;VALUE=URI;X-ADDRESS=John Tomay Memorial Library 605 6th Street Georgetown CO 80444 United States;X-APPLE-RADIUS=500;X-TITLE=605 6th Street:geo:-105.6974142,39.7061997
END:VEVENT
BEGIN:VEVENT
DTSTART;TZID=America/Denver:20220322T153000
DTEND;TZID=America/Denver:20220322T163000
DTSTAMP:20260423T170027
CREATED:20220222T162954Z
LAST-MODIFIED:20220301T204036Z
UID:10005745-1647963000-1647966600@cccld.org
SUMMARY:ISPL Introductory American Sign Language
DESCRIPTION:Introductory American Sign Language at the Idaho Springs Public Library. To learn more\, email joe@cccld.org
URL:https://cccld.org/event/american-sign-language/2022-03-22/
LOCATION:Idaho Springs Public Library\, 219 14th Avenue\, Idaho Springs\, CO\, 80452\, United States
CATEGORIES:Kids,Library Events,Teens
GEO:39.742052;-105.5183552
X-APPLE-STRUCTURED-LOCATION;VALUE=URI;X-ADDRESS=Idaho Springs Public Library 219 14th Avenue Idaho Springs CO 80452 United States;X-APPLE-RADIUS=500;X-TITLE=219 14th Avenue:geo:-105.5183552,39.742052
END:VEVENT
BEGIN:VEVENT
DTSTART;TZID=America/Denver:20220325T130000
DTEND;TZID=America/Denver:20220325T160000
DTSTAMP:20260423T170027
CREATED:20220222T170032Z
LAST-MODIFIED:20220222T170032Z
UID:10005750-1648213200-1648224000@cccld.org
SUMMARY:ISPL Virtual Reality
DESCRIPTION:Join the fun with the new Oculus Quest 2.
URL:https://cccld.org/event/ispl-virtual-reality/
LOCATION:Idaho Springs Public Library\, 219 14th Avenue\, Idaho Springs\, CO\, 80452\, United States
CATEGORIES:Kids,Library Events,Teens
GEO:39.742052;-105.5183552
X-APPLE-STRUCTURED-LOCATION;VALUE=URI;X-ADDRESS=Idaho Springs Public Library 219 14th Avenue Idaho Springs CO 80452 United States;X-APPLE-RADIUS=500;X-TITLE=219 14th Avenue:geo:-105.5183552,39.742052
END:VEVENT
BEGIN:VEVENT
DTSTART;TZID=America/Denver:20220327T130000
DTEND;TZID=America/Denver:20220327T150000
DTSTAMP:20260423T170027
CREATED:20220301T215912Z
LAST-MODIFIED:20220301T215912Z
UID:10005107-1648386000-1648393200@cccld.org
SUMMARY:Family Snowshoe Adventure
DESCRIPTION:Join us for a guided snowshoe hike with Georgetown Outdoor Discovery. Ages 5 years and up\, beginners welcome\, snowshoes provided. FREE with Clear Creek County library card. To learn more and register\, please contact holly@cccld.org
URL:https://cccld.org/event/family-snowshoe-adventure/
LOCATION:CO\, 80444\, United States
CATEGORIES:Adults,Kids,Library Events,Teens
GEO:39.7104468;-105.6969788
END:VEVENT
BEGIN:VEVENT
DTSTART;TZID=America/Denver:20220328T153000
DTEND;TZID=America/Denver:20220328T163000
DTSTAMP:20260423T170027
CREATED:20220222T164007Z
LAST-MODIFIED:20220222T172842Z
UID:10005747-1648481400-1648485000@cccld.org
SUMMARY:ISPL Crafternoon
DESCRIPTION:Join the fun at the Idaho Springs Public Library. Awesome Penguin Plushie craft.
URL:https://cccld.org/event/ispl-crafternoon/
LOCATION:CO\, 80444\, United States
CATEGORIES:Kids,Library Events,Teens
GEO:39.7104468;-105.6969788
END:VEVENT
BEGIN:VEVENT
DTSTART;TZID=America/Denver:20220329T153000
DTEND;TZID=America/Denver:20220329T163000
DTSTAMP:20260423T170027
CREATED:20220222T162954Z
LAST-MODIFIED:20220301T204036Z
UID:10005746-1648567800-1648571400@cccld.org
SUMMARY:ISPL Introductory American Sign Language
DESCRIPTION:Introductory American Sign Language at the Idaho Springs Public Library. To learn more\, email joe@cccld.org
URL:https://cccld.org/event/american-sign-language/2022-03-29/
LOCATION:Idaho Springs Public Library\, 219 14th Avenue\, Idaho Springs\, CO\, 80452\, United States
CATEGORIES:Kids,Library Events,Teens
GEO:39.742052;-105.5183552
X-APPLE-STRUCTURED-LOCATION;VALUE=URI;X-ADDRESS=Idaho Springs Public Library 219 14th Avenue Idaho Springs CO 80452 United States;X-APPLE-RADIUS=500;X-TITLE=219 14th Avenue:geo:-105.5183552,39.742052
END:VEVENT
BEGIN:VEVENT
DTSTART;TZID=America/Denver:20220331T154500
DTEND;TZID=America/Denver:20220331T164500
DTSTAMP:20260423T170027
CREATED:20220222T164224Z
LAST-MODIFIED:20220222T173232Z
UID:10005748-1648741500-1648745100@cccld.org
SUMMARY:JTML Crafternoon
DESCRIPTION:Join the fun at the John Tomay Memorial Library! Awesome Penguin Plushie craft.
URL:https://cccld.org/event/jtml-crafternoon/
LOCATION:John Tomay Memorial Library\, 605 6th Street\, Georgetown\, CO\, 80444\, United States
CATEGORIES:Kids,Library Events,Teens
GEO:39.7061997;-105.6974142
X-APPLE-STRUCTURED-LOCATION;VALUE=URI;X-ADDRESS=John Tomay Memorial Library 605 6th Street Georgetown CO 80444 United States;X-APPLE-RADIUS=500;X-TITLE=605 6th Street:geo:-105.6974142,39.7061997
END:VEVENT
END:VCALENDAR