BEGIN:VCALENDAR
VERSION:2.0
PRODID:-//Clear Creek County Library District - ECPv6.15.16//NONSGML v1.0//EN
CALSCALE:GREGORIAN
METHOD:PUBLISH
X-WR-CALNAME:Clear Creek County Library District
X-ORIGINAL-URL:https://cccld.org
X-WR-CALDESC:Events for Clear Creek County Library District
REFRESH-INTERVAL;VALUE=DURATION:PT1H
X-Robots-Tag:noindex
X-PUBLISHED-TTL:PT1H
BEGIN:VTIMEZONE
TZID:America/Denver
BEGIN:DAYLIGHT
TZOFFSETFROM:-0700
TZOFFSETTO:-0600
TZNAME:MDT
DTSTART:20220313T090000
END:DAYLIGHT
BEGIN:STANDARD
TZOFFSETFROM:-0600
TZOFFSETTO:-0700
TZNAME:MST
DTSTART:20221106T080000
END:STANDARD
BEGIN:DAYLIGHT
TZOFFSETFROM:-0700
TZOFFSETTO:-0600
TZNAME:MDT
DTSTART:20230312T090000
END:DAYLIGHT
BEGIN:STANDARD
TZOFFSETFROM:-0600
TZOFFSETTO:-0700
TZNAME:MST
DTSTART:20231105T080000
END:STANDARD
BEGIN:DAYLIGHT
TZOFFSETFROM:-0700
TZOFFSETTO:-0600
TZNAME:MDT
DTSTART:20240310T090000
END:DAYLIGHT
BEGIN:STANDARD
TZOFFSETFROM:-0600
TZOFFSETTO:-0700
TZNAME:MST
DTSTART:20241103T080000
END:STANDARD
END:VTIMEZONE
BEGIN:VEVENT
DTSTART;TZID=America/Denver:20231013T140000
DTEND;TZID=America/Denver:20231013T160000
DTSTAMP:20260422T105700
CREATED:20230808T165342Z
LAST-MODIFIED:20230814T201642Z
UID:10006377-1697205600-1697212800@cccld.org
SUMMARY:ISPL-Virtual Reality
DESCRIPTION:Explore new worlds and great games at our virtual reality sessions for tweens and teens (ages 12 years and older). Registration is required. Please email heather@cccld.org to learn more and save your spot.
URL:https://cccld.org/event/ispl-virtual-reality-6/2023-10-13/
LOCATION:Idaho Springs Public Library\, 219 14th Avenue\, Idaho Springs\, CO\, 80452\, United States
CATEGORIES:Library Events,Teens
GEO:39.742052;-105.5183552
X-APPLE-STRUCTURED-LOCATION;VALUE=URI;X-ADDRESS=Idaho Springs Public Library 219 14th Avenue Idaho Springs CO 80452 United States;X-APPLE-RADIUS=500;X-TITLE=219 14th Avenue:geo:-105.5183552,39.742052
END:VEVENT
BEGIN:VEVENT
DTSTART;TZID=America/Denver:20231020T140000
DTEND;TZID=America/Denver:20231020T160000
DTSTAMP:20260422T105700
CREATED:20230808T165439Z
LAST-MODIFIED:20230814T201852Z
UID:10006381-1697810400-1697817600@cccld.org
SUMMARY:JTML-Virtual Reality
DESCRIPTION:Explore new worlds and great games at our virtual reality sessions for tweens and teens (ages 12 years and older). Registration is required. Please email heather@cccld.org to learn more and save your spot.
URL:https://cccld.org/event/jtml-virtual-reality-6/2023-10-20/
LOCATION:John Tomay Memorial Library\, 605 6th Street\, Georgetown\, CO\, 80444\, United States
CATEGORIES:Library Events,Teens
GEO:39.7061997;-105.6974142
X-APPLE-STRUCTURED-LOCATION;VALUE=URI;X-ADDRESS=John Tomay Memorial Library 605 6th Street Georgetown CO 80444 United States;X-APPLE-RADIUS=500;X-TITLE=605 6th Street:geo:-105.6974142,39.7061997
END:VEVENT
BEGIN:VEVENT
DTSTART;TZID=America/Denver:20231031T170000
DTEND;TZID=America/Denver:20231031T190000
DTSTAMP:20260422T105700
CREATED:20230814T202532Z
LAST-MODIFIED:20230814T202630Z
UID:10006385-1698771600-1698778800@cccld.org
SUMMARY:ISPL & JTML BOOkfest
DESCRIPTION:Stop by the library for a FREE kids’ book and a sweet treat on Halloween night. Sponsored by Friends of the Idaho Springs Library and Friends of the Georgetown Library.
URL:https://cccld.org/event/ispl-jtml-bookfest-2/
LOCATION:CO\, 80444\, United States
CATEGORIES:Adults,Community Events,Kids,Library Events,Teens
GEO:39.7104468;-105.6969788
END:VEVENT
END:VCALENDAR