BEGIN:VCALENDAR
VERSION:2.0
PRODID:-//Clear Creek County Library District - ECPv6.15.16//NONSGML v1.0//EN
CALSCALE:GREGORIAN
METHOD:PUBLISH
X-WR-CALNAME:Clear Creek County Library District
X-ORIGINAL-URL:https://cccld.org
X-WR-CALDESC:Events for Clear Creek County Library District
REFRESH-INTERVAL;VALUE=DURATION:PT1H
X-Robots-Tag:noindex
X-PUBLISHED-TTL:PT1H
BEGIN:VTIMEZONE
TZID:America/Denver
BEGIN:DAYLIGHT
TZOFFSETFROM:-0700
TZOFFSETTO:-0600
TZNAME:MDT
DTSTART:20230312T090000
END:DAYLIGHT
BEGIN:STANDARD
TZOFFSETFROM:-0600
TZOFFSETTO:-0700
TZNAME:MST
DTSTART:20231105T080000
END:STANDARD
BEGIN:DAYLIGHT
TZOFFSETFROM:-0700
TZOFFSETTO:-0600
TZNAME:MDT
DTSTART:20240310T090000
END:DAYLIGHT
BEGIN:STANDARD
TZOFFSETFROM:-0600
TZOFFSETTO:-0700
TZNAME:MST
DTSTART:20241103T080000
END:STANDARD
BEGIN:DAYLIGHT
TZOFFSETFROM:-0700
TZOFFSETTO:-0600
TZNAME:MDT
DTSTART:20250309T090000
END:DAYLIGHT
BEGIN:STANDARD
TZOFFSETFROM:-0600
TZOFFSETTO:-0700
TZNAME:MST
DTSTART:20251102T080000
END:STANDARD
END:VTIMEZONE
BEGIN:VEVENT
DTSTART;VALUE=DATE:20240408
DTEND;VALUE=DATE:20240413
DTSTAMP:20260422T015048
CREATED:20240325T152220Z
LAST-MODIFIED:20240325T152220Z
UID:10005508-1712534400-1712966399@cccld.org
SUMMARY:National Library Week
DESCRIPTION:April 8-12 is National Library Week\, an annual celebration highlighting the roles libraries\, librarians\, and library workers play in transforming lives and strengthening communities. \nStop by the Idaho Springs Public Library or the John Tomay Memorial Library for coffee and treats all week.
URL:https://cccld.org/event/national-library-week-3/
LOCATION:CO
CATEGORIES:Adults,Kids,Library Events,Teens
END:VEVENT
BEGIN:VEVENT
DTSTART;TZID=America/Denver:20240412T140000
DTEND;TZID=America/Denver:20240412T160000
DTSTAMP:20260422T015048
CREATED:20231129T165752Z
LAST-MODIFIED:20250811T210129Z
UID:10006417-1712930400-1712937600@cccld.org
SUMMARY:ISPL-Virtual Reality
DESCRIPTION:Explore new worlds and great games at our virtual reality sessions for tweens and teens (ages 12 years and older). Registration is required. Please email heather@cccld.org to learn more and save your spot.
URL:https://cccld.org/event/ispl-virtual-reality-7/2024-04-12/
LOCATION:CO
CATEGORIES:Kids,Library Events,Teens
END:VEVENT
BEGIN:VEVENT
DTSTART;TZID=America/Denver:20240419T100000
DTEND;TZID=America/Denver:20240419T120000
DTSTAMP:20260422T015048
CREATED:20240325T153306Z
LAST-MODIFIED:20240325T153306Z
UID:10005512-1713520800-1713528000@cccld.org
SUMMARY:JTML - Youth Art Workshop
DESCRIPTION:This month\, we are thrilled to host Resilience 1220 for art workshops at the Libraries! Young learners are invited to get creative at these special craft sessions.
URL:https://cccld.org/event/jtml-youth-art-workshop/
LOCATION:John Tomay Memorial Library\, 605 6th Street\, Georgetown\, CO\, 80444\, United States
CATEGORIES:Kids,Library Events,Teens
GEO:39.7061997;-105.6974142
X-APPLE-STRUCTURED-LOCATION;VALUE=URI;X-ADDRESS=John Tomay Memorial Library 605 6th Street Georgetown CO 80444 United States;X-APPLE-RADIUS=500;X-TITLE=605 6th Street:geo:-105.6974142,39.7061997
END:VEVENT
BEGIN:VEVENT
DTSTART;TZID=America/Denver:20240426T100000
DTEND;TZID=America/Denver:20240426T113000
DTSTAMP:20260422T015048
CREATED:20240325T153426Z
LAST-MODIFIED:20240325T153426Z
UID:10006434-1714125600-1714131000@cccld.org
SUMMARY:ISPL - Youth Art Workshop
DESCRIPTION:This month\, we are thrilled to host Resilience 1220 for art workshops at the Libraries! Young learners are invited to get creative at these special craft sessions.
URL:https://cccld.org/event/ispl-youth-art-workshop/
LOCATION:Idaho Springs Public Library\, 219 14th Avenue\, Idaho Springs\, CO\, 80452\, United States
CATEGORIES:Kids,Library Events,Teens
GEO:39.742052;-105.5183552
X-APPLE-STRUCTURED-LOCATION;VALUE=URI;X-ADDRESS=Idaho Springs Public Library 219 14th Avenue Idaho Springs CO 80452 United States;X-APPLE-RADIUS=500;X-TITLE=219 14th Avenue:geo:-105.5183552,39.742052
END:VEVENT
BEGIN:VEVENT
DTSTART;TZID=America/Denver:20240426T140000
DTEND;TZID=America/Denver:20240426T160000
DTSTAMP:20260422T015048
CREATED:20231129T165858Z
LAST-MODIFIED:20250102T182751Z
UID:10006422-1714140000-1714147200@cccld.org
SUMMARY:JTML-Virtual Reality
DESCRIPTION:Explore new worlds and great games at our virtual reality sessions for tweens and teens (ages 12 years and older). Registration is required. Please email heather@cccld.org to learn more and save your spot.
URL:https://cccld.org/event/jtml-virtual-reality-7/2024-04-26/
LOCATION:John Tomay Memorial Library\, 605 6th Street\, Georgetown\, CO\, 80444\, United States
CATEGORIES:Kids,Library Events,Teens
GEO:39.7061997;-105.6974142
X-APPLE-STRUCTURED-LOCATION;VALUE=URI;X-ADDRESS=John Tomay Memorial Library 605 6th Street Georgetown CO 80444 United States;X-APPLE-RADIUS=500;X-TITLE=605 6th Street:geo:-105.6974142,39.7061997
END:VEVENT
BEGIN:VEVENT
DTSTART;TZID=America/Denver:20240430T153000
DTEND;TZID=America/Denver:20240430T170000
DTSTAMP:20260422T015048
CREATED:20240325T154109Z
LAST-MODIFIED:20250219T230103Z
UID:10006438-1714491000-1714496400@cccld.org
SUMMARY:Día de los Niños
DESCRIPTION:Celebrate children\, families\, and literacy at our annual Día party! Refreshments\, traditional dance performances\, and a storytime en Español promise a lively time at this after-school fiesta.
URL:https://cccld.org/event/dia-de-los-ninos-4/
LOCATION:Idaho Springs Public Library\, 219 14th Avenue\, Idaho Springs\, CO\, 80452\, United States
CATEGORIES:Adults,Kids,Library Events,Teens
GEO:39.742052;-105.5183552
X-APPLE-STRUCTURED-LOCATION;VALUE=URI;X-ADDRESS=Idaho Springs Public Library 219 14th Avenue Idaho Springs CO 80452 United States;X-APPLE-RADIUS=500;X-TITLE=219 14th Avenue:geo:-105.5183552,39.742052
END:VEVENT
END:VCALENDAR