BEGIN:VCALENDAR
VERSION:2.0
PRODID:-//Clear Creek County Library District - ECPv6.15.16//NONSGML v1.0//EN
CALSCALE:GREGORIAN
METHOD:PUBLISH
X-ORIGINAL-URL:https://cccld.org
X-WR-CALDESC:Events for Clear Creek County Library District
REFRESH-INTERVAL;VALUE=DURATION:PT1H
X-Robots-Tag:noindex
X-PUBLISHED-TTL:PT1H
BEGIN:VTIMEZONE
TZID:America/Denver
BEGIN:DAYLIGHT
TZOFFSETFROM:-0700
TZOFFSETTO:-0600
TZNAME:MDT
DTSTART:20230312T090000
END:DAYLIGHT
BEGIN:STANDARD
TZOFFSETFROM:-0600
TZOFFSETTO:-0700
TZNAME:MST
DTSTART:20231105T080000
END:STANDARD
BEGIN:DAYLIGHT
TZOFFSETFROM:-0700
TZOFFSETTO:-0600
TZNAME:MDT
DTSTART:20240310T090000
END:DAYLIGHT
BEGIN:STANDARD
TZOFFSETFROM:-0600
TZOFFSETTO:-0700
TZNAME:MST
DTSTART:20241103T080000
END:STANDARD
BEGIN:DAYLIGHT
TZOFFSETFROM:-0700
TZOFFSETTO:-0600
TZNAME:MDT
DTSTART:20250309T090000
END:DAYLIGHT
BEGIN:STANDARD
TZOFFSETFROM:-0600
TZOFFSETTO:-0700
TZNAME:MST
DTSTART:20251102T080000
END:STANDARD
END:VTIMEZONE
BEGIN:VEVENT
DTSTART;TZID=America/Denver:20241207T100000
DTEND;TZID=America/Denver:20241207T160000
DTSTAMP:20260421T154429
CREATED:20241202T183234Z
LAST-MODIFIED:20241202T183234Z
UID:10006586-1733565600-1733587200@cccld.org
SUMMARY:JTML Friends Book Sale
DESCRIPTION:Support the Friends of the Georgetown Library and stop by their annual book sale during the Georgetown Christmas Market.
URL:https://cccld.org/event/jtml-friends-book-sale-7/2024-12-07/
LOCATION:CO
CATEGORIES:Adults,Kids,Library Events,Teens
END:VEVENT
BEGIN:VEVENT
DTSTART;TZID=America/Denver:20241208T100000
DTEND;TZID=America/Denver:20241208T160000
DTSTAMP:20260421T154429
CREATED:20241202T183234Z
LAST-MODIFIED:20241202T183234Z
UID:10006587-1733652000-1733673600@cccld.org
SUMMARY:JTML Friends Book Sale
DESCRIPTION:Support the Friends of the Georgetown Library and stop by their annual book sale during the Georgetown Christmas Market.
URL:https://cccld.org/event/jtml-friends-book-sale-7/2024-12-08/
LOCATION:CO
CATEGORIES:Adults,Kids,Library Events,Teens
END:VEVENT
BEGIN:VEVENT
DTSTART;TZID=America/Denver:20241213T140000
DTEND;TZID=America/Denver:20241213T160000
DTSTAMP:20260421T154429
CREATED:20231129T165752Z
LAST-MODIFIED:20250811T210129Z
UID:10006532-1734098400-1734105600@cccld.org
SUMMARY:ISPL-Virtual Reality
DESCRIPTION:Explore new worlds and great games at our virtual reality sessions for tweens and teens (ages 12 years and older). Registration is required. Please email heather@cccld.org to learn more and save your spot.
URL:https://cccld.org/event/ispl-virtual-reality-7/2024-12-13/
LOCATION:CO
CATEGORIES:Kids,Library Events,Teens
END:VEVENT
BEGIN:VEVENT
DTSTART;TZID=America/Denver:20241214T100000
DTEND;TZID=America/Denver:20241214T160000
DTSTAMP:20260421T154429
CREATED:20241202T183234Z
LAST-MODIFIED:20241202T183234Z
UID:10006588-1734170400-1734192000@cccld.org
SUMMARY:JTML Friends Book Sale
DESCRIPTION:Support the Friends of the Georgetown Library and stop by their annual book sale during the Georgetown Christmas Market.
URL:https://cccld.org/event/jtml-friends-book-sale-7/2024-12-14/
LOCATION:CO
CATEGORIES:Adults,Kids,Library Events,Teens
END:VEVENT
BEGIN:VEVENT
DTSTART;TZID=America/Denver:20241215T100000
DTEND;TZID=America/Denver:20241215T160000
DTSTAMP:20260421T154429
CREATED:20241202T183234Z
LAST-MODIFIED:20241202T183234Z
UID:10006589-1734256800-1734278400@cccld.org
SUMMARY:JTML Friends Book Sale
DESCRIPTION:Support the Friends of the Georgetown Library and stop by their annual book sale during the Georgetown Christmas Market.
URL:https://cccld.org/event/jtml-friends-book-sale-7/2024-12-15/
LOCATION:CO
CATEGORIES:Adults,Kids,Library Events,Teens
END:VEVENT
BEGIN:VEVENT
DTSTART;TZID=America/Denver:20241220T140000
DTEND;TZID=America/Denver:20241220T160000
DTSTAMP:20260421T154429
CREATED:20240808T155226Z
LAST-MODIFIED:20260120T201242Z
UID:10006535-1734703200-1734710400@cccld.org
SUMMARY:JTML-Virtual Reality
DESCRIPTION:Explore new worlds and great games at our virtual reality sessions for tweens and teens (ages 12 years and older). Registration is required. Please email heather@cccld.org to learn more and save your spot.
URL:https://cccld.org/event/jtml-virtual-reality-7-2/2024-12-20/
LOCATION:John Tomay Memorial Library\, 605 6th Street\, Georgetown\, CO\, 80444\, United States
CATEGORIES:Kids,Library Events,Teens
GEO:39.7061997;-105.6974142
X-APPLE-STRUCTURED-LOCATION;VALUE=URI;X-ADDRESS=John Tomay Memorial Library 605 6th Street Georgetown CO 80444 United States;X-APPLE-RADIUS=500;X-TITLE=605 6th Street:geo:-105.6974142,39.7061997
END:VEVENT
END:VCALENDAR