BEGIN:VCALENDAR
VERSION:2.0
PRODID:-//Clear Creek County Library District - ECPv6.15.16//NONSGML v1.0//EN
CALSCALE:GREGORIAN
METHOD:PUBLISH
X-WR-CALNAME:Clear Creek County Library District
X-ORIGINAL-URL:https://cccld.org
X-WR-CALDESC:Events for Clear Creek County Library District
REFRESH-INTERVAL;VALUE=DURATION:PT1H
X-Robots-Tag:noindex
X-PUBLISHED-TTL:PT1H
BEGIN:VTIMEZONE
TZID:America/Denver
BEGIN:DAYLIGHT
TZOFFSETFROM:-0700
TZOFFSETTO:-0600
TZNAME:MDT
DTSTART:20230312T090000
END:DAYLIGHT
BEGIN:STANDARD
TZOFFSETFROM:-0600
TZOFFSETTO:-0700
TZNAME:MST
DTSTART:20231105T080000
END:STANDARD
BEGIN:DAYLIGHT
TZOFFSETFROM:-0700
TZOFFSETTO:-0600
TZNAME:MDT
DTSTART:20240310T090000
END:DAYLIGHT
BEGIN:STANDARD
TZOFFSETFROM:-0600
TZOFFSETTO:-0700
TZNAME:MST
DTSTART:20241103T080000
END:STANDARD
BEGIN:DAYLIGHT
TZOFFSETFROM:-0700
TZOFFSETTO:-0600
TZNAME:MDT
DTSTART:20250309T090000
END:DAYLIGHT
BEGIN:STANDARD
TZOFFSETFROM:-0600
TZOFFSETTO:-0700
TZNAME:MST
DTSTART:20251102T080000
END:STANDARD
END:VTIMEZONE
BEGIN:VEVENT
DTSTART;TZID=America/Denver:20240119T150000
DTEND;TZID=America/Denver:20240119T170000
DTSTAMP:20260422T084457
CREATED:20231129T165425Z
LAST-MODIFIED:20231215T204801Z
UID:10006413-1705676400-1705683600@cccld.org
SUMMARY:Family Movie Matinee
DESCRIPTION:Join us at the Georgetown Old School for family movie night–FROZEN Sing-along. Movie\, sing-along\, and snacks and hot drinks. OPTIONAL CRAFT starting at 2:00 pm. Contact chris@cccld.org for additional information.
URL:https://cccld.org/event/family-movie-night/
LOCATION:The Old School\, 809 Taos Street\, Georgetown\, CO\, 80444\, United States
CATEGORIES:Adults,Kids,Library Events,Teens
GEO:39.7076439;-105.6959246
X-APPLE-STRUCTURED-LOCATION;VALUE=URI;X-ADDRESS=The Old School 809 Taos Street Georgetown CO 80444 United States;X-APPLE-RADIUS=500;X-TITLE=809 Taos Street:geo:-105.6959246,39.7076439
END:VEVENT
END:VCALENDAR