BEGIN:VCALENDAR
VERSION:2.0
PRODID:-//Clear Creek County Library District - ECPv6.15.16//NONSGML v1.0//EN
CALSCALE:GREGORIAN
METHOD:PUBLISH
X-ORIGINAL-URL:https://cccld.org
X-WR-CALDESC:Events for Clear Creek County Library District
REFRESH-INTERVAL;VALUE=DURATION:PT1H
X-Robots-Tag:noindex
X-PUBLISHED-TTL:PT1H
BEGIN:VTIMEZONE
TZID:America/Denver
BEGIN:DAYLIGHT
TZOFFSETFROM:-0700
TZOFFSETTO:-0600
TZNAME:MDT
DTSTART:20190310T090000
END:DAYLIGHT
BEGIN:STANDARD
TZOFFSETFROM:-0600
TZOFFSETTO:-0700
TZNAME:MST
DTSTART:20191103T080000
END:STANDARD
BEGIN:DAYLIGHT
TZOFFSETFROM:-0700
TZOFFSETTO:-0600
TZNAME:MDT
DTSTART:20200308T090000
END:DAYLIGHT
BEGIN:STANDARD
TZOFFSETFROM:-0600
TZOFFSETTO:-0700
TZNAME:MST
DTSTART:20201101T080000
END:STANDARD
BEGIN:DAYLIGHT
TZOFFSETFROM:-0700
TZOFFSETTO:-0600
TZNAME:MDT
DTSTART:20210314T090000
END:DAYLIGHT
BEGIN:STANDARD
TZOFFSETFROM:-0600
TZOFFSETTO:-0700
TZNAME:MST
DTSTART:20211107T080000
END:STANDARD
END:VTIMEZONE
BEGIN:VEVENT
DTSTART;VALUE=DATE:20200731
DTEND;VALUE=DATE:20200802
DTSTAMP:20260421T131556
CREATED:20200704T200954Z
LAST-MODIFIED:20200803T220238Z
UID:10005581-1596153600-1596326399@cccld.org
SUMMARY:Plein Air
DESCRIPTION:
URL:https://cccld.org/event/plein-air/
CATEGORIES:Community Events
END:VEVENT
BEGIN:VEVENT
DTSTART;VALUE=DATE:20200802
DTEND;VALUE=DATE:20200817
DTSTAMP:20260421T131556
CREATED:20200704T200954Z
LAST-MODIFIED:20200816T223005Z
UID:10005582-1596326400-1597622399@cccld.org
SUMMARY:Plein Air exhibit
DESCRIPTION:
URL:https://cccld.org/event/plein-air-exhibit-2/
CATEGORIES:Community Events
END:VEVENT
BEGIN:VEVENT
DTSTART;TZID=America/Denver:20200805T111500
DTEND;TZID=America/Denver:20200805T113000
DTSTAMP:20260421T131556
CREATED:20200625T220520Z
LAST-MODIFIED:20200625T220520Z
UID:10005564-1596626100-1596627000@cccld.org
SUMMARY:Virtual Storytime
DESCRIPTION:Join Miss Holly and Miss Honeybun for virtual Storytime every Wednesday at 11:15 am on our Facebook page.
URL:https://cccld.org/event/virtual-storytime-2/2020-08-05/
LOCATION:CO\, 80444\, United States
CATEGORIES:Kids,Library Events
GEO:39.7104468;-105.6969788
END:VEVENT
BEGIN:VEVENT
DTSTART;TZID=America/Denver:20200806T190000
DTEND;TZID=America/Denver:20200806T191500
DTSTAMP:20260421T131556
CREATED:20200625T220735Z
LAST-MODIFIED:20200625T220851Z
UID:10005573-1596740400-1596741300@cccld.org
SUMMARY:Virtual Goodnight Storytime
DESCRIPTION:Help Miss Holly get Miss Honeybun ready for bed with a goodnight Storytime every Thursday evening at 7 pm on our Facebook page.
URL:https://cccld.org/event/virtual-goodnight-storytime/2020-08-06/
LOCATION:CO\, 80444\, United States
CATEGORIES:Kids,Library Events
GEO:39.7104468;-105.6969788
END:VEVENT
BEGIN:VEVENT
DTSTART;TZID=America/Denver:20200812T111500
DTEND;TZID=America/Denver:20200812T113000
DTSTAMP:20260421T131556
CREATED:20200625T220520Z
LAST-MODIFIED:20200625T220520Z
UID:10005565-1597230900-1597231800@cccld.org
SUMMARY:Virtual Storytime
DESCRIPTION:Join Miss Holly and Miss Honeybun for virtual Storytime every Wednesday at 11:15 am on our Facebook page.
URL:https://cccld.org/event/virtual-storytime-2/2020-08-12/
LOCATION:CO\, 80444\, United States
CATEGORIES:Kids,Library Events
GEO:39.7104468;-105.6969788
END:VEVENT
BEGIN:VEVENT
DTSTART;TZID=America/Denver:20200813T190000
DTEND;TZID=America/Denver:20200813T191500
DTSTAMP:20260421T131556
CREATED:20200625T220735Z
LAST-MODIFIED:20200625T220851Z
UID:10005574-1597345200-1597346100@cccld.org
SUMMARY:Virtual Goodnight Storytime
DESCRIPTION:Help Miss Holly get Miss Honeybun ready for bed with a goodnight Storytime every Thursday evening at 7 pm on our Facebook page.
URL:https://cccld.org/event/virtual-goodnight-storytime/2020-08-13/
LOCATION:CO\, 80444\, United States
CATEGORIES:Kids,Library Events
GEO:39.7104468;-105.6969788
END:VEVENT
BEGIN:VEVENT
DTSTART;TZID=America/Denver:20200819T111500
DTEND;TZID=America/Denver:20200819T113000
DTSTAMP:20260421T131556
CREATED:20200625T220520Z
LAST-MODIFIED:20200625T220520Z
UID:10005566-1597835700-1597836600@cccld.org
SUMMARY:Virtual Storytime
DESCRIPTION:Join Miss Holly and Miss Honeybun for virtual Storytime every Wednesday at 11:15 am on our Facebook page.
URL:https://cccld.org/event/virtual-storytime-2/2020-08-19/
LOCATION:CO\, 80444\, United States
CATEGORIES:Kids,Library Events
GEO:39.7104468;-105.6969788
END:VEVENT
BEGIN:VEVENT
DTSTART;TZID=America/Denver:20200820T190000
DTEND;TZID=America/Denver:20200820T191500
DTSTAMP:20260421T131556
CREATED:20200625T220735Z
LAST-MODIFIED:20200625T220851Z
UID:10005575-1597950000-1597950900@cccld.org
SUMMARY:Virtual Goodnight Storytime
DESCRIPTION:Help Miss Holly get Miss Honeybun ready for bed with a goodnight Storytime every Thursday evening at 7 pm on our Facebook page.
URL:https://cccld.org/event/virtual-goodnight-storytime/2020-08-20/
LOCATION:CO\, 80444\, United States
CATEGORIES:Kids,Library Events
GEO:39.7104468;-105.6969788
END:VEVENT
BEGIN:VEVENT
DTSTART;TZID=America/Denver:20200826T111500
DTEND;TZID=America/Denver:20200826T113000
DTSTAMP:20260421T131556
CREATED:20200625T220520Z
LAST-MODIFIED:20200625T220520Z
UID:10005567-1598440500-1598441400@cccld.org
SUMMARY:Virtual Storytime
DESCRIPTION:Join Miss Holly and Miss Honeybun for virtual Storytime every Wednesday at 11:15 am on our Facebook page.
URL:https://cccld.org/event/virtual-storytime-2/2020-08-26/
LOCATION:CO\, 80444\, United States
CATEGORIES:Kids,Library Events
GEO:39.7104468;-105.6969788
END:VEVENT
BEGIN:VEVENT
DTSTART;TZID=America/Denver:20200827T190000
DTEND;TZID=America/Denver:20200827T191500
DTSTAMP:20260421T131556
CREATED:20200625T220735Z
LAST-MODIFIED:20200625T220851Z
UID:10005576-1598554800-1598555700@cccld.org
SUMMARY:Virtual Goodnight Storytime
DESCRIPTION:Help Miss Holly get Miss Honeybun ready for bed with a goodnight Storytime every Thursday evening at 7 pm on our Facebook page.
URL:https://cccld.org/event/virtual-goodnight-storytime/2020-08-27/
LOCATION:CO\, 80444\, United States
CATEGORIES:Kids,Library Events
GEO:39.7104468;-105.6969788
END:VEVENT
BEGIN:VEVENT
DTSTART;VALUE=DATE:20200830
DTEND;VALUE=DATE:20200831
DTSTAMP:20260421T131556
CREATED:20200817T224335Z
LAST-MODIFIED:20200830T230405Z
UID:10005584-1598745600-1598831999@cccld.org
SUMMARY:Musicale
DESCRIPTION:
URL:https://cccld.org/event/musicale-2/
CATEGORIES:Community Events
END:VEVENT
END:VCALENDAR