BEGIN:VCALENDAR
VERSION:2.0
PRODID:-//Clear Creek County Library District - ECPv6.15.16//NONSGML v1.0//EN
CALSCALE:GREGORIAN
METHOD:PUBLISH
X-ORIGINAL-URL:https://cccld.org
X-WR-CALDESC:Events for Clear Creek County Library District
REFRESH-INTERVAL;VALUE=DURATION:PT1H
X-Robots-Tag:noindex
X-PUBLISHED-TTL:PT1H
BEGIN:VTIMEZONE
TZID:America/Denver
BEGIN:DAYLIGHT
TZOFFSETFROM:-0700
TZOFFSETTO:-0600
TZNAME:MDT
DTSTART:20190310T090000
END:DAYLIGHT
BEGIN:STANDARD
TZOFFSETFROM:-0600
TZOFFSETTO:-0700
TZNAME:MST
DTSTART:20191103T080000
END:STANDARD
BEGIN:DAYLIGHT
TZOFFSETFROM:-0700
TZOFFSETTO:-0600
TZNAME:MDT
DTSTART:20200308T090000
END:DAYLIGHT
BEGIN:STANDARD
TZOFFSETFROM:-0600
TZOFFSETTO:-0700
TZNAME:MST
DTSTART:20201101T080000
END:STANDARD
BEGIN:DAYLIGHT
TZOFFSETFROM:-0700
TZOFFSETTO:-0600
TZNAME:MDT
DTSTART:20210314T090000
END:DAYLIGHT
BEGIN:STANDARD
TZOFFSETFROM:-0600
TZOFFSETTO:-0700
TZNAME:MST
DTSTART:20211107T080000
END:STANDARD
END:VTIMEZONE
BEGIN:VEVENT
DTSTART;TZID=America/Denver:20201007T111500
DTEND;TZID=America/Denver:20201007T120000
DTSTAMP:20260421T154036
CREATED:20201008T161152Z
LAST-MODIFIED:20210114T230127Z
UID:10004958-1602069300-1602072000@cccld.org
SUMMARY:Virtual Storytime
DESCRIPTION:Hop into storytime with Miss Honeybun! Find Miss Honeybun on Facebook at www.facebook.com/clearcreeklibrarydistrict
URL:https://cccld.org/event/virtual-storytime-3/2020-10-07/
LOCATION:CO\, 80444\, United States
CATEGORIES:Kids,Library Events
GEO:39.7104468;-105.6969788
END:VEVENT
BEGIN:VEVENT
DTSTART;VALUE=DATE:20201010
DTEND;VALUE=DATE:20201011
DTSTAMP:20260421T154036
CREATED:20200911T234420Z
LAST-MODIFIED:20200930T175053Z
UID:10005586-1602288000-1602374399@cccld.org
SUMMARY:Impromptu concert
DESCRIPTION:
URL:https://cccld.org/event/impromptu-concert/
CATEGORIES:Community Events
END:VEVENT
BEGIN:VEVENT
DTSTART;TZID=America/Denver:20201014T111500
DTEND;TZID=America/Denver:20201014T120000
DTSTAMP:20260421T154036
CREATED:20201008T161152Z
LAST-MODIFIED:20210114T230127Z
UID:10004959-1602674100-1602676800@cccld.org
SUMMARY:Virtual Storytime
DESCRIPTION:Hop into storytime with Miss Honeybun! Find Miss Honeybun on Facebook at www.facebook.com/clearcreeklibrarydistrict
URL:https://cccld.org/event/virtual-storytime-3/2020-10-14/
LOCATION:CO\, 80444\, United States
CATEGORIES:Kids,Library Events
GEO:39.7104468;-105.6969788
END:VEVENT
BEGIN:VEVENT
DTSTART;TZID=America/Denver:20201015T170000
DTEND;TZID=America/Denver:20201015T180000
DTSTAMP:20260421T154036
CREATED:20201008T163230Z
LAST-MODIFIED:20201008T163300Z
UID:10004987-1602781200-1602784800@cccld.org
SUMMARY:Virtual Creative Connection
DESCRIPTION:Create a Cemeterrarium for Halloween. Digital Crafting with Courtney and Caitlin.
URL:https://cccld.org/event/virtual-creative-connection/
LOCATION:CO\, 80444\, United States
CATEGORIES:Adults,Library Events
GEO:39.7104468;-105.6969788
END:VEVENT
BEGIN:VEVENT
DTSTART;TZID=America/Denver:20201021T111500
DTEND;TZID=America/Denver:20201021T120000
DTSTAMP:20260421T154036
CREATED:20201008T161152Z
LAST-MODIFIED:20210114T230127Z
UID:10004960-1603278900-1603281600@cccld.org
SUMMARY:Virtual Storytime
DESCRIPTION:Hop into storytime with Miss Honeybun! Find Miss Honeybun on Facebook at www.facebook.com/clearcreeklibrarydistrict
URL:https://cccld.org/event/virtual-storytime-3/2020-10-21/
LOCATION:CO\, 80444\, United States
CATEGORIES:Kids,Library Events
GEO:39.7104468;-105.6969788
END:VEVENT
BEGIN:VEVENT
DTSTART;TZID=America/Denver:20201028T111500
DTEND;TZID=America/Denver:20201028T120000
DTSTAMP:20260421T154036
CREATED:20201008T161152Z
LAST-MODIFIED:20210114T230127Z
UID:10004961-1603883700-1603886400@cccld.org
SUMMARY:Virtual Storytime
DESCRIPTION:Hop into storytime with Miss Honeybun! Find Miss Honeybun on Facebook at www.facebook.com/clearcreeklibrarydistrict
URL:https://cccld.org/event/virtual-storytime-3/2020-10-28/
LOCATION:CO\, 80444\, United States
CATEGORIES:Kids,Library Events
GEO:39.7104468;-105.6969788
END:VEVENT
BEGIN:VEVENT
DTSTART;TZID=America/Denver:20201030T160000
DTEND;TZID=America/Denver:20201030T200000
DTSTAMP:20260421T154036
CREATED:20201008T164747Z
LAST-MODIFIED:20201008T164747Z
UID:10004990-1604073600-1604088000@cccld.org
SUMMARY:Virtual Campfire Circle
DESCRIPTION:Gather round for virtual campfire stories! Sweet 4pm\, Spooky-5:30 pm and Scary-7pm! Email holly@cccld.org to register.
URL:https://cccld.org/event/virtual-campfire-circle/
LOCATION:CO\, 80444\, United States
CATEGORIES:Adults,Kids,Library Events,Teens
GEO:39.7104468;-105.6969788
END:VEVENT
BEGIN:VEVENT
DTSTART;VALUE=DATE:20201031
DTEND;VALUE=DATE:20201102
DTSTAMP:20260421T154036
CREATED:20201008T165405Z
LAST-MODIFIED:20201008T165405Z
UID:10004991-1604102400-1604275199@cccld.org
SUMMARY:Virtual Costume Contest
DESCRIPTION:Enter the costume contest by sending photos to holly@cccld.org by Nov. 1
URL:https://cccld.org/event/virtual-costume-contest/
LOCATION:CO\, 80444\, United States
CATEGORIES:Adults,Kids,Library Events,Teens
GEO:39.7104468;-105.6969788
END:VEVENT
END:VCALENDAR