BEGIN:VCALENDAR
VERSION:2.0
PRODID:-//Clear Creek County Library District - ECPv6.15.16//NONSGML v1.0//EN
CALSCALE:GREGORIAN
METHOD:PUBLISH
X-ORIGINAL-URL:https://cccld.org
X-WR-CALDESC:Events for Clear Creek County Library District
REFRESH-INTERVAL;VALUE=DURATION:PT1H
X-Robots-Tag:noindex
X-PUBLISHED-TTL:PT1H
BEGIN:VTIMEZONE
TZID:America/Denver
BEGIN:DAYLIGHT
TZOFFSETFROM:-0700
TZOFFSETTO:-0600
TZNAME:MDT
DTSTART:20240310T090000
END:DAYLIGHT
BEGIN:STANDARD
TZOFFSETFROM:-0600
TZOFFSETTO:-0700
TZNAME:MST
DTSTART:20241103T080000
END:STANDARD
BEGIN:DAYLIGHT
TZOFFSETFROM:-0700
TZOFFSETTO:-0600
TZNAME:MDT
DTSTART:20250309T090000
END:DAYLIGHT
BEGIN:STANDARD
TZOFFSETFROM:-0600
TZOFFSETTO:-0700
TZNAME:MST
DTSTART:20251102T080000
END:STANDARD
BEGIN:DAYLIGHT
TZOFFSETFROM:-0700
TZOFFSETTO:-0600
TZNAME:MDT
DTSTART:20260308T090000
END:DAYLIGHT
BEGIN:STANDARD
TZOFFSETFROM:-0600
TZOFFSETTO:-0700
TZNAME:MST
DTSTART:20261101T080000
END:STANDARD
END:VTIMEZONE
BEGIN:VEVENT
DTSTART;TZID=America/Denver:20250401T173000
DTEND;TZID=America/Denver:20250401T190000
DTSTAMP:20260421T044338
CREATED:20250324T191645Z
LAST-MODIFIED:20260211T200925Z
UID:10006651-1743528600-1743534000@cccld.org
SUMMARY:ISPL - Ukrainian Egg Workshop
DESCRIPTION:Host Meghan Vickers will teach you how to create a beautiful decorated egg using traditional Ukrainian painting techniques. Registration is required\, email holly@cccld.org
URL:https://cccld.org/event/ispl-ukrainian-egg-workshop/2025-04-01/
LOCATION:Idaho Springs Public Library\, 219 14th Avenue\, Idaho Springs\, CO\, 80452\, United States
CATEGORIES:Adults,Library Events
GEO:39.742052;-105.5183552
X-APPLE-STRUCTURED-LOCATION;VALUE=URI;X-ADDRESS=Idaho Springs Public Library 219 14th Avenue Idaho Springs CO 80452 United States;X-APPLE-RADIUS=500;X-TITLE=219 14th Avenue:geo:-105.5183552,39.742052
END:VEVENT
BEGIN:VEVENT
DTSTART;TZID=America/Denver:20250403T173000
DTEND;TZID=America/Denver:20250403T190000
DTSTAMP:20260421T044338
CREATED:20250324T191740Z
LAST-MODIFIED:20260211T200847Z
UID:10006652-1743701400-1743706800@cccld.org
SUMMARY:JTML - Ukrainian Egg Workshop
DESCRIPTION:Host Meghan Vickers will teach you how to create a beautiful decorated egg using traditional Ukrainian painting techniques. Registration is required\, email holly@cccld.org
URL:https://cccld.org/event/jtml-ukrainian-egg-workshop/2025-04-03/
LOCATION:John Tomay Memorial Library\, 605 6th Street\, Georgetown\, CO\, 80444\, United States
CATEGORIES:Adults,Library Events
GEO:39.7061997;-105.6974142
X-APPLE-STRUCTURED-LOCATION;VALUE=URI;X-ADDRESS=John Tomay Memorial Library 605 6th Street Georgetown CO 80444 United States;X-APPLE-RADIUS=500;X-TITLE=605 6th Street:geo:-105.6974142,39.7061997
END:VEVENT
BEGIN:VEVENT
DTSTART;TZID=America/Denver:20250404T100000
DTEND;TZID=America/Denver:20250404T110000
DTSTAMP:20260421T044338
CREATED:20250324T192304Z
LAST-MODIFIED:20250324T192304Z
UID:10006654-1743760800-1743764400@cccld.org
SUMMARY:ISPL - Egg & Nest Storytime
DESCRIPTION:Join us for stories\, songs\, and more egg-stra special fun!
URL:https://cccld.org/event/ispl-egg-nest-storytime/
LOCATION:Idaho Springs Public Library\, 219 14th Avenue\, Idaho Springs\, CO\, 80452\, United States
CATEGORIES:Kids,Library Events
GEO:39.742052;-105.5183552
X-APPLE-STRUCTURED-LOCATION;VALUE=URI;X-ADDRESS=Idaho Springs Public Library 219 14th Avenue Idaho Springs CO 80452 United States;X-APPLE-RADIUS=500;X-TITLE=219 14th Avenue:geo:-105.5183552,39.742052
END:VEVENT
BEGIN:VEVENT
DTSTART;TZID=America/Denver:20250411T100000
DTEND;TZID=America/Denver:20250411T110000
DTSTAMP:20260421T044338
CREATED:20250324T192434Z
LAST-MODIFIED:20250324T192434Z
UID:10006655-1744365600-1744369200@cccld.org
SUMMARY:JTML - Library Love Storytime
DESCRIPTION:Hop into National Library Week with Miss Honeybun!
URL:https://cccld.org/event/jtml-library-love-storytime/
LOCATION:John Tomay Memorial Library\, 605 6th Street\, Georgetown\, CO\, 80444\, United States
CATEGORIES:Kids,Library Events
GEO:39.7061997;-105.6974142
X-APPLE-STRUCTURED-LOCATION;VALUE=URI;X-ADDRESS=John Tomay Memorial Library 605 6th Street Georgetown CO 80444 United States;X-APPLE-RADIUS=500;X-TITLE=605 6th Street:geo:-105.6974142,39.7061997
END:VEVENT
BEGIN:VEVENT
DTSTART;TZID=America/Denver:20250411T140000
DTEND;TZID=America/Denver:20250411T150000
DTSTAMP:20260421T044338
CREATED:20250326T161539Z
LAST-MODIFIED:20250326T161539Z
UID:10006657-1744380000-1744383600@cccld.org
SUMMARY:JTML - Miss Honeybun's Springtime Hat Workshop
DESCRIPTION:Bring your favorite stuffed friend and get crafty with us at this springtime workshop!
URL:https://cccld.org/event/jtml-miss-honeybuns-springtime-hat-workshop/
LOCATION:John Tomay Memorial Library\, 605 6th Street\, Georgetown\, CO\, 80444\, United States
CATEGORIES:Kids,Library Events
GEO:39.7061997;-105.6974142
X-APPLE-STRUCTURED-LOCATION;VALUE=URI;X-ADDRESS=John Tomay Memorial Library 605 6th Street Georgetown CO 80444 United States;X-APPLE-RADIUS=500;X-TITLE=605 6th Street:geo:-105.6974142,39.7061997
END:VEVENT
BEGIN:VEVENT
DTSTART;TZID=America/Denver:20250414T160000
DTEND;TZID=America/Denver:20250414T170000
DTSTAMP:20260421T044338
CREATED:20240610T171053Z
LAST-MODIFIED:20260116T185121Z
UID:10006631-1744646400-1744650000@cccld.org
SUMMARY:ISPL Book Group
DESCRIPTION:Everyone is welcome. Email libby@cccld.org for more information.
URL:https://cccld.org/event/ispl-book-group-16-2/2025-04-14/
LOCATION:Idaho Springs Public Library\, 219 14th Avenue\, Idaho Springs\, CO\, 80452\, United States
CATEGORIES:Adults,Library Events
GEO:39.742052;-105.5183552
X-APPLE-STRUCTURED-LOCATION;VALUE=URI;X-ADDRESS=Idaho Springs Public Library 219 14th Avenue Idaho Springs CO 80452 United States;X-APPLE-RADIUS=500;X-TITLE=219 14th Avenue:geo:-105.5183552,39.742052
END:VEVENT
BEGIN:VEVENT
DTSTART;TZID=America/Denver:20250415T170000
DTEND;TZID=America/Denver:20250415T180000
DTSTAMP:20260421T044338
CREATED:20240312T155519Z
LAST-MODIFIED:20250103T210643Z
UID:10006615-1744736400-1744740000@cccld.org
SUMMARY:Library District Board Meeting
DESCRIPTION:The Clear Creek County Library District Board of Trustees meets on the third Tuesday of the month at 5:00 pm. Meetings are held virtual\, in-person\, or hybrid depending on the month. The Board of Trustees will not meet in July or November 2025.
URL:https://cccld.org/event/library-district-board-meeting-3/2025-04-15/
CATEGORIES:Community Events,Library Events
END:VEVENT
BEGIN:VEVENT
DTSTART;TZID=America/Denver:20250417T150000
DTEND;TZID=America/Denver:20250417T160000
DTSTAMP:20260421T044338
CREATED:20230424T155339Z
LAST-MODIFIED:20250811T205707Z
UID:10006511-1744902000-1744905600@cccld.org
SUMMARY:JTML Book Group
DESCRIPTION:Everyone is welcome. Email libby@cccld.org for more information.
URL:https://cccld.org/event/jtml-book-group-13/2025-04-17/
CATEGORIES:Adults,Library Events
END:VEVENT
BEGIN:VEVENT
DTSTART;VALUE=DATE:20250420
DTEND;VALUE=DATE:20250421
DTSTAMP:20260421T044338
CREATED:20250219T230215Z
LAST-MODIFIED:20250219T230215Z
UID:10006643-1745107200-1745193599@cccld.org
SUMMARY:Easter
DESCRIPTION:
URL:https://cccld.org/event/easter-3/
CATEGORIES:Library Events
END:VEVENT
BEGIN:VEVENT
DTSTART;VALUE=DATE:20250420
DTEND;VALUE=DATE:20250427
DTSTAMP:20260421T044338
CREATED:20250326T162457Z
LAST-MODIFIED:20260320T203051Z
UID:10006916-1745107200-1745711999@cccld.org
SUMMARY:Celebrate National Library Week!
DESCRIPTION:Celebrate National Library Week! This is an annual celebration highlighting the roles that libraries\, librarians\, and library workers play in transforming lives and strengthening communities. Stop by the Idaho Springs Public Library or the John Tomay Memorial Library for tea\, coffee\, and cookies. Fill out an entry form for prize drawings.
URL:https://cccld.org/event/national-library-week-4/2025-04-20/
CATEGORIES:Adults,Kids,Library Events,Teens
END:VEVENT
BEGIN:VEVENT
DTSTART;TZID=America/Denver:20250430T153000
DTEND;TZID=America/Denver:20250430T173000
DTSTAMP:20260421T044338
CREATED:20250326T161841Z
LAST-MODIFIED:20260320T202402Z
UID:10006642-1746027000-1746034200@cccld.org
SUMMARY:Día de los Niños Party
DESCRIPTION:Celebrate children\, families\, and literacy at our annual Día party! Refreshments\, traditional dance performances\, and a storytime en Español promise a lively time at this after-school fiesta.
URL:https://cccld.org/event/dia-de-los-ninos-4-2/2025-04-30/
LOCATION:Idaho Springs Public Library\, 219 14th Avenue\, Idaho Springs\, CO\, 80452\, United States
CATEGORIES:Adults,Kids,Library Events,Teens
GEO:39.742052;-105.5183552
X-APPLE-STRUCTURED-LOCATION;VALUE=URI;X-ADDRESS=Idaho Springs Public Library 219 14th Avenue Idaho Springs CO 80452 United States;X-APPLE-RADIUS=500;X-TITLE=219 14th Avenue:geo:-105.5183552,39.742052
END:VEVENT
END:VCALENDAR