BEGIN:VCALENDAR
VERSION:2.0
PRODID:-//Clear Creek County Library District - ECPv6.15.16//NONSGML v1.0//EN
CALSCALE:GREGORIAN
METHOD:PUBLISH
X-WR-CALNAME:Clear Creek County Library District
X-ORIGINAL-URL:https://cccld.org
X-WR-CALDESC:Events for Clear Creek County Library District
REFRESH-INTERVAL;VALUE=DURATION:PT1H
X-Robots-Tag:noindex
X-PUBLISHED-TTL:PT1H
BEGIN:VTIMEZONE
TZID:America/Denver
BEGIN:DAYLIGHT
TZOFFSETFROM:-0700
TZOFFSETTO:-0600
TZNAME:MDT
DTSTART:20180311T090000
END:DAYLIGHT
BEGIN:STANDARD
TZOFFSETFROM:-0600
TZOFFSETTO:-0700
TZNAME:MST
DTSTART:20181104T080000
END:STANDARD
BEGIN:DAYLIGHT
TZOFFSETFROM:-0700
TZOFFSETTO:-0600
TZNAME:MDT
DTSTART:20190310T090000
END:DAYLIGHT
BEGIN:STANDARD
TZOFFSETFROM:-0600
TZOFFSETTO:-0700
TZNAME:MST
DTSTART:20191103T080000
END:STANDARD
BEGIN:DAYLIGHT
TZOFFSETFROM:-0700
TZOFFSETTO:-0600
TZNAME:MDT
DTSTART:20200308T090000
END:DAYLIGHT
BEGIN:STANDARD
TZOFFSETFROM:-0600
TZOFFSETTO:-0700
TZNAME:MST
DTSTART:20201101T080000
END:STANDARD
BEGIN:DAYLIGHT
TZOFFSETFROM:-0700
TZOFFSETTO:-0600
TZNAME:MDT
DTSTART:20210314T090000
END:DAYLIGHT
BEGIN:STANDARD
TZOFFSETFROM:-0600
TZOFFSETTO:-0700
TZNAME:MST
DTSTART:20211107T080000
END:STANDARD
BEGIN:DAYLIGHT
TZOFFSETFROM:-0700
TZOFFSETTO:-0600
TZNAME:MDT
DTSTART:20220313T090000
END:DAYLIGHT
BEGIN:STANDARD
TZOFFSETFROM:-0600
TZOFFSETTO:-0700
TZNAME:MST
DTSTART:20221106T080000
END:STANDARD
BEGIN:DAYLIGHT
TZOFFSETFROM:-0700
TZOFFSETTO:-0600
TZNAME:MDT
DTSTART:20230312T090000
END:DAYLIGHT
BEGIN:STANDARD
TZOFFSETFROM:-0600
TZOFFSETTO:-0700
TZNAME:MST
DTSTART:20231105T080000
END:STANDARD
END:VTIMEZONE
BEGIN:VEVENT
DTSTART;TZID=America/Denver:20221208T161500
DTEND;TZID=America/Denver:20221208T201500
DTSTAMP:20260421T160048
CREATED:20221107T194342Z
LAST-MODIFIED:20221114T204339Z
UID:10006034-1670516100-1670530500@cccld.org
SUMMARY:HS Basketball HOME VS Lyons Game times: JV Boys 4:15/ VGirls 5:30/ V Boys 7:00
DESCRIPTION:Gate/Tickets : cash only adults $6/CCSD students/staff free\nConcessions will be open: cash only
URL:https://cccld.org/event/hs-basketball-home-vs-lyons-game-times-jv-boys-415-vgirls-530-v-boys-700/
LOCATION:Clear Creek High School\, 185 Beaver Brook Canyon Rd\, Evergreen\, CO 80439\, USA\, 71 Clear Creek Rd\, United States
CATEGORIES:Community Events
GEO:39.73036;-105.434368
X-APPLE-STRUCTURED-LOCATION;VALUE=URI;X-ADDRESS=Clear Creek High School 185 Beaver Brook Canyon Rd Evergreen CO 80439 USA 71 Clear Creek Rd United States;X-APPLE-RADIUS=500;X-TITLE=71 Clear Creek Rd:geo:-105.434368,39.73036
END:VEVENT
BEGIN:VEVENT
DTSTART;TZID=America/Denver:20190824T100000
DTEND;TZID=America/Denver:20190824T120000
DTSTAMP:20260421T160048
CREATED:20190725T194405Z
LAST-MODIFIED:20190824T204358Z
UID:10004984-1566640800-1566648000@cccld.org
SUMMARY:HS VB vs Bennett @ CCHS -V\, JV Scrimmage (10:00 - 12:00)
DESCRIPTION:
URL:https://cccld.org/event/hs-vb-vs-bennett-bennett-no-bus-v-only-830-1100/
LOCATION:Clear Creek High School\, 185 Beaver Brook Canyon Rd\, Evergreen\, CO 80439\, USA\, 71 Clear Creek Rd\, United States
CATEGORIES:Community Events
GEO:39.73036;-105.434368
X-APPLE-STRUCTURED-LOCATION;VALUE=URI;X-ADDRESS=Clear Creek High School 185 Beaver Brook Canyon Rd Evergreen CO 80439 USA 71 Clear Creek Rd United States;X-APPLE-RADIUS=500;X-TITLE=71 Clear Creek Rd:geo:-105.434368,39.73036
END:VEVENT
END:VCALENDAR