BEGIN:VCALENDAR
VERSION:2.0
PRODID:-//Clear Creek County Library District - ECPv6.15.16//NONSGML v1.0//EN
CALSCALE:GREGORIAN
METHOD:PUBLISH
X-ORIGINAL-URL:https://cccld.org
X-WR-CALDESC:Events for Clear Creek County Library District
REFRESH-INTERVAL;VALUE=DURATION:PT1H
X-Robots-Tag:noindex
X-PUBLISHED-TTL:PT1H
BEGIN:VTIMEZONE
TZID:America/Denver
BEGIN:DAYLIGHT
TZOFFSETFROM:-0700
TZOFFSETTO:-0600
TZNAME:MDT
DTSTART:20220313T090000
END:DAYLIGHT
BEGIN:STANDARD
TZOFFSETFROM:-0600
TZOFFSETTO:-0700
TZNAME:MST
DTSTART:20221106T080000
END:STANDARD
BEGIN:DAYLIGHT
TZOFFSETFROM:-0700
TZOFFSETTO:-0600
TZNAME:MDT
DTSTART:20230312T090000
END:DAYLIGHT
BEGIN:STANDARD
TZOFFSETFROM:-0600
TZOFFSETTO:-0700
TZNAME:MST
DTSTART:20231105T080000
END:STANDARD
BEGIN:DAYLIGHT
TZOFFSETFROM:-0700
TZOFFSETTO:-0600
TZNAME:MDT
DTSTART:20240310T090000
END:DAYLIGHT
BEGIN:STANDARD
TZOFFSETFROM:-0600
TZOFFSETTO:-0700
TZNAME:MST
DTSTART:20241103T080000
END:STANDARD
END:VTIMEZONE
BEGIN:VEVENT
DTSTART;TZID=America/Denver:20230912T173000
DTEND;TZID=America/Denver:20230912T193000
DTSTAMP:20260421T110650
CREATED:20230727T163034Z
LAST-MODIFIED:20230727T163034Z
UID:10006367-1694539800-1694547000@cccld.org
SUMMARY:ISPL Adult Craft
DESCRIPTION:Join us each month for a great adult craft at the Idaho Springs Public Library. This month’s craft is Jewelry with Kate. For information and to register email chris@cccld.org
URL:https://cccld.org/event/ispl-adult-craft-12/
LOCATION:Idaho Springs Public Library\, 219 14th Avenue\, Idaho Springs\, CO\, 80452\, United States
CATEGORIES:Adults,Library Events
GEO:39.742052;-105.5183552
X-APPLE-STRUCTURED-LOCATION;VALUE=URI;X-ADDRESS=Idaho Springs Public Library 219 14th Avenue Idaho Springs CO 80452 United States;X-APPLE-RADIUS=500;X-TITLE=219 14th Avenue:geo:-105.5183552,39.742052
END:VEVENT
BEGIN:VEVENT
DTSTART;TZID=America/Denver:20230912T111500
DTEND;TZID=America/Denver:20230912T121500
DTSTAMP:20260421T110650
CREATED:20230727T161653Z
LAST-MODIFIED:20240420T175137Z
UID:10006290-1694517300-1694520900@cccld.org
SUMMARY:ISPL Storytime
DESCRIPTION:Join us for storytime and crafts at the Idaho Springs Public Library.
URL:https://cccld.org/event/ispl-storytime-10/2023-09-12/
LOCATION:Idaho Springs Public Library\, 219 14th Avenue\, Idaho Springs\, CO\, 80452\, United States
CATEGORIES:Kids,Library Events
GEO:39.742052;-105.5183552
X-APPLE-STRUCTURED-LOCATION;VALUE=URI;X-ADDRESS=Idaho Springs Public Library 219 14th Avenue Idaho Springs CO 80452 United States;X-APPLE-RADIUS=500;X-TITLE=219 14th Avenue:geo:-105.5183552,39.742052
END:VEVENT
BEGIN:VEVENT
DTSTART;TZID=America/Denver:20230911T160000
DTEND;TZID=America/Denver:20230911T170000
DTSTAMP:20260421T110650
CREATED:20230504T172937Z
LAST-MODIFIED:20240507T215850Z
UID:10005380-1694448000-1694451600@cccld.org
SUMMARY:ISPL Book Group
DESCRIPTION:Everyone is welcome. Email libby@cccld.org for more information.
URL:https://cccld.org/event/ispl-book-group-16/2023-09-11/
LOCATION:Idaho Springs Public Library\, 219 14th Avenue\, Idaho Springs\, CO\, 80452\, United States
CATEGORIES:Adults,Library Events
GEO:39.742052;-105.5183552
X-APPLE-STRUCTURED-LOCATION;VALUE=URI;X-ADDRESS=Idaho Springs Public Library 219 14th Avenue Idaho Springs CO 80452 United States;X-APPLE-RADIUS=500;X-TITLE=219 14th Avenue:geo:-105.5183552,39.742052
END:VEVENT
BEGIN:VEVENT
DTSTART;TZID=America/Denver:20230908T140000
DTEND;TZID=America/Denver:20230908T160000
DTSTAMP:20260421T110650
CREATED:20230808T165342Z
LAST-MODIFIED:20230814T201642Z
UID:10006376-1694181600-1694188800@cccld.org
SUMMARY:ISPL-Virtual Reality
DESCRIPTION:Explore new worlds and great games at our virtual reality sessions for tweens and teens (ages 12 years and older). Registration is required. Please email heather@cccld.org to learn more and save your spot.
URL:https://cccld.org/event/ispl-virtual-reality-6/2023-09-08/
LOCATION:Idaho Springs Public Library\, 219 14th Avenue\, Idaho Springs\, CO\, 80452\, United States
CATEGORIES:Library Events,Teens
GEO:39.742052;-105.5183552
X-APPLE-STRUCTURED-LOCATION;VALUE=URI;X-ADDRESS=Idaho Springs Public Library 219 14th Avenue Idaho Springs CO 80452 United States;X-APPLE-RADIUS=500;X-TITLE=219 14th Avenue:geo:-105.5183552,39.742052
END:VEVENT
BEGIN:VEVENT
DTSTART;TZID=America/Denver:20230905T111500
DTEND;TZID=America/Denver:20230905T121500
DTSTAMP:20260421T110650
CREATED:20230727T161653Z
LAST-MODIFIED:20240420T175137Z
UID:10006289-1693912500-1693916100@cccld.org
SUMMARY:ISPL Storytime
DESCRIPTION:Join us for storytime and crafts at the Idaho Springs Public Library.
URL:https://cccld.org/event/ispl-storytime-10/2023-09-05/
LOCATION:Idaho Springs Public Library\, 219 14th Avenue\, Idaho Springs\, CO\, 80452\, United States
CATEGORIES:Kids,Library Events
GEO:39.742052;-105.5183552
X-APPLE-STRUCTURED-LOCATION;VALUE=URI;X-ADDRESS=Idaho Springs Public Library 219 14th Avenue Idaho Springs CO 80452 United States;X-APPLE-RADIUS=500;X-TITLE=219 14th Avenue:geo:-105.5183552,39.742052
END:VEVENT
BEGIN:VEVENT
DTSTART;TZID=America/Denver:20230826T090000
DTEND;TZID=America/Denver:20230826T103000
DTSTAMP:20260421T110650
CREATED:20230601T162558Z
LAST-MODIFIED:20230601T162558Z
UID:10006272-1693040400-1693045800@cccld.org
SUMMARY:ISPL Monthly Writers' Chat
DESCRIPTION:Monthly Writers’ Chat hosted by local author\, Lisa Manifold. Connect with other local authors and share ideas. Light refreshments served. Contact chris@cccld.org to register and for additional information.
URL:https://cccld.org/event/ispl-monthly-writers-chat/2023-08-26/
LOCATION:Idaho Springs Public Library\, 219 14th Avenue\, Idaho Springs\, CO\, 80452\, United States
CATEGORIES:Adults,Library Events
GEO:39.742052;-105.5183552
X-APPLE-STRUCTURED-LOCATION;VALUE=URI;X-ADDRESS=Idaho Springs Public Library 219 14th Avenue Idaho Springs CO 80452 United States;X-APPLE-RADIUS=500;X-TITLE=219 14th Avenue:geo:-105.5183552,39.742052
END:VEVENT
BEGIN:VEVENT
DTSTART;TZID=America/Denver:20230814T160000
DTEND;TZID=America/Denver:20230814T170000
DTSTAMP:20260421T110650
CREATED:20230504T172937Z
LAST-MODIFIED:20240507T215850Z
UID:10005379-1692028800-1692032400@cccld.org
SUMMARY:ISPL Book Group
DESCRIPTION:Everyone is welcome. Email libby@cccld.org for more information.
URL:https://cccld.org/event/ispl-book-group-16/2023-08-14/
LOCATION:Idaho Springs Public Library\, 219 14th Avenue\, Idaho Springs\, CO\, 80452\, United States
CATEGORIES:Adults,Library Events
GEO:39.742052;-105.5183552
X-APPLE-STRUCTURED-LOCATION;VALUE=URI;X-ADDRESS=Idaho Springs Public Library 219 14th Avenue Idaho Springs CO 80452 United States;X-APPLE-RADIUS=500;X-TITLE=219 14th Avenue:geo:-105.5183552,39.742052
END:VEVENT
BEGIN:VEVENT
DTSTART;TZID=America/Denver:20230804T130000
DTEND;TZID=America/Denver:20230804T150000
DTSTAMP:20260421T110650
CREATED:20230724T180056Z
LAST-MODIFIED:20230724T180056Z
UID:10005439-1691154000-1691161200@cccld.org
SUMMARY:ISPL - Virtual Reality
DESCRIPTION:Explore new worlds and great games at our virtual reality sessions for tweens and teens (ages 12 years and older). Registration is required. Please email heather@cccld.org to learn more and save your spot.
URL:https://cccld.org/event/ispl-virtual-reality-5/
LOCATION:Idaho Springs Public Library\, 219 14th Avenue\, Idaho Springs\, CO\, 80452\, United States
CATEGORIES:Library Events,Teens
GEO:39.742052;-105.5183552
X-APPLE-STRUCTURED-LOCATION;VALUE=URI;X-ADDRESS=Idaho Springs Public Library 219 14th Avenue Idaho Springs CO 80452 United States;X-APPLE-RADIUS=500;X-TITLE=219 14th Avenue:geo:-105.5183552,39.742052
END:VEVENT
BEGIN:VEVENT
DTSTART;TZID=America/Denver:20230725T170000
DTEND;TZID=America/Denver:20230725T190000
DTSTAMP:20260421T110650
CREATED:20230615T161711Z
LAST-MODIFIED:20230615T161711Z
UID:10006276-1690304400-1690311600@cccld.org
SUMMARY:ISPL - Summer Reading Graduation Party
DESCRIPTION:Celebrate your graduation from Magic Academy on Tuesday\, July 25\, at the Idaho Springs Public Library. Enjoy refreshments\, play games\, and marvel at a professional magician’s amazing tricks!
URL:https://cccld.org/event/ispl-summer-reading-graduation-party/
LOCATION:Idaho Springs Public Library\, 219 14th Avenue\, Idaho Springs\, CO\, 80452\, United States
CATEGORIES:Adults,Kids,Library Events,Summer Reading,Teens
GEO:39.742052;-105.5183552
X-APPLE-STRUCTURED-LOCATION;VALUE=URI;X-ADDRESS=Idaho Springs Public Library 219 14th Avenue Idaho Springs CO 80452 United States;X-APPLE-RADIUS=500;X-TITLE=219 14th Avenue:geo:-105.5183552,39.742052
END:VEVENT
BEGIN:VEVENT
DTSTART;TZID=America/Denver:20230718T100000
DTEND;TZID=America/Denver:20230718T110000
DTSTAMP:20260421T110650
CREATED:20230601T160931Z
LAST-MODIFIED:20230717T155522Z
UID:10006269-1689674400-1689678000@cccld.org
SUMMARY:ISPL Summer Reading
DESCRIPTION:Magic in the Library — Explore enchanting stories\, crafts\, and activities. Read your way to fabulous treasures! Connect with other readers and learners in our community. For more information go to cccld.org/summerreading
URL:https://cccld.org/event/ispl-summer-reading-2/2023-07-18/
LOCATION:Idaho Springs Public Library\, 219 14th Avenue\, Idaho Springs\, CO\, 80452\, United States
CATEGORIES:Kids,Library Events,Summer Reading,Teens
GEO:39.742052;-105.5183552
X-APPLE-STRUCTURED-LOCATION;VALUE=URI;X-ADDRESS=Idaho Springs Public Library 219 14th Avenue Idaho Springs CO 80452 United States;X-APPLE-RADIUS=500;X-TITLE=219 14th Avenue:geo:-105.5183552,39.742052
END:VEVENT
BEGIN:VEVENT
DTSTART;TZID=America/Denver:20230715T090000
DTEND;TZID=America/Denver:20230715T103000
DTSTAMP:20260421T110650
CREATED:20230601T162558Z
LAST-MODIFIED:20230601T162558Z
UID:10006271-1689411600-1689417000@cccld.org
SUMMARY:ISPL Monthly Writers' Chat
DESCRIPTION:Monthly Writers’ Chat hosted by local author\, Lisa Manifold. Connect with other local authors and share ideas. Light refreshments served. Contact chris@cccld.org to register and for additional information.
URL:https://cccld.org/event/ispl-monthly-writers-chat/2023-07-15/
LOCATION:Idaho Springs Public Library\, 219 14th Avenue\, Idaho Springs\, CO\, 80452\, United States
CATEGORIES:Adults,Library Events
GEO:39.742052;-105.5183552
X-APPLE-STRUCTURED-LOCATION;VALUE=URI;X-ADDRESS=Idaho Springs Public Library 219 14th Avenue Idaho Springs CO 80452 United States;X-APPLE-RADIUS=500;X-TITLE=219 14th Avenue:geo:-105.5183552,39.742052
END:VEVENT
BEGIN:VEVENT
DTSTART;TZID=America/Denver:20230714T130000
DTEND;TZID=America/Denver:20230714T150000
DTSTAMP:20260421T110650
CREATED:20230215T175035Z
LAST-MODIFIED:20260120T200550Z
UID:10005304-1689339600-1689346800@cccld.org
SUMMARY:ISPL - Virtual Reality
DESCRIPTION:Explore new worlds and great games at our virtual reality sessions for tweens and teens (ages 12 years and older). Registration is required. Please email heather@cccld.org to learn more and save your spot.
URL:https://cccld.org/event/ispl-virtual-reality-4/2023-07-14/
LOCATION:Idaho Springs Public Library\, 219 14th Avenue\, Idaho Springs\, CO\, 80452\, United States
CATEGORIES:Library Events,Teens
GEO:39.742052;-105.5183552
X-APPLE-STRUCTURED-LOCATION;VALUE=URI;X-ADDRESS=Idaho Springs Public Library 219 14th Avenue Idaho Springs CO 80452 United States;X-APPLE-RADIUS=500;X-TITLE=219 14th Avenue:geo:-105.5183552,39.742052
END:VEVENT
BEGIN:VEVENT
DTSTART;TZID=America/Denver:20230711T100000
DTEND;TZID=America/Denver:20230711T110000
DTSTAMP:20260421T110650
CREATED:20230601T160931Z
LAST-MODIFIED:20230717T155522Z
UID:10006268-1689069600-1689073200@cccld.org
SUMMARY:ISPL Summer Reading
DESCRIPTION:Magic in the Library — Explore enchanting stories\, crafts\, and activities. Read your way to fabulous treasures! Connect with other readers and learners in our community. For more information go to cccld.org/summerreading
URL:https://cccld.org/event/ispl-summer-reading-2/2023-07-11/
LOCATION:Idaho Springs Public Library\, 219 14th Avenue\, Idaho Springs\, CO\, 80452\, United States
CATEGORIES:Kids,Library Events,Summer Reading,Teens
GEO:39.742052;-105.5183552
X-APPLE-STRUCTURED-LOCATION;VALUE=URI;X-ADDRESS=Idaho Springs Public Library 219 14th Avenue Idaho Springs CO 80452 United States;X-APPLE-RADIUS=500;X-TITLE=219 14th Avenue:geo:-105.5183552,39.742052
END:VEVENT
BEGIN:VEVENT
DTSTART;TZID=America/Denver:20230710T160000
DTEND;TZID=America/Denver:20230710T170000
DTSTAMP:20260421T110650
CREATED:20230504T172937Z
LAST-MODIFIED:20240507T215850Z
UID:10005378-1689004800-1689008400@cccld.org
SUMMARY:ISPL Book Group
DESCRIPTION:Everyone is welcome. Email libby@cccld.org for more information.
URL:https://cccld.org/event/ispl-book-group-16/2023-07-10/
LOCATION:Idaho Springs Public Library\, 219 14th Avenue\, Idaho Springs\, CO\, 80452\, United States
CATEGORIES:Adults,Library Events
GEO:39.742052;-105.5183552
X-APPLE-STRUCTURED-LOCATION;VALUE=URI;X-ADDRESS=Idaho Springs Public Library 219 14th Avenue Idaho Springs CO 80452 United States;X-APPLE-RADIUS=500;X-TITLE=219 14th Avenue:geo:-105.5183552,39.742052
END:VEVENT
BEGIN:VEVENT
DTSTART;TZID=America/Denver:20230627T100000
DTEND;TZID=America/Denver:20230627T110000
DTSTAMP:20260421T110650
CREATED:20230601T160931Z
LAST-MODIFIED:20230717T155522Z
UID:10006267-1687860000-1687863600@cccld.org
SUMMARY:ISPL Summer Reading
DESCRIPTION:Magic in the Library — Explore enchanting stories\, crafts\, and activities. Read your way to fabulous treasures! Connect with other readers and learners in our community. For more information go to cccld.org/summerreading
URL:https://cccld.org/event/ispl-summer-reading-2/2023-06-27/
LOCATION:Idaho Springs Public Library\, 219 14th Avenue\, Idaho Springs\, CO\, 80452\, United States
CATEGORIES:Kids,Library Events,Summer Reading,Teens
GEO:39.742052;-105.5183552
X-APPLE-STRUCTURED-LOCATION;VALUE=URI;X-ADDRESS=Idaho Springs Public Library 219 14th Avenue Idaho Springs CO 80452 United States;X-APPLE-RADIUS=500;X-TITLE=219 14th Avenue:geo:-105.5183552,39.742052
END:VEVENT
BEGIN:VEVENT
DTSTART;TZID=America/Denver:20230624T090000
DTEND;TZID=America/Denver:20230624T103000
DTSTAMP:20260421T110650
CREATED:20230601T162558Z
LAST-MODIFIED:20230601T162558Z
UID:10006270-1687597200-1687602600@cccld.org
SUMMARY:ISPL Monthly Writers' Chat
DESCRIPTION:Monthly Writers’ Chat hosted by local author\, Lisa Manifold. Connect with other local authors and share ideas. Light refreshments served. Contact chris@cccld.org to register and for additional information.
URL:https://cccld.org/event/ispl-monthly-writers-chat/2023-06-24/
LOCATION:Idaho Springs Public Library\, 219 14th Avenue\, Idaho Springs\, CO\, 80452\, United States
CATEGORIES:Adults,Library Events
GEO:39.742052;-105.5183552
X-APPLE-STRUCTURED-LOCATION;VALUE=URI;X-ADDRESS=Idaho Springs Public Library 219 14th Avenue Idaho Springs CO 80452 United States;X-APPLE-RADIUS=500;X-TITLE=219 14th Avenue:geo:-105.5183552,39.742052
END:VEVENT
BEGIN:VEVENT
DTSTART;TZID=America/Denver:20230620T100000
DTEND;TZID=America/Denver:20230620T110000
DTSTAMP:20260421T110650
CREATED:20230601T160931Z
LAST-MODIFIED:20230717T155522Z
UID:10006266-1687255200-1687258800@cccld.org
SUMMARY:ISPL Summer Reading
DESCRIPTION:Magic in the Library — Explore enchanting stories\, crafts\, and activities. Read your way to fabulous treasures! Connect with other readers and learners in our community. For more information go to cccld.org/summerreading
URL:https://cccld.org/event/ispl-summer-reading-2/2023-06-20/
LOCATION:Idaho Springs Public Library\, 219 14th Avenue\, Idaho Springs\, CO\, 80452\, United States
CATEGORIES:Kids,Library Events,Summer Reading,Teens
GEO:39.742052;-105.5183552
X-APPLE-STRUCTURED-LOCATION;VALUE=URI;X-ADDRESS=Idaho Springs Public Library 219 14th Avenue Idaho Springs CO 80452 United States;X-APPLE-RADIUS=500;X-TITLE=219 14th Avenue:geo:-105.5183552,39.742052
END:VEVENT
BEGIN:VEVENT
DTSTART;TZID=America/Denver:20230612T160000
DTEND;TZID=America/Denver:20230612T170000
DTSTAMP:20260421T110650
CREATED:20230504T172937Z
LAST-MODIFIED:20240507T215850Z
UID:10005377-1686585600-1686589200@cccld.org
SUMMARY:ISPL Book Group
DESCRIPTION:Everyone is welcome. Email libby@cccld.org for more information.
URL:https://cccld.org/event/ispl-book-group-16/2023-06-12/
LOCATION:Idaho Springs Public Library\, 219 14th Avenue\, Idaho Springs\, CO\, 80452\, United States
CATEGORIES:Adults,Library Events
GEO:39.742052;-105.5183552
X-APPLE-STRUCTURED-LOCATION;VALUE=URI;X-ADDRESS=Idaho Springs Public Library 219 14th Avenue Idaho Springs CO 80452 United States;X-APPLE-RADIUS=500;X-TITLE=219 14th Avenue:geo:-105.5183552,39.742052
END:VEVENT
BEGIN:VEVENT
DTSTART;TZID=America/Denver:20230530T111500
DTEND;TZID=America/Denver:20230530T111500
DTSTAMP:20260421T110650
CREATED:20220823T161139Z
LAST-MODIFIED:20230601T154258Z
UID:10005874-1685445300-1685445300@cccld.org
SUMMARY:ISPL Storytime
DESCRIPTION:Join us for storytime and crafts at the Idaho Springs Public Library.
URL:https://cccld.org/event/ispl-storytime-9/2023-05-30/
LOCATION:Idaho Springs Public Library\, 219 14th Avenue\, Idaho Springs\, CO\, 80452\, United States
CATEGORIES:Kids,Library Events
GEO:39.742052;-105.5183552
X-APPLE-STRUCTURED-LOCATION;VALUE=URI;X-ADDRESS=Idaho Springs Public Library 219 14th Avenue Idaho Springs CO 80452 United States;X-APPLE-RADIUS=500;X-TITLE=219 14th Avenue:geo:-105.5183552,39.742052
END:VEVENT
BEGIN:VEVENT
DTSTART;TZID=America/Denver:20230523T111500
DTEND;TZID=America/Denver:20230523T111500
DTSTAMP:20260421T110650
CREATED:20220823T161139Z
LAST-MODIFIED:20230601T154258Z
UID:10005873-1684840500-1684840500@cccld.org
SUMMARY:ISPL Storytime
DESCRIPTION:Join us for storytime and crafts at the Idaho Springs Public Library.
URL:https://cccld.org/event/ispl-storytime-9/2023-05-23/
LOCATION:Idaho Springs Public Library\, 219 14th Avenue\, Idaho Springs\, CO\, 80452\, United States
CATEGORIES:Kids,Library Events
GEO:39.742052;-105.5183552
X-APPLE-STRUCTURED-LOCATION;VALUE=URI;X-ADDRESS=Idaho Springs Public Library 219 14th Avenue Idaho Springs CO 80452 United States;X-APPLE-RADIUS=500;X-TITLE=219 14th Avenue:geo:-105.5183552,39.742052
END:VEVENT
BEGIN:VEVENT
DTSTART;TZID=America/Denver:20230516T111500
DTEND;TZID=America/Denver:20230516T111500
DTSTAMP:20260421T110650
CREATED:20220823T161139Z
LAST-MODIFIED:20230601T154258Z
UID:10005872-1684235700-1684235700@cccld.org
SUMMARY:ISPL Storytime
DESCRIPTION:Join us for storytime and crafts at the Idaho Springs Public Library.
URL:https://cccld.org/event/ispl-storytime-9/2023-05-16/
LOCATION:Idaho Springs Public Library\, 219 14th Avenue\, Idaho Springs\, CO\, 80452\, United States
CATEGORIES:Kids,Library Events
GEO:39.742052;-105.5183552
X-APPLE-STRUCTURED-LOCATION;VALUE=URI;X-ADDRESS=Idaho Springs Public Library 219 14th Avenue Idaho Springs CO 80452 United States;X-APPLE-RADIUS=500;X-TITLE=219 14th Avenue:geo:-105.5183552,39.742052
END:VEVENT
BEGIN:VEVENT
DTSTART;TZID=America/Denver:20230509T111500
DTEND;TZID=America/Denver:20230509T111500
DTSTAMP:20260421T110650
CREATED:20220823T161139Z
LAST-MODIFIED:20230601T154258Z
UID:10005871-1683630900-1683630900@cccld.org
SUMMARY:ISPL Storytime
DESCRIPTION:Join us for storytime and crafts at the Idaho Springs Public Library.
URL:https://cccld.org/event/ispl-storytime-9/2023-05-09/
LOCATION:Idaho Springs Public Library\, 219 14th Avenue\, Idaho Springs\, CO\, 80452\, United States
CATEGORIES:Kids,Library Events
GEO:39.742052;-105.5183552
X-APPLE-STRUCTURED-LOCATION;VALUE=URI;X-ADDRESS=Idaho Springs Public Library 219 14th Avenue Idaho Springs CO 80452 United States;X-APPLE-RADIUS=500;X-TITLE=219 14th Avenue:geo:-105.5183552,39.742052
END:VEVENT
BEGIN:VEVENT
DTSTART;TZID=America/Denver:20230508T160000
DTEND;TZID=America/Denver:20230508T170000
DTSTAMP:20260421T110650
CREATED:20211112T223900Z
LAST-MODIFIED:20221115T184830Z
UID:10005701-1683561600-1683565200@cccld.org
SUMMARY:ISPL Book Group
DESCRIPTION:Everyone is welcome. Email libby@cccld.org for more information.
URL:https://cccld.org/event/ispl-book-group-5/2023-05-08/
LOCATION:Idaho Springs Public Library\, 219 14th Avenue\, Idaho Springs\, CO\, 80452\, United States
CATEGORIES:Adults,Library Events
GEO:39.742052;-105.5183552
X-APPLE-STRUCTURED-LOCATION;VALUE=URI;X-ADDRESS=Idaho Springs Public Library 219 14th Avenue Idaho Springs CO 80452 United States;X-APPLE-RADIUS=500;X-TITLE=219 14th Avenue:geo:-105.5183552,39.742052
END:VEVENT
BEGIN:VEVENT
DTSTART;TZID=America/Denver:20230502T111500
DTEND;TZID=America/Denver:20230502T111500
DTSTAMP:20260421T110650
CREATED:20220823T161139Z
LAST-MODIFIED:20230601T154258Z
UID:10005870-1683026100-1683026100@cccld.org
SUMMARY:ISPL Storytime
DESCRIPTION:Join us for storytime and crafts at the Idaho Springs Public Library.
URL:https://cccld.org/event/ispl-storytime-9/2023-05-02/
LOCATION:Idaho Springs Public Library\, 219 14th Avenue\, Idaho Springs\, CO\, 80452\, United States
CATEGORIES:Kids,Library Events
GEO:39.742052;-105.5183552
X-APPLE-STRUCTURED-LOCATION;VALUE=URI;X-ADDRESS=Idaho Springs Public Library 219 14th Avenue Idaho Springs CO 80452 United States;X-APPLE-RADIUS=500;X-TITLE=219 14th Avenue:geo:-105.5183552,39.742052
END:VEVENT
BEGIN:VEVENT
DTSTART;TZID=America/Denver:20230427T153000
DTEND;TZID=America/Denver:20230427T170000
DTSTAMP:20260421T110650
CREATED:20230331T221046Z
LAST-MODIFIED:20230331T221046Z
UID:10006204-1682609400-1682614800@cccld.org
SUMMARY:Día de los Niños
DESCRIPTION:El Día de los Niños/El Día de los Libros\, also known simply as Día\, is a celebration of children\, families\, and reading. Join the fun with food\, music\, and games.
URL:https://cccld.org/event/dia-de-los-ninos-3/
LOCATION:Idaho Springs Public Library\, 219 14th Avenue\, Idaho Springs\, CO\, 80452\, United States
CATEGORIES:Adults,Kids,Library Events,Teens
GEO:39.742052;-105.5183552
X-APPLE-STRUCTURED-LOCATION;VALUE=URI;X-ADDRESS=Idaho Springs Public Library 219 14th Avenue Idaho Springs CO 80452 United States;X-APPLE-RADIUS=500;X-TITLE=219 14th Avenue:geo:-105.5183552,39.742052
END:VEVENT
BEGIN:VEVENT
DTSTART;TZID=America/Denver:20230425T153000
DTEND;TZID=America/Denver:20230425T164500
DTSTAMP:20260421T110650
CREATED:20230327T164213Z
LAST-MODIFIED:20230327T164213Z
UID:10005351-1682436600-1682441100@cccld.org
SUMMARY:ISPL - Explore Scratch Coding
DESCRIPTION:EXPLORE SCRATCH CODING (2 sessions) Tuesday\, April 11 & Tuesday\, April 25\, 3:30 pm-4:45 pm. Please bring your Chromebook so you can work on your projects at home! Snack included. 12 kids max; 4th-5th-6th graders. Email chris@cccld.org to register and for more information.
URL:https://cccld.org/event/ispl-explore-scratch-coding-2/
LOCATION:Idaho Springs Public Library\, 219 14th Avenue\, Idaho Springs\, CO\, 80452\, United States
CATEGORIES:Kids,Library Events,Teens
GEO:39.742052;-105.5183552
X-APPLE-STRUCTURED-LOCATION;VALUE=URI;X-ADDRESS=Idaho Springs Public Library 219 14th Avenue Idaho Springs CO 80452 United States;X-APPLE-RADIUS=500;X-TITLE=219 14th Avenue:geo:-105.5183552,39.742052
END:VEVENT
BEGIN:VEVENT
DTSTART;TZID=America/Denver:20230425T111500
DTEND;TZID=America/Denver:20230425T121500
DTSTAMP:20260421T110650
CREATED:20230331T220502Z
LAST-MODIFIED:20230331T220502Z
UID:10006198-1682421300-1682424900@cccld.org
SUMMARY:ISPL Storytime & Sign Language
DESCRIPTION:Join us for storytime\, crafts\, and sign language at the Idaho Springs Public Library.
URL:https://cccld.org/event/ispl-storytime-sign-language/2023-04-25/
LOCATION:Idaho Springs Public Library\, 219 14th Avenue\, Idaho Springs\, CO\, 80452\, United States
CATEGORIES:Adults,Kids,Library Events
GEO:39.742052;-105.5183552
X-APPLE-STRUCTURED-LOCATION;VALUE=URI;X-ADDRESS=Idaho Springs Public Library 219 14th Avenue Idaho Springs CO 80452 United States;X-APPLE-RADIUS=500;X-TITLE=219 14th Avenue:geo:-105.5183552,39.742052
END:VEVENT
BEGIN:VEVENT
DTSTART;TZID=America/Denver:20230425T111500
DTEND;TZID=America/Denver:20230425T111500
DTSTAMP:20260421T110650
CREATED:20220823T161139Z
LAST-MODIFIED:20230601T154258Z
UID:10005869-1682421300-1682421300@cccld.org
SUMMARY:ISPL Storytime
DESCRIPTION:Join us for storytime and crafts at the Idaho Springs Public Library.
URL:https://cccld.org/event/ispl-storytime-9/2023-04-25/
LOCATION:Idaho Springs Public Library\, 219 14th Avenue\, Idaho Springs\, CO\, 80452\, United States
CATEGORIES:Kids,Library Events
GEO:39.742052;-105.5183552
X-APPLE-STRUCTURED-LOCATION;VALUE=URI;X-ADDRESS=Idaho Springs Public Library 219 14th Avenue Idaho Springs CO 80452 United States;X-APPLE-RADIUS=500;X-TITLE=219 14th Avenue:geo:-105.5183552,39.742052
END:VEVENT
BEGIN:VEVENT
DTSTART;TZID=America/Denver:20230418T173000
DTEND;TZID=America/Denver:20230418T183000
DTSTAMP:20260421T110650
CREATED:20230404T202307Z
LAST-MODIFIED:20230404T202307Z
UID:10006205-1681839000-1681842600@cccld.org
SUMMARY:ISPL Adult Craft
DESCRIPTION:Do you love to craft? Or are you craft-curious? Get creative and connect with other crafty patrons at our monthly craft workshops! No experience is necessary and all workshops are free. April’s craft is Ukranian Eggs with Megan Vickers. Please email chris@cccld.org to register and for additional information.
URL:https://cccld.org/event/ispl-adult-craft-11/
LOCATION:Idaho Springs Public Library\, 219 14th Avenue\, Idaho Springs\, CO\, 80452\, United States
CATEGORIES:Adults,Library Events
GEO:39.742052;-105.5183552
X-APPLE-STRUCTURED-LOCATION;VALUE=URI;X-ADDRESS=Idaho Springs Public Library 219 14th Avenue Idaho Springs CO 80452 United States;X-APPLE-RADIUS=500;X-TITLE=219 14th Avenue:geo:-105.5183552,39.742052
END:VEVENT
BEGIN:VEVENT
DTSTART;TZID=America/Denver:20230418T111500
DTEND;TZID=America/Denver:20230418T121500
DTSTAMP:20260421T110650
CREATED:20230331T220502Z
LAST-MODIFIED:20230331T220502Z
UID:10006197-1681816500-1681820100@cccld.org
SUMMARY:ISPL Storytime & Sign Language
DESCRIPTION:Join us for storytime\, crafts\, and sign language at the Idaho Springs Public Library.
URL:https://cccld.org/event/ispl-storytime-sign-language/2023-04-18/
LOCATION:Idaho Springs Public Library\, 219 14th Avenue\, Idaho Springs\, CO\, 80452\, United States
CATEGORIES:Adults,Kids,Library Events
GEO:39.742052;-105.5183552
X-APPLE-STRUCTURED-LOCATION;VALUE=URI;X-ADDRESS=Idaho Springs Public Library 219 14th Avenue Idaho Springs CO 80452 United States;X-APPLE-RADIUS=500;X-TITLE=219 14th Avenue:geo:-105.5183552,39.742052
END:VEVENT
END:VCALENDAR