BEGIN:VCALENDAR
VERSION:2.0
PRODID:-//Clear Creek County Library District - ECPv6.15.16//NONSGML v1.0//EN
CALSCALE:GREGORIAN
METHOD:PUBLISH
X-WR-CALNAME:Clear Creek County Library District
X-ORIGINAL-URL:https://cccld.org
X-WR-CALDESC:Events for Clear Creek County Library District
REFRESH-INTERVAL;VALUE=DURATION:PT1H
X-Robots-Tag:noindex
X-PUBLISHED-TTL:PT1H
BEGIN:VTIMEZONE
TZID:America/Denver
BEGIN:DAYLIGHT
TZOFFSETFROM:-0700
TZOFFSETTO:-0600
TZNAME:MDT
DTSTART:20220313T090000
END:DAYLIGHT
BEGIN:STANDARD
TZOFFSETFROM:-0600
TZOFFSETTO:-0700
TZNAME:MST
DTSTART:20221106T080000
END:STANDARD
BEGIN:DAYLIGHT
TZOFFSETFROM:-0700
TZOFFSETTO:-0600
TZNAME:MDT
DTSTART:20230312T090000
END:DAYLIGHT
BEGIN:STANDARD
TZOFFSETFROM:-0600
TZOFFSETTO:-0700
TZNAME:MST
DTSTART:20231105T080000
END:STANDARD
BEGIN:DAYLIGHT
TZOFFSETFROM:-0700
TZOFFSETTO:-0600
TZNAME:MDT
DTSTART:20240310T090000
END:DAYLIGHT
BEGIN:STANDARD
TZOFFSETFROM:-0600
TZOFFSETTO:-0700
TZNAME:MST
DTSTART:20241103T080000
END:STANDARD
END:VTIMEZONE
BEGIN:VEVENT
DTSTART;TZID=America/Denver:20230329T090000
DTEND;TZID=America/Denver:20230329T120000
DTSTAMP:20260421T160232
CREATED:20230207T172544Z
LAST-MODIFIED:20230207T172544Z
UID:10006131-1680080400-1680091200@cccld.org
SUMMARY:ISPL Free Tax Help
DESCRIPTION:Free Tax Help is available from Benefits in Action on Wednesdays at the Idaho Springs Public Library.
URL:https://cccld.org/event/ispl-free-tax-help-2/2023-03-29/
LOCATION:Idaho Springs Public Library\, 219 14th Avenue\, Idaho Springs\, CO\, 80452\, United States
CATEGORIES:Adults,Community Events,Library Events
GEO:39.742052;-105.5183552
X-APPLE-STRUCTURED-LOCATION;VALUE=URI;X-ADDRESS=Idaho Springs Public Library 219 14th Avenue Idaho Springs CO 80452 United States;X-APPLE-RADIUS=500;X-TITLE=219 14th Avenue:geo:-105.5183552,39.742052
END:VEVENT
BEGIN:VEVENT
DTSTART;TZID=America/Denver:20230328T183000
DTEND;TZID=America/Denver:20230328T200000
DTSTAMP:20260421T160232
CREATED:20230307T161659Z
LAST-MODIFIED:20230307T161659Z
UID:10006179-1680028200-1680033600@cccld.org
SUMMARY:Friends of the Idaho Springs Library Annual Meeting
DESCRIPTION:Friends of the Idaho Springs Library Annual Meeting and Author Panel. Refreshments!
URL:https://cccld.org/event/friends-of-the-idaho-springs-library-annual-meeting/
LOCATION:Idaho Springs Public Library\, 219 14th Avenue\, Idaho Springs\, CO\, 80452\, United States
CATEGORIES:Library Events
GEO:39.742052;-105.5183552
X-APPLE-STRUCTURED-LOCATION;VALUE=URI;X-ADDRESS=Idaho Springs Public Library 219 14th Avenue Idaho Springs CO 80452 United States;X-APPLE-RADIUS=500;X-TITLE=219 14th Avenue:geo:-105.5183552,39.742052
END:VEVENT
BEGIN:VEVENT
DTSTART;TZID=America/Denver:20230328T111500
DTEND;TZID=America/Denver:20230328T111500
DTSTAMP:20260421T160232
CREATED:20220823T161139Z
LAST-MODIFIED:20230601T154258Z
UID:10005865-1680002100-1680002100@cccld.org
SUMMARY:ISPL Storytime
DESCRIPTION:Join us for storytime and crafts at the Idaho Springs Public Library.
URL:https://cccld.org/event/ispl-storytime-9/2023-03-28/
LOCATION:Idaho Springs Public Library\, 219 14th Avenue\, Idaho Springs\, CO\, 80452\, United States
CATEGORIES:Kids,Library Events
GEO:39.742052;-105.5183552
X-APPLE-STRUCTURED-LOCATION;VALUE=URI;X-ADDRESS=Idaho Springs Public Library 219 14th Avenue Idaho Springs CO 80452 United States;X-APPLE-RADIUS=500;X-TITLE=219 14th Avenue:geo:-105.5183552,39.742052
END:VEVENT
BEGIN:VEVENT
DTSTART;TZID=America/Denver:20230322T090000
DTEND;TZID=America/Denver:20230322T120000
DTSTAMP:20260421T160232
CREATED:20230207T172544Z
LAST-MODIFIED:20230207T172544Z
UID:10006130-1679475600-1679486400@cccld.org
SUMMARY:ISPL Free Tax Help
DESCRIPTION:Free Tax Help is available from Benefits in Action on Wednesdays at the Idaho Springs Public Library.
URL:https://cccld.org/event/ispl-free-tax-help-2/2023-03-22/
LOCATION:Idaho Springs Public Library\, 219 14th Avenue\, Idaho Springs\, CO\, 80452\, United States
CATEGORIES:Adults,Community Events,Library Events
GEO:39.742052;-105.5183552
X-APPLE-STRUCTURED-LOCATION;VALUE=URI;X-ADDRESS=Idaho Springs Public Library 219 14th Avenue Idaho Springs CO 80452 United States;X-APPLE-RADIUS=500;X-TITLE=219 14th Avenue:geo:-105.5183552,39.742052
END:VEVENT
BEGIN:VEVENT
DTSTART;TZID=America/Denver:20230321T111500
DTEND;TZID=America/Denver:20230321T111500
DTSTAMP:20260421T160232
CREATED:20220823T161139Z
LAST-MODIFIED:20230601T154258Z
UID:10005864-1679397300-1679397300@cccld.org
SUMMARY:ISPL Storytime
DESCRIPTION:Join us for storytime and crafts at the Idaho Springs Public Library.
URL:https://cccld.org/event/ispl-storytime-9/2023-03-21/
LOCATION:Idaho Springs Public Library\, 219 14th Avenue\, Idaho Springs\, CO\, 80452\, United States
CATEGORIES:Kids,Library Events
GEO:39.742052;-105.5183552
X-APPLE-STRUCTURED-LOCATION;VALUE=URI;X-ADDRESS=Idaho Springs Public Library 219 14th Avenue Idaho Springs CO 80452 United States;X-APPLE-RADIUS=500;X-TITLE=219 14th Avenue:geo:-105.5183552,39.742052
END:VEVENT
BEGIN:VEVENT
DTSTART;TZID=America/Denver:20230315T090000
DTEND;TZID=America/Denver:20230315T120000
DTSTAMP:20260421T160232
CREATED:20230207T172544Z
LAST-MODIFIED:20230207T172544Z
UID:10006129-1678870800-1678881600@cccld.org
SUMMARY:ISPL Free Tax Help
DESCRIPTION:Free Tax Help is available from Benefits in Action on Wednesdays at the Idaho Springs Public Library.
URL:https://cccld.org/event/ispl-free-tax-help-2/2023-03-15/
LOCATION:Idaho Springs Public Library\, 219 14th Avenue\, Idaho Springs\, CO\, 80452\, United States
CATEGORIES:Adults,Community Events,Library Events
GEO:39.742052;-105.5183552
X-APPLE-STRUCTURED-LOCATION;VALUE=URI;X-ADDRESS=Idaho Springs Public Library 219 14th Avenue Idaho Springs CO 80452 United States;X-APPLE-RADIUS=500;X-TITLE=219 14th Avenue:geo:-105.5183552,39.742052
END:VEVENT
BEGIN:VEVENT
DTSTART;TZID=America/Denver:20230314T173000
DTEND;TZID=America/Denver:20230314T190000
DTSTAMP:20260421T160232
CREATED:20230124T220613Z
LAST-MODIFIED:20230124T221811Z
UID:10005287-1678815000-1678820400@cccld.org
SUMMARY:ISPL Adult Craft
DESCRIPTION:Do you love to craft? Or are you craft-curious? Get creative and connect with other crafty patrons at our monthly craft workshops! No experience is necessary and all workshops are free. March’s craft is Soup in a Jar. Please email chris@cccld.org to register and for additional information.
URL:https://cccld.org/event/ispl-adult-craft-9/
LOCATION:Idaho Springs Public Library\, 219 14th Avenue\, Idaho Springs\, CO\, 80452\, United States
CATEGORIES:Adults,Library Events
GEO:39.742052;-105.5183552
X-APPLE-STRUCTURED-LOCATION;VALUE=URI;X-ADDRESS=Idaho Springs Public Library 219 14th Avenue Idaho Springs CO 80452 United States;X-APPLE-RADIUS=500;X-TITLE=219 14th Avenue:geo:-105.5183552,39.742052
END:VEVENT
BEGIN:VEVENT
DTSTART;TZID=America/Denver:20230314T111500
DTEND;TZID=America/Denver:20230314T111500
DTSTAMP:20260421T160232
CREATED:20220823T161139Z
LAST-MODIFIED:20230601T154258Z
UID:10005863-1678792500-1678792500@cccld.org
SUMMARY:ISPL Storytime
DESCRIPTION:Join us for storytime and crafts at the Idaho Springs Public Library.
URL:https://cccld.org/event/ispl-storytime-9/2023-03-14/
LOCATION:Idaho Springs Public Library\, 219 14th Avenue\, Idaho Springs\, CO\, 80452\, United States
CATEGORIES:Kids,Library Events
GEO:39.742052;-105.5183552
X-APPLE-STRUCTURED-LOCATION;VALUE=URI;X-ADDRESS=Idaho Springs Public Library 219 14th Avenue Idaho Springs CO 80452 United States;X-APPLE-RADIUS=500;X-TITLE=219 14th Avenue:geo:-105.5183552,39.742052
END:VEVENT
BEGIN:VEVENT
DTSTART;TZID=America/Denver:20230313T160000
DTEND;TZID=America/Denver:20230313T170000
DTSTAMP:20260421T160232
CREATED:20211112T223900Z
LAST-MODIFIED:20221115T184830Z
UID:10005700-1678723200-1678726800@cccld.org
SUMMARY:ISPL Book Group
DESCRIPTION:Everyone is welcome. Email libby@cccld.org for more information.
URL:https://cccld.org/event/ispl-book-group-5/2023-03-13/
LOCATION:Idaho Springs Public Library\, 219 14th Avenue\, Idaho Springs\, CO\, 80452\, United States
CATEGORIES:Adults,Library Events
GEO:39.742052;-105.5183552
X-APPLE-STRUCTURED-LOCATION;VALUE=URI;X-ADDRESS=Idaho Springs Public Library 219 14th Avenue Idaho Springs CO 80452 United States;X-APPLE-RADIUS=500;X-TITLE=219 14th Avenue:geo:-105.5183552,39.742052
END:VEVENT
BEGIN:VEVENT
DTSTART;TZID=America/Denver:20230311T120000
DTEND;TZID=America/Denver:20230311T140000
DTSTAMP:20260421T160232
CREATED:20221006T164727Z
LAST-MODIFIED:20230307T210856Z
UID:10005981-1678536000-1678543200@cccld.org
SUMMARY:ISPL OMEGA
DESCRIPTION:Join us for food and fun at our new LBGTQ+ Social Group for kids ages 12-20. Held monthly at the Idaho Springs Public Library. For further information email joe@cccld.org.
URL:https://cccld.org/event/ispl-omega-4/2023-03-11/
LOCATION:Idaho Springs Public Library\, 219 14th Avenue\, Idaho Springs\, CO\, 80452\, United States
CATEGORIES:Library Events,Teens
GEO:39.742052;-105.5183552
X-APPLE-STRUCTURED-LOCATION;VALUE=URI;X-ADDRESS=Idaho Springs Public Library 219 14th Avenue Idaho Springs CO 80452 United States;X-APPLE-RADIUS=500;X-TITLE=219 14th Avenue:geo:-105.5183552,39.742052
END:VEVENT
BEGIN:VEVENT
DTSTART;TZID=America/Denver:20230308T090000
DTEND;TZID=America/Denver:20230308T120000
DTSTAMP:20260421T160232
CREATED:20230207T172544Z
LAST-MODIFIED:20230207T172544Z
UID:10006128-1678266000-1678276800@cccld.org
SUMMARY:ISPL Free Tax Help
DESCRIPTION:Free Tax Help is available from Benefits in Action on Wednesdays at the Idaho Springs Public Library.
URL:https://cccld.org/event/ispl-free-tax-help-2/2023-03-08/
LOCATION:Idaho Springs Public Library\, 219 14th Avenue\, Idaho Springs\, CO\, 80452\, United States
CATEGORIES:Adults,Community Events,Library Events
GEO:39.742052;-105.5183552
X-APPLE-STRUCTURED-LOCATION;VALUE=URI;X-ADDRESS=Idaho Springs Public Library 219 14th Avenue Idaho Springs CO 80452 United States;X-APPLE-RADIUS=500;X-TITLE=219 14th Avenue:geo:-105.5183552,39.742052
END:VEVENT
BEGIN:VEVENT
DTSTART;TZID=America/Denver:20230307T111500
DTEND;TZID=America/Denver:20230307T111500
DTSTAMP:20260421T160232
CREATED:20220823T161139Z
LAST-MODIFIED:20230601T154258Z
UID:10005862-1678187700-1678187700@cccld.org
SUMMARY:ISPL Storytime
DESCRIPTION:Join us for storytime and crafts at the Idaho Springs Public Library.
URL:https://cccld.org/event/ispl-storytime-9/2023-03-07/
LOCATION:Idaho Springs Public Library\, 219 14th Avenue\, Idaho Springs\, CO\, 80452\, United States
CATEGORIES:Kids,Library Events
GEO:39.742052;-105.5183552
X-APPLE-STRUCTURED-LOCATION;VALUE=URI;X-ADDRESS=Idaho Springs Public Library 219 14th Avenue Idaho Springs CO 80452 United States;X-APPLE-RADIUS=500;X-TITLE=219 14th Avenue:geo:-105.5183552,39.742052
END:VEVENT
BEGIN:VEVENT
DTSTART;TZID=America/Denver:20230301T090000
DTEND;TZID=America/Denver:20230301T120000
DTSTAMP:20260421T160232
CREATED:20230207T172544Z
LAST-MODIFIED:20230207T172544Z
UID:10006127-1677661200-1677672000@cccld.org
SUMMARY:ISPL Free Tax Help
DESCRIPTION:Free Tax Help is available from Benefits in Action on Wednesdays at the Idaho Springs Public Library.
URL:https://cccld.org/event/ispl-free-tax-help-2/2023-03-01/
LOCATION:Idaho Springs Public Library\, 219 14th Avenue\, Idaho Springs\, CO\, 80452\, United States
CATEGORIES:Adults,Community Events,Library Events
GEO:39.742052;-105.5183552
X-APPLE-STRUCTURED-LOCATION;VALUE=URI;X-ADDRESS=Idaho Springs Public Library 219 14th Avenue Idaho Springs CO 80452 United States;X-APPLE-RADIUS=500;X-TITLE=219 14th Avenue:geo:-105.5183552,39.742052
END:VEVENT
BEGIN:VEVENT
DTSTART;TZID=America/Denver:20230228T111500
DTEND;TZID=America/Denver:20230228T111500
DTSTAMP:20260421T160232
CREATED:20220823T161139Z
LAST-MODIFIED:20230601T154258Z
UID:10005861-1677582900-1677582900@cccld.org
SUMMARY:ISPL Storytime
DESCRIPTION:Join us for storytime and crafts at the Idaho Springs Public Library.
URL:https://cccld.org/event/ispl-storytime-9/2023-02-28/
LOCATION:Idaho Springs Public Library\, 219 14th Avenue\, Idaho Springs\, CO\, 80452\, United States
CATEGORIES:Kids,Library Events
GEO:39.742052;-105.5183552
X-APPLE-STRUCTURED-LOCATION;VALUE=URI;X-ADDRESS=Idaho Springs Public Library 219 14th Avenue Idaho Springs CO 80452 United States;X-APPLE-RADIUS=500;X-TITLE=219 14th Avenue:geo:-105.5183552,39.742052
END:VEVENT
BEGIN:VEVENT
DTSTART;TZID=America/Denver:20230224T170000
DTEND;TZID=America/Denver:20230224T190000
DTSTAMP:20260421T160232
CREATED:20230117T232905Z
LAST-MODIFIED:20240118T160231Z
UID:10006086-1677258000-1677265200@cccld.org
SUMMARY:ISPL - Monster Mash Party
DESCRIPTION:Get ready to rock your best monster mash costume and show off your dance moves. Don’t miss the FUN!! Food\, face painting\, dancing\, and games. Huge thanks to Tommyknocker Brewery for donating refreshments.
URL:https://cccld.org/event/ispl-monster-mash-party/
LOCATION:Idaho Springs Public Library\, 219 14th Avenue\, Idaho Springs\, CO\, 80452\, United States
CATEGORIES:Adults,Kids,Library Events,Teens
GEO:39.742052;-105.5183552
X-APPLE-STRUCTURED-LOCATION;VALUE=URI;X-ADDRESS=Idaho Springs Public Library 219 14th Avenue Idaho Springs CO 80452 United States;X-APPLE-RADIUS=500;X-TITLE=219 14th Avenue:geo:-105.5183552,39.742052
END:VEVENT
BEGIN:VEVENT
DTSTART;TZID=America/Denver:20230223T170000
DTEND;TZID=America/Denver:20230223T180000
DTSTAMP:20260421T160232
CREATED:20230106T222717Z
LAST-MODIFIED:20230106T222717Z
UID:10006079-1677171600-1677175200@cccld.org
SUMMARY:ISPL - Adult ASL
DESCRIPTION:American Sign Language Classes for Adults–ages 15 and up–at the Idaho Springs Public Library. Please email joe@cccld.org for more information and to register.
URL:https://cccld.org/event/ispl-adult-asl/2023-02-23/
LOCATION:Idaho Springs Public Library\, 219 14th Avenue\, Idaho Springs\, CO\, 80452\, United States
CATEGORIES:Adults,Library Events,Teens
GEO:39.742052;-105.5183552
X-APPLE-STRUCTURED-LOCATION;VALUE=URI;X-ADDRESS=Idaho Springs Public Library 219 14th Avenue Idaho Springs CO 80452 United States;X-APPLE-RADIUS=500;X-TITLE=219 14th Avenue:geo:-105.5183552,39.742052
END:VEVENT
BEGIN:VEVENT
DTSTART;TZID=America/Denver:20230222T090000
DTEND;TZID=America/Denver:20230222T120000
DTSTAMP:20260421T160232
CREATED:20230207T172544Z
LAST-MODIFIED:20230207T172544Z
UID:10006126-1677056400-1677067200@cccld.org
SUMMARY:ISPL Free Tax Help
DESCRIPTION:Free Tax Help is available from Benefits in Action on Wednesdays at the Idaho Springs Public Library.
URL:https://cccld.org/event/ispl-free-tax-help-2/2023-02-22/
LOCATION:Idaho Springs Public Library\, 219 14th Avenue\, Idaho Springs\, CO\, 80452\, United States
CATEGORIES:Adults,Community Events,Library Events
GEO:39.742052;-105.5183552
X-APPLE-STRUCTURED-LOCATION;VALUE=URI;X-ADDRESS=Idaho Springs Public Library 219 14th Avenue Idaho Springs CO 80452 United States;X-APPLE-RADIUS=500;X-TITLE=219 14th Avenue:geo:-105.5183552,39.742052
END:VEVENT
BEGIN:VEVENT
DTSTART;TZID=America/Denver:20230221T111500
DTEND;TZID=America/Denver:20230221T111500
DTSTAMP:20260421T160232
CREATED:20220823T161139Z
LAST-MODIFIED:20230601T154258Z
UID:10005860-1676978100-1676978100@cccld.org
SUMMARY:ISPL Storytime
DESCRIPTION:Join us for storytime and crafts at the Idaho Springs Public Library.
URL:https://cccld.org/event/ispl-storytime-9/2023-02-21/
LOCATION:Idaho Springs Public Library\, 219 14th Avenue\, Idaho Springs\, CO\, 80452\, United States
CATEGORIES:Kids,Library Events
GEO:39.742052;-105.5183552
X-APPLE-STRUCTURED-LOCATION;VALUE=URI;X-ADDRESS=Idaho Springs Public Library 219 14th Avenue Idaho Springs CO 80452 United States;X-APPLE-RADIUS=500;X-TITLE=219 14th Avenue:geo:-105.5183552,39.742052
END:VEVENT
BEGIN:VEVENT
DTSTART;TZID=America/Denver:20230216T170000
DTEND;TZID=America/Denver:20230216T180000
DTSTAMP:20260421T160232
CREATED:20230106T222717Z
LAST-MODIFIED:20230106T222717Z
UID:10006078-1676566800-1676570400@cccld.org
SUMMARY:ISPL - Adult ASL
DESCRIPTION:American Sign Language Classes for Adults–ages 15 and up–at the Idaho Springs Public Library. Please email joe@cccld.org for more information and to register.
URL:https://cccld.org/event/ispl-adult-asl/2023-02-16/
LOCATION:Idaho Springs Public Library\, 219 14th Avenue\, Idaho Springs\, CO\, 80452\, United States
CATEGORIES:Adults,Library Events,Teens
GEO:39.742052;-105.5183552
X-APPLE-STRUCTURED-LOCATION;VALUE=URI;X-ADDRESS=Idaho Springs Public Library 219 14th Avenue Idaho Springs CO 80452 United States;X-APPLE-RADIUS=500;X-TITLE=219 14th Avenue:geo:-105.5183552,39.742052
END:VEVENT
BEGIN:VEVENT
DTSTART;TZID=America/Denver:20230215T090000
DTEND;TZID=America/Denver:20230215T120000
DTSTAMP:20260421T160232
CREATED:20230207T172544Z
LAST-MODIFIED:20230207T172544Z
UID:10006125-1676451600-1676462400@cccld.org
SUMMARY:ISPL Free Tax Help
DESCRIPTION:Free Tax Help is available from Benefits in Action on Wednesdays at the Idaho Springs Public Library.
URL:https://cccld.org/event/ispl-free-tax-help-2/2023-02-15/
LOCATION:Idaho Springs Public Library\, 219 14th Avenue\, Idaho Springs\, CO\, 80452\, United States
CATEGORIES:Adults,Community Events,Library Events
GEO:39.742052;-105.5183552
X-APPLE-STRUCTURED-LOCATION;VALUE=URI;X-ADDRESS=Idaho Springs Public Library 219 14th Avenue Idaho Springs CO 80452 United States;X-APPLE-RADIUS=500;X-TITLE=219 14th Avenue:geo:-105.5183552,39.742052
END:VEVENT
BEGIN:VEVENT
DTSTART;TZID=America/Denver:20230214T111500
DTEND;TZID=America/Denver:20230214T111500
DTSTAMP:20260421T160232
CREATED:20220823T161139Z
LAST-MODIFIED:20230601T154258Z
UID:10005859-1676373300-1676373300@cccld.org
SUMMARY:ISPL Storytime
DESCRIPTION:Join us for storytime and crafts at the Idaho Springs Public Library.
URL:https://cccld.org/event/ispl-storytime-9/2023-02-14/
LOCATION:Idaho Springs Public Library\, 219 14th Avenue\, Idaho Springs\, CO\, 80452\, United States
CATEGORIES:Kids,Library Events
GEO:39.742052;-105.5183552
X-APPLE-STRUCTURED-LOCATION;VALUE=URI;X-ADDRESS=Idaho Springs Public Library 219 14th Avenue Idaho Springs CO 80452 United States;X-APPLE-RADIUS=500;X-TITLE=219 14th Avenue:geo:-105.5183552,39.742052
END:VEVENT
BEGIN:VEVENT
DTSTART;TZID=America/Denver:20230213T160000
DTEND;TZID=America/Denver:20230213T170000
DTSTAMP:20260421T160232
CREATED:20211112T223900Z
LAST-MODIFIED:20221115T184830Z
UID:10005699-1676304000-1676307600@cccld.org
SUMMARY:ISPL Book Group
DESCRIPTION:Everyone is welcome. Email libby@cccld.org for more information.
URL:https://cccld.org/event/ispl-book-group-5/2023-02-13/
LOCATION:Idaho Springs Public Library\, 219 14th Avenue\, Idaho Springs\, CO\, 80452\, United States
CATEGORIES:Adults,Library Events
GEO:39.742052;-105.5183552
X-APPLE-STRUCTURED-LOCATION;VALUE=URI;X-ADDRESS=Idaho Springs Public Library 219 14th Avenue Idaho Springs CO 80452 United States;X-APPLE-RADIUS=500;X-TITLE=219 14th Avenue:geo:-105.5183552,39.742052
END:VEVENT
BEGIN:VEVENT
DTSTART;TZID=America/Denver:20230211T120000
DTEND;TZID=America/Denver:20230211T140000
DTSTAMP:20260421T160232
CREATED:20221006T164727Z
LAST-MODIFIED:20230307T210856Z
UID:10005980-1676116800-1676124000@cccld.org
SUMMARY:ISPL OMEGA
DESCRIPTION:Join us for food and fun at our new LBGTQ+ Social Group for kids ages 12-20. Held monthly at the Idaho Springs Public Library. For further information email joe@cccld.org.
URL:https://cccld.org/event/ispl-omega-4/2023-02-11/
LOCATION:Idaho Springs Public Library\, 219 14th Avenue\, Idaho Springs\, CO\, 80452\, United States
CATEGORIES:Library Events,Teens
GEO:39.742052;-105.5183552
X-APPLE-STRUCTURED-LOCATION;VALUE=URI;X-ADDRESS=Idaho Springs Public Library 219 14th Avenue Idaho Springs CO 80452 United States;X-APPLE-RADIUS=500;X-TITLE=219 14th Avenue:geo:-105.5183552,39.742052
END:VEVENT
BEGIN:VEVENT
DTSTART;TZID=America/Denver:20230209T170000
DTEND;TZID=America/Denver:20230209T180000
DTSTAMP:20260421T160232
CREATED:20230106T222717Z
LAST-MODIFIED:20230106T222717Z
UID:10006077-1675962000-1675965600@cccld.org
SUMMARY:ISPL - Adult ASL
DESCRIPTION:American Sign Language Classes for Adults–ages 15 and up–at the Idaho Springs Public Library. Please email joe@cccld.org for more information and to register.
URL:https://cccld.org/event/ispl-adult-asl/2023-02-09/
LOCATION:Idaho Springs Public Library\, 219 14th Avenue\, Idaho Springs\, CO\, 80452\, United States
CATEGORIES:Adults,Library Events,Teens
GEO:39.742052;-105.5183552
X-APPLE-STRUCTURED-LOCATION;VALUE=URI;X-ADDRESS=Idaho Springs Public Library 219 14th Avenue Idaho Springs CO 80452 United States;X-APPLE-RADIUS=500;X-TITLE=219 14th Avenue:geo:-105.5183552,39.742052
END:VEVENT
BEGIN:VEVENT
DTSTART;TZID=America/Denver:20230208T090000
DTEND;TZID=America/Denver:20230208T120000
DTSTAMP:20260421T160232
CREATED:20230207T172544Z
LAST-MODIFIED:20230207T172544Z
UID:10006124-1675846800-1675857600@cccld.org
SUMMARY:ISPL Free Tax Help
DESCRIPTION:Free Tax Help is available from Benefits in Action on Wednesdays at the Idaho Springs Public Library.
URL:https://cccld.org/event/ispl-free-tax-help-2/2023-02-08/
LOCATION:Idaho Springs Public Library\, 219 14th Avenue\, Idaho Springs\, CO\, 80452\, United States
CATEGORIES:Adults,Community Events,Library Events
GEO:39.742052;-105.5183552
X-APPLE-STRUCTURED-LOCATION;VALUE=URI;X-ADDRESS=Idaho Springs Public Library 219 14th Avenue Idaho Springs CO 80452 United States;X-APPLE-RADIUS=500;X-TITLE=219 14th Avenue:geo:-105.5183552,39.742052
END:VEVENT
BEGIN:VEVENT
DTSTART;TZID=America/Denver:20230207T111500
DTEND;TZID=America/Denver:20230207T111500
DTSTAMP:20260421T160232
CREATED:20220823T161139Z
LAST-MODIFIED:20230601T154258Z
UID:10005858-1675768500-1675768500@cccld.org
SUMMARY:ISPL Storytime
DESCRIPTION:Join us for storytime and crafts at the Idaho Springs Public Library.
URL:https://cccld.org/event/ispl-storytime-9/2023-02-07/
LOCATION:Idaho Springs Public Library\, 219 14th Avenue\, Idaho Springs\, CO\, 80452\, United States
CATEGORIES:Kids,Library Events
GEO:39.742052;-105.5183552
X-APPLE-STRUCTURED-LOCATION;VALUE=URI;X-ADDRESS=Idaho Springs Public Library 219 14th Avenue Idaho Springs CO 80452 United States;X-APPLE-RADIUS=500;X-TITLE=219 14th Avenue:geo:-105.5183552,39.742052
END:VEVENT
BEGIN:VEVENT
DTSTART;TZID=America/Denver:20230202T170000
DTEND;TZID=America/Denver:20230202T180000
DTSTAMP:20260421T160232
CREATED:20230106T222717Z
LAST-MODIFIED:20230106T222717Z
UID:10006076-1675357200-1675360800@cccld.org
SUMMARY:ISPL - Adult ASL
DESCRIPTION:American Sign Language Classes for Adults–ages 15 and up–at the Idaho Springs Public Library. Please email joe@cccld.org for more information and to register.
URL:https://cccld.org/event/ispl-adult-asl/2023-02-02/
LOCATION:Idaho Springs Public Library\, 219 14th Avenue\, Idaho Springs\, CO\, 80452\, United States
CATEGORIES:Adults,Library Events,Teens
GEO:39.742052;-105.5183552
X-APPLE-STRUCTURED-LOCATION;VALUE=URI;X-ADDRESS=Idaho Springs Public Library 219 14th Avenue Idaho Springs CO 80452 United States;X-APPLE-RADIUS=500;X-TITLE=219 14th Avenue:geo:-105.5183552,39.742052
END:VEVENT
BEGIN:VEVENT
DTSTART;TZID=America/Denver:20230131T111500
DTEND;TZID=America/Denver:20230131T111500
DTSTAMP:20260421T160232
CREATED:20220823T161139Z
LAST-MODIFIED:20230601T154258Z
UID:10005857-1675163700-1675163700@cccld.org
SUMMARY:ISPL Storytime
DESCRIPTION:Join us for storytime and crafts at the Idaho Springs Public Library.
URL:https://cccld.org/event/ispl-storytime-9/2023-01-31/
LOCATION:Idaho Springs Public Library\, 219 14th Avenue\, Idaho Springs\, CO\, 80452\, United States
CATEGORIES:Kids,Library Events
GEO:39.742052;-105.5183552
X-APPLE-STRUCTURED-LOCATION;VALUE=URI;X-ADDRESS=Idaho Springs Public Library 219 14th Avenue Idaho Springs CO 80452 United States;X-APPLE-RADIUS=500;X-TITLE=219 14th Avenue:geo:-105.5183552,39.742052
END:VEVENT
BEGIN:VEVENT
DTSTART;TZID=America/Denver:20230124T111500
DTEND;TZID=America/Denver:20230124T111500
DTSTAMP:20260421T160232
CREATED:20220823T161139Z
LAST-MODIFIED:20230601T154258Z
UID:10005856-1674558900-1674558900@cccld.org
SUMMARY:ISPL Storytime
DESCRIPTION:Join us for storytime and crafts at the Idaho Springs Public Library.
URL:https://cccld.org/event/ispl-storytime-9/2023-01-24/
LOCATION:Idaho Springs Public Library\, 219 14th Avenue\, Idaho Springs\, CO\, 80452\, United States
CATEGORIES:Kids,Library Events
GEO:39.742052;-105.5183552
X-APPLE-STRUCTURED-LOCATION;VALUE=URI;X-ADDRESS=Idaho Springs Public Library 219 14th Avenue Idaho Springs CO 80452 United States;X-APPLE-RADIUS=500;X-TITLE=219 14th Avenue:geo:-105.5183552,39.742052
END:VEVENT
BEGIN:VEVENT
DTSTART;TZID=America/Denver:20230117T111500
DTEND;TZID=America/Denver:20230117T111500
DTSTAMP:20260421T160232
CREATED:20220823T161139Z
LAST-MODIFIED:20230601T154258Z
UID:10005855-1673954100-1673954100@cccld.org
SUMMARY:ISPL Storytime
DESCRIPTION:Join us for storytime and crafts at the Idaho Springs Public Library.
URL:https://cccld.org/event/ispl-storytime-9/2023-01-17/
LOCATION:Idaho Springs Public Library\, 219 14th Avenue\, Idaho Springs\, CO\, 80452\, United States
CATEGORIES:Kids,Library Events
GEO:39.742052;-105.5183552
X-APPLE-STRUCTURED-LOCATION;VALUE=URI;X-ADDRESS=Idaho Springs Public Library 219 14th Avenue Idaho Springs CO 80452 United States;X-APPLE-RADIUS=500;X-TITLE=219 14th Avenue:geo:-105.5183552,39.742052
END:VEVENT
END:VCALENDAR