BEGIN:VCALENDAR
VERSION:2.0
PRODID:-//Clear Creek County Library District - ECPv6.15.16//NONSGML v1.0//EN
CALSCALE:GREGORIAN
METHOD:PUBLISH
X-ORIGINAL-URL:https://cccld.org
X-WR-CALDESC:Events for Clear Creek County Library District
REFRESH-INTERVAL;VALUE=DURATION:PT1H
X-Robots-Tag:noindex
X-PUBLISHED-TTL:PT1H
BEGIN:VTIMEZONE
TZID:America/Denver
BEGIN:DAYLIGHT
TZOFFSETFROM:-0700
TZOFFSETTO:-0600
TZNAME:MDT
DTSTART:20210314T090000
END:DAYLIGHT
BEGIN:STANDARD
TZOFFSETFROM:-0600
TZOFFSETTO:-0700
TZNAME:MST
DTSTART:20211107T080000
END:STANDARD
BEGIN:DAYLIGHT
TZOFFSETFROM:-0700
TZOFFSETTO:-0600
TZNAME:MDT
DTSTART:20220313T090000
END:DAYLIGHT
BEGIN:STANDARD
TZOFFSETFROM:-0600
TZOFFSETTO:-0700
TZNAME:MST
DTSTART:20221106T080000
END:STANDARD
BEGIN:DAYLIGHT
TZOFFSETFROM:-0700
TZOFFSETTO:-0600
TZNAME:MDT
DTSTART:20230312T090000
END:DAYLIGHT
BEGIN:STANDARD
TZOFFSETFROM:-0600
TZOFFSETTO:-0700
TZNAME:MST
DTSTART:20231105T080000
END:STANDARD
END:VTIMEZONE
BEGIN:VEVENT
DTSTART;TZID=America/Denver:20221018T150000
DTEND;TZID=America/Denver:20221018T163000
DTSTAMP:20260422T015517
CREATED:20221004T171153Z
LAST-MODIFIED:20221004T171153Z
UID:10005969-1666105200-1666110600@cccld.org
SUMMARY:ISPL Friends - Margaret Robbins Birthday Celebration
DESCRIPTION:Join the Friends of the Idaho Springs Library to celebrate Margaret Robbins’ 164th Birthday. Margaret was the first Idaho Springs librarian. Cupcake Meet & Greet.
URL:https://cccld.org/event/ispl-friends-margaret-robbins-birthday-celebration/2022-10-18/
LOCATION:Idaho Springs Public Library\, 219 14th Avenue\, Idaho Springs\, CO\, 80452\, United States
CATEGORIES:Adults,Kids,Library Events,Teens
GEO:39.742052;-105.5183552
X-APPLE-STRUCTURED-LOCATION;VALUE=URI;X-ADDRESS=Idaho Springs Public Library 219 14th Avenue Idaho Springs CO 80452 United States;X-APPLE-RADIUS=500;X-TITLE=219 14th Avenue:geo:-105.5183552,39.742052
END:VEVENT
BEGIN:VEVENT
DTSTART;TZID=America/Denver:20221018T111500
DTEND;TZID=America/Denver:20221018T111500
DTSTAMP:20260422T015517
CREATED:20220823T161139Z
LAST-MODIFIED:20230601T154258Z
UID:10005842-1666091700-1666091700@cccld.org
SUMMARY:ISPL Storytime
DESCRIPTION:Join us for storytime and crafts at the Idaho Springs Public Library.
URL:https://cccld.org/event/ispl-storytime-9/2022-10-18/
LOCATION:Idaho Springs Public Library\, 219 14th Avenue\, Idaho Springs\, CO\, 80452\, United States
CATEGORIES:Kids,Library Events
GEO:39.742052;-105.5183552
X-APPLE-STRUCTURED-LOCATION;VALUE=URI;X-ADDRESS=Idaho Springs Public Library 219 14th Avenue Idaho Springs CO 80452 United States;X-APPLE-RADIUS=500;X-TITLE=219 14th Avenue:geo:-105.5183552,39.742052
END:VEVENT
BEGIN:VEVENT
DTSTART;TZID=America/Denver:20221017T150000
DTEND;TZID=America/Denver:20221017T163000
DTSTAMP:20260422T015517
CREATED:20221004T171153Z
LAST-MODIFIED:20221004T171153Z
UID:10005968-1666018800-1666024200@cccld.org
SUMMARY:ISPL Friends - Margaret Robbins Birthday Celebration
DESCRIPTION:Join the Friends of the Idaho Springs Library to celebrate Margaret Robbins’ 164th Birthday. Margaret was the first Idaho Springs librarian. Cupcake Meet & Greet.
URL:https://cccld.org/event/ispl-friends-margaret-robbins-birthday-celebration/2022-10-17/
LOCATION:Idaho Springs Public Library\, 219 14th Avenue\, Idaho Springs\, CO\, 80452\, United States
CATEGORIES:Adults,Kids,Library Events,Teens
GEO:39.742052;-105.5183552
X-APPLE-STRUCTURED-LOCATION;VALUE=URI;X-ADDRESS=Idaho Springs Public Library 219 14th Avenue Idaho Springs CO 80452 United States;X-APPLE-RADIUS=500;X-TITLE=219 14th Avenue:geo:-105.5183552,39.742052
END:VEVENT
BEGIN:VEVENT
DTSTART;TZID=America/Denver:20221011T111500
DTEND;TZID=America/Denver:20221011T111500
DTSTAMP:20260422T015517
CREATED:20220823T161139Z
LAST-MODIFIED:20230601T154258Z
UID:10005841-1665486900-1665486900@cccld.org
SUMMARY:ISPL Storytime
DESCRIPTION:Join us for storytime and crafts at the Idaho Springs Public Library.
URL:https://cccld.org/event/ispl-storytime-9/2022-10-11/
LOCATION:Idaho Springs Public Library\, 219 14th Avenue\, Idaho Springs\, CO\, 80452\, United States
CATEGORIES:Kids,Library Events
GEO:39.742052;-105.5183552
X-APPLE-STRUCTURED-LOCATION;VALUE=URI;X-ADDRESS=Idaho Springs Public Library 219 14th Avenue Idaho Springs CO 80452 United States;X-APPLE-RADIUS=500;X-TITLE=219 14th Avenue:geo:-105.5183552,39.742052
END:VEVENT
BEGIN:VEVENT
DTSTART;TZID=America/Denver:20221010T160000
DTEND;TZID=America/Denver:20221010T170000
DTSTAMP:20260422T015517
CREATED:20220920T161858Z
LAST-MODIFIED:20220920T161858Z
UID:10005171-1665417600-1665421200@cccld.org
SUMMARY:ISPL Book Group
DESCRIPTION:Everyone is welcome. Email libby@cccld.org for more information.
URL:https://cccld.org/event/ispl-book-group-14/
LOCATION:Idaho Springs Public Library\, 219 14th Avenue\, Idaho Springs\, CO\, 80452\, United States
CATEGORIES:Adults,Library Events
GEO:39.742052;-105.5183552
X-APPLE-STRUCTURED-LOCATION;VALUE=URI;X-ADDRESS=Idaho Springs Public Library 219 14th Avenue Idaho Springs CO 80452 United States;X-APPLE-RADIUS=500;X-TITLE=219 14th Avenue:geo:-105.5183552,39.742052
END:VEVENT
BEGIN:VEVENT
DTSTART;TZID=America/Denver:20221010T160000
DTEND;TZID=America/Denver:20221010T170000
DTSTAMP:20260422T015517
CREATED:20211112T223900Z
LAST-MODIFIED:20221115T184830Z
UID:10005695-1665417600-1665421200@cccld.org
SUMMARY:ISPL Book Group
DESCRIPTION:Everyone is welcome. Email libby@cccld.org for more information.
URL:https://cccld.org/event/ispl-book-group-5/2022-10-10/
LOCATION:Idaho Springs Public Library\, 219 14th Avenue\, Idaho Springs\, CO\, 80452\, United States
CATEGORIES:Adults,Library Events
GEO:39.742052;-105.5183552
X-APPLE-STRUCTURED-LOCATION;VALUE=URI;X-ADDRESS=Idaho Springs Public Library 219 14th Avenue Idaho Springs CO 80452 United States;X-APPLE-RADIUS=500;X-TITLE=219 14th Avenue:geo:-105.5183552,39.742052
END:VEVENT
BEGIN:VEVENT
DTSTART;TZID=America/Denver:20221008T120000
DTEND;TZID=America/Denver:20221008T140000
DTSTAMP:20260422T015517
CREATED:20220920T161623Z
LAST-MODIFIED:20220920T161623Z
UID:10005169-1665230400-1665237600@cccld.org
SUMMARY:ISPL OMEGA
DESCRIPTION:Join us for food and fun at our new LBGTQ+ Social Group for kids ages 12-20. Held monthly at the Idaho Springs Public Library. For further information email joe@cccld.org.
URL:https://cccld.org/event/ispl-omega-2/
LOCATION:Idaho Springs Public Library\, 219 14th Avenue\, Idaho Springs\, CO\, 80452\, United States
CATEGORIES:Adults,Library Events,Teens
GEO:39.742052;-105.5183552
X-APPLE-STRUCTURED-LOCATION;VALUE=URI;X-ADDRESS=Idaho Springs Public Library 219 14th Avenue Idaho Springs CO 80452 United States;X-APPLE-RADIUS=500;X-TITLE=219 14th Avenue:geo:-105.5183552,39.742052
END:VEVENT
BEGIN:VEVENT
DTSTART;TZID=America/Denver:20221004T111500
DTEND;TZID=America/Denver:20221004T111500
DTSTAMP:20260422T015517
CREATED:20220823T161139Z
LAST-MODIFIED:20230601T154258Z
UID:10005840-1664882100-1664882100@cccld.org
SUMMARY:ISPL Storytime
DESCRIPTION:Join us for storytime and crafts at the Idaho Springs Public Library.
URL:https://cccld.org/event/ispl-storytime-9/2022-10-04/
LOCATION:Idaho Springs Public Library\, 219 14th Avenue\, Idaho Springs\, CO\, 80452\, United States
CATEGORIES:Kids,Library Events
GEO:39.742052;-105.5183552
X-APPLE-STRUCTURED-LOCATION;VALUE=URI;X-ADDRESS=Idaho Springs Public Library 219 14th Avenue Idaho Springs CO 80452 United States;X-APPLE-RADIUS=500;X-TITLE=219 14th Avenue:geo:-105.5183552,39.742052
END:VEVENT
BEGIN:VEVENT
DTSTART;TZID=America/Denver:20220927T111500
DTEND;TZID=America/Denver:20220927T111500
DTSTAMP:20260422T015517
CREATED:20220823T161139Z
LAST-MODIFIED:20230601T154258Z
UID:10005839-1664277300-1664277300@cccld.org
SUMMARY:ISPL Storytime
DESCRIPTION:Join us for storytime and crafts at the Idaho Springs Public Library.
URL:https://cccld.org/event/ispl-storytime-9/2022-09-27/
LOCATION:Idaho Springs Public Library\, 219 14th Avenue\, Idaho Springs\, CO\, 80452\, United States
CATEGORIES:Kids,Library Events
GEO:39.742052;-105.5183552
X-APPLE-STRUCTURED-LOCATION;VALUE=URI;X-ADDRESS=Idaho Springs Public Library 219 14th Avenue Idaho Springs CO 80452 United States;X-APPLE-RADIUS=500;X-TITLE=219 14th Avenue:geo:-105.5183552,39.742052
END:VEVENT
BEGIN:VEVENT
DTSTART;TZID=America/Denver:20220920T111500
DTEND;TZID=America/Denver:20220920T111500
DTSTAMP:20260422T015517
CREATED:20220823T161139Z
LAST-MODIFIED:20230601T154258Z
UID:10005838-1663672500-1663672500@cccld.org
SUMMARY:ISPL Storytime
DESCRIPTION:Join us for storytime and crafts at the Idaho Springs Public Library.
URL:https://cccld.org/event/ispl-storytime-9/2022-09-20/
LOCATION:Idaho Springs Public Library\, 219 14th Avenue\, Idaho Springs\, CO\, 80452\, United States
CATEGORIES:Kids,Library Events
GEO:39.742052;-105.5183552
X-APPLE-STRUCTURED-LOCATION;VALUE=URI;X-ADDRESS=Idaho Springs Public Library 219 14th Avenue Idaho Springs CO 80452 United States;X-APPLE-RADIUS=500;X-TITLE=219 14th Avenue:geo:-105.5183552,39.742052
END:VEVENT
BEGIN:VEVENT
DTSTART;TZID=America/Denver:20220913T173000
DTEND;TZID=America/Denver:20220913T183000
DTSTAMP:20260422T015517
CREATED:20220823T163915Z
LAST-MODIFIED:20220823T163915Z
UID:10005927-1663090200-1663093800@cccld.org
SUMMARY:ISPL Adult Craft
DESCRIPTION:Join us each month for a great adult craft at the Idaho Springs Public Library. This month’s craft is Beaded Earrings. For information and to register email chris@cccld.org
URL:https://cccld.org/event/ispl-adult-craft-6/
LOCATION:Idaho Springs Public Library\, 219 14th Avenue\, Idaho Springs\, CO\, 80452\, United States
CATEGORIES:Adults,Library Events
GEO:39.742052;-105.5183552
X-APPLE-STRUCTURED-LOCATION;VALUE=URI;X-ADDRESS=Idaho Springs Public Library 219 14th Avenue Idaho Springs CO 80452 United States;X-APPLE-RADIUS=500;X-TITLE=219 14th Avenue:geo:-105.5183552,39.742052
END:VEVENT
BEGIN:VEVENT
DTSTART;TZID=America/Denver:20220913T111500
DTEND;TZID=America/Denver:20220913T111500
DTSTAMP:20260422T015517
CREATED:20220823T161139Z
LAST-MODIFIED:20230601T154258Z
UID:10005837-1663067700-1663067700@cccld.org
SUMMARY:ISPL Storytime
DESCRIPTION:Join us for storytime and crafts at the Idaho Springs Public Library.
URL:https://cccld.org/event/ispl-storytime-9/2022-09-13/
LOCATION:Idaho Springs Public Library\, 219 14th Avenue\, Idaho Springs\, CO\, 80452\, United States
CATEGORIES:Kids,Library Events
GEO:39.742052;-105.5183552
X-APPLE-STRUCTURED-LOCATION;VALUE=URI;X-ADDRESS=Idaho Springs Public Library 219 14th Avenue Idaho Springs CO 80452 United States;X-APPLE-RADIUS=500;X-TITLE=219 14th Avenue:geo:-105.5183552,39.742052
END:VEVENT
BEGIN:VEVENT
DTSTART;TZID=America/Denver:20220912T160000
DTEND;TZID=America/Denver:20220912T170000
DTSTAMP:20260422T015517
CREATED:20220823T162743Z
LAST-MODIFIED:20220823T162743Z
UID:10005924-1662998400-1663002000@cccld.org
SUMMARY:ISPL Book Group
DESCRIPTION:Everyone is welcome. Email libby@cccld.org for more information.
URL:https://cccld.org/event/ispl-book-group-13/
LOCATION:Idaho Springs Public Library\, 219 14th Avenue\, Idaho Springs\, CO\, 80452\, United States
CATEGORIES:Adults,Library Events
GEO:39.742052;-105.5183552
X-APPLE-STRUCTURED-LOCATION;VALUE=URI;X-ADDRESS=Idaho Springs Public Library 219 14th Avenue Idaho Springs CO 80452 United States;X-APPLE-RADIUS=500;X-TITLE=219 14th Avenue:geo:-105.5183552,39.742052
END:VEVENT
BEGIN:VEVENT
DTSTART;TZID=America/Denver:20220912T160000
DTEND;TZID=America/Denver:20220912T170000
DTSTAMP:20260422T015517
CREATED:20211112T223900Z
LAST-MODIFIED:20221115T184830Z
UID:10005694-1662998400-1663002000@cccld.org
SUMMARY:ISPL Book Group
DESCRIPTION:Everyone is welcome. Email libby@cccld.org for more information.
URL:https://cccld.org/event/ispl-book-group-5/2022-09-12/
LOCATION:Idaho Springs Public Library\, 219 14th Avenue\, Idaho Springs\, CO\, 80452\, United States
CATEGORIES:Adults,Library Events
GEO:39.742052;-105.5183552
X-APPLE-STRUCTURED-LOCATION;VALUE=URI;X-ADDRESS=Idaho Springs Public Library 219 14th Avenue Idaho Springs CO 80452 United States;X-APPLE-RADIUS=500;X-TITLE=219 14th Avenue:geo:-105.5183552,39.742052
END:VEVENT
BEGIN:VEVENT
DTSTART;TZID=America/Denver:20220906T111500
DTEND;TZID=America/Denver:20220906T111500
DTSTAMP:20260422T015517
CREATED:20220823T161139Z
LAST-MODIFIED:20230601T154258Z
UID:10005836-1662462900-1662462900@cccld.org
SUMMARY:ISPL Storytime
DESCRIPTION:Join us for storytime and crafts at the Idaho Springs Public Library.
URL:https://cccld.org/event/ispl-storytime-9/2022-09-06/
LOCATION:Idaho Springs Public Library\, 219 14th Avenue\, Idaho Springs\, CO\, 80452\, United States
CATEGORIES:Kids,Library Events
GEO:39.742052;-105.5183552
X-APPLE-STRUCTURED-LOCATION;VALUE=URI;X-ADDRESS=Idaho Springs Public Library 219 14th Avenue Idaho Springs CO 80452 United States;X-APPLE-RADIUS=500;X-TITLE=219 14th Avenue:geo:-105.5183552,39.742052
END:VEVENT
BEGIN:VEVENT
DTSTART;TZID=America/Denver:20220817T160000
DTEND;TZID=America/Denver:20220817T180000
DTSTAMP:20260422T015517
CREATED:20220802T190502Z
LAST-MODIFIED:20220802T190502Z
UID:10005834-1660752000-1660759200@cccld.org
SUMMARY:ISPL - Community Picnic
DESCRIPTION:Back-To-School Night Community Picnic @ Idaho Springs Public Library. Free book for each child! Sponsored by Friends of the Idaho Springs Library.
URL:https://cccld.org/event/ispl-community-picnic/
LOCATION:Idaho Springs Public Library\, 219 14th Avenue\, Idaho Springs\, CO\, 80452\, United States
CATEGORIES:Adults,Community Events,Kids,Library Events,Teens
GEO:39.742052;-105.5183552
X-APPLE-STRUCTURED-LOCATION;VALUE=URI;X-ADDRESS=Idaho Springs Public Library 219 14th Avenue Idaho Springs CO 80452 United States;X-APPLE-RADIUS=500;X-TITLE=219 14th Avenue:geo:-105.5183552,39.742052
END:VEVENT
BEGIN:VEVENT
DTSTART;TZID=America/Denver:20220813T120000
DTEND;TZID=America/Denver:20220813T140000
DTSTAMP:20260422T015517
CREATED:20220713T183303Z
LAST-MODIFIED:20220713T183303Z
UID:10005146-1660392000-1660399200@cccld.org
SUMMARY:OMEGA
DESCRIPTION:Join us for food and fun at our new LBGTQ+ Social Group for kids ages 12-20. Held monthly at the Idaho Springs Public Library. For further information email joe@cccld.org.
URL:https://cccld.org/event/omega-3/
LOCATION:Idaho Springs Public Library\, 219 14th Avenue\, Idaho Springs\, CO\, 80452\, United States
CATEGORIES:Kids,Library Events,Teens
GEO:39.742052;-105.5183552
X-APPLE-STRUCTURED-LOCATION;VALUE=URI;X-ADDRESS=Idaho Springs Public Library 219 14th Avenue Idaho Springs CO 80452 United States;X-APPLE-RADIUS=500;X-TITLE=219 14th Avenue:geo:-105.5183552,39.742052
END:VEVENT
BEGIN:VEVENT
DTSTART;TZID=America/Denver:20220812T130000
DTEND;TZID=America/Denver:20220812T150000
DTSTAMP:20260422T015517
CREATED:20220713T182935Z
LAST-MODIFIED:20220713T182935Z
UID:10005142-1660309200-1660316400@cccld.org
SUMMARY:ISPL Virtual Reality
DESCRIPTION:Join the fun with the new Oculus Quest 2. Email heather@cccld.org for additional information and to register.
URL:https://cccld.org/event/ispl-virtual-reality-3/
LOCATION:Idaho Springs Public Library\, 219 14th Avenue\, Idaho Springs\, CO\, 80452\, United States
CATEGORIES:Adults,Kids,Library Events,Teens
GEO:39.742052;-105.5183552
X-APPLE-STRUCTURED-LOCATION;VALUE=URI;X-ADDRESS=Idaho Springs Public Library 219 14th Avenue Idaho Springs CO 80452 United States;X-APPLE-RADIUS=500;X-TITLE=219 14th Avenue:geo:-105.5183552,39.742052
END:VEVENT
BEGIN:VEVENT
DTSTART;TZID=America/Denver:20220808T160000
DTEND;TZID=America/Denver:20220808T170000
DTSTAMP:20260422T015517
CREATED:20211112T223900Z
LAST-MODIFIED:20221115T184830Z
UID:10005693-1659974400-1659978000@cccld.org
SUMMARY:ISPL Book Group
DESCRIPTION:Everyone is welcome. Email libby@cccld.org for more information.
URL:https://cccld.org/event/ispl-book-group-5/2022-08-08/
LOCATION:Idaho Springs Public Library\, 219 14th Avenue\, Idaho Springs\, CO\, 80452\, United States
CATEGORIES:Adults,Library Events
GEO:39.742052;-105.5183552
X-APPLE-STRUCTURED-LOCATION;VALUE=URI;X-ADDRESS=Idaho Springs Public Library 219 14th Avenue Idaho Springs CO 80452 United States;X-APPLE-RADIUS=500;X-TITLE=219 14th Avenue:geo:-105.5183552,39.742052
END:VEVENT
BEGIN:VEVENT
DTSTART;TZID=America/Denver:20220711T160000
DTEND;TZID=America/Denver:20220711T170000
DTSTAMP:20260422T015517
CREATED:20211112T223900Z
LAST-MODIFIED:20221115T184830Z
UID:10005692-1657555200-1657558800@cccld.org
SUMMARY:ISPL Book Group
DESCRIPTION:Everyone is welcome. Email libby@cccld.org for more information.
URL:https://cccld.org/event/ispl-book-group-5/2022-07-11/
LOCATION:Idaho Springs Public Library\, 219 14th Avenue\, Idaho Springs\, CO\, 80452\, United States
CATEGORIES:Adults,Library Events
GEO:39.742052;-105.5183552
X-APPLE-STRUCTURED-LOCATION;VALUE=URI;X-ADDRESS=Idaho Springs Public Library 219 14th Avenue Idaho Springs CO 80452 United States;X-APPLE-RADIUS=500;X-TITLE=219 14th Avenue:geo:-105.5183552,39.742052
END:VEVENT
BEGIN:VEVENT
DTSTART;TZID=America/Denver:20220705T100000
DTEND;TZID=America/Denver:20220705T140000
DTSTAMP:20260422T015517
CREATED:20220607T193051Z
LAST-MODIFIED:20220607T195214Z
UID:10005822-1657015200-1657029600@cccld.org
SUMMARY:ISPL - Summer Reading
DESCRIPTION:Review complete reading groups & times at www.cccldsummerreading.org/calendar\nSet sail for adventure with your Clear Creek County Libraries! Join a Summer Reading pirate crew\, orient your trusty compass to FUN\, and explore Oceans of Possibilities. We have special activities for learners of all ages. Create\, play\, learn\, and read your way to fabulous treasures. Yo-ho-ho\, it’s a pirate’s life for us!
URL:https://cccld.org/event/ispl-summer-reading/2022-07-05/
LOCATION:Idaho Springs Public Library\, 219 14th Avenue\, Idaho Springs\, CO\, 80452\, United States
CATEGORIES:Kids,Library Events,Summer Reading,Teens
GEO:39.742052;-105.5183552
X-APPLE-STRUCTURED-LOCATION;VALUE=URI;X-ADDRESS=Idaho Springs Public Library 219 14th Avenue Idaho Springs CO 80452 United States;X-APPLE-RADIUS=500;X-TITLE=219 14th Avenue:geo:-105.5183552,39.742052
END:VEVENT
BEGIN:VEVENT
DTSTART;TZID=America/Denver:20220628T100000
DTEND;TZID=America/Denver:20220628T140000
DTSTAMP:20260422T015517
CREATED:20220607T193051Z
LAST-MODIFIED:20220607T195214Z
UID:10005821-1656410400-1656424800@cccld.org
SUMMARY:ISPL - Summer Reading
DESCRIPTION:Review complete reading groups & times at www.cccldsummerreading.org/calendar\nSet sail for adventure with your Clear Creek County Libraries! Join a Summer Reading pirate crew\, orient your trusty compass to FUN\, and explore Oceans of Possibilities. We have special activities for learners of all ages. Create\, play\, learn\, and read your way to fabulous treasures. Yo-ho-ho\, it’s a pirate’s life for us!
URL:https://cccld.org/event/ispl-summer-reading/2022-06-28/
LOCATION:Idaho Springs Public Library\, 219 14th Avenue\, Idaho Springs\, CO\, 80452\, United States
CATEGORIES:Kids,Library Events,Summer Reading,Teens
GEO:39.742052;-105.5183552
X-APPLE-STRUCTURED-LOCATION;VALUE=URI;X-ADDRESS=Idaho Springs Public Library 219 14th Avenue Idaho Springs CO 80452 United States;X-APPLE-RADIUS=500;X-TITLE=219 14th Avenue:geo:-105.5183552,39.742052
END:VEVENT
BEGIN:VEVENT
DTSTART;TZID=America/Denver:20220621T100000
DTEND;TZID=America/Denver:20220621T140000
DTSTAMP:20260422T015517
CREATED:20220607T193051Z
LAST-MODIFIED:20220607T195214Z
UID:10005820-1655805600-1655820000@cccld.org
SUMMARY:ISPL - Summer Reading
DESCRIPTION:Review complete reading groups & times at www.cccldsummerreading.org/calendar\nSet sail for adventure with your Clear Creek County Libraries! Join a Summer Reading pirate crew\, orient your trusty compass to FUN\, and explore Oceans of Possibilities. We have special activities for learners of all ages. Create\, play\, learn\, and read your way to fabulous treasures. Yo-ho-ho\, it’s a pirate’s life for us!
URL:https://cccld.org/event/ispl-summer-reading/2022-06-21/
LOCATION:Idaho Springs Public Library\, 219 14th Avenue\, Idaho Springs\, CO\, 80452\, United States
CATEGORIES:Kids,Library Events,Summer Reading,Teens
GEO:39.742052;-105.5183552
X-APPLE-STRUCTURED-LOCATION;VALUE=URI;X-ADDRESS=Idaho Springs Public Library 219 14th Avenue Idaho Springs CO 80452 United States;X-APPLE-RADIUS=500;X-TITLE=219 14th Avenue:geo:-105.5183552,39.742052
END:VEVENT
BEGIN:VEVENT
DTSTART;TZID=America/Denver:20220614T100000
DTEND;TZID=America/Denver:20220614T140000
DTSTAMP:20260422T015517
CREATED:20220607T193051Z
LAST-MODIFIED:20220607T195214Z
UID:10005819-1655200800-1655215200@cccld.org
SUMMARY:ISPL - Summer Reading
DESCRIPTION:Review complete reading groups & times at www.cccldsummerreading.org/calendar\nSet sail for adventure with your Clear Creek County Libraries! Join a Summer Reading pirate crew\, orient your trusty compass to FUN\, and explore Oceans of Possibilities. We have special activities for learners of all ages. Create\, play\, learn\, and read your way to fabulous treasures. Yo-ho-ho\, it’s a pirate’s life for us!
URL:https://cccld.org/event/ispl-summer-reading/2022-06-14/
LOCATION:Idaho Springs Public Library\, 219 14th Avenue\, Idaho Springs\, CO\, 80452\, United States
CATEGORIES:Kids,Library Events,Summer Reading,Teens
GEO:39.742052;-105.5183552
X-APPLE-STRUCTURED-LOCATION;VALUE=URI;X-ADDRESS=Idaho Springs Public Library 219 14th Avenue Idaho Springs CO 80452 United States;X-APPLE-RADIUS=500;X-TITLE=219 14th Avenue:geo:-105.5183552,39.742052
END:VEVENT
BEGIN:VEVENT
DTSTART;TZID=America/Denver:20220613T160000
DTEND;TZID=America/Denver:20220613T170000
DTSTAMP:20260422T015517
CREATED:20211112T223900Z
LAST-MODIFIED:20221115T184830Z
UID:10005691-1655136000-1655139600@cccld.org
SUMMARY:ISPL Book Group
DESCRIPTION:Everyone is welcome. Email libby@cccld.org for more information.
URL:https://cccld.org/event/ispl-book-group-5/2022-06-13/
LOCATION:Idaho Springs Public Library\, 219 14th Avenue\, Idaho Springs\, CO\, 80452\, United States
CATEGORIES:Adults,Library Events
GEO:39.742052;-105.5183552
X-APPLE-STRUCTURED-LOCATION;VALUE=URI;X-ADDRESS=Idaho Springs Public Library 219 14th Avenue Idaho Springs CO 80452 United States;X-APPLE-RADIUS=500;X-TITLE=219 14th Avenue:geo:-105.5183552,39.742052
END:VEVENT
BEGIN:VEVENT
DTSTART;TZID=America/Denver:20220613T160000
DTEND;TZID=America/Denver:20220613T170000
DTSTAMP:20260422T015517
CREATED:20220607T194328Z
LAST-MODIFIED:20220607T194347Z
UID:10005830-1655136000-1655139600@cccld.org
SUMMARY:ISPL Book Group
DESCRIPTION:Everyone is welcome. Email libby@cccld.org for more information.
URL:https://cccld.org/event/ispl-book-group-10/
LOCATION:Idaho Springs Public Library\, 219 14th Avenue\, Idaho Springs\, CO\, 80452\, United States
CATEGORIES:Adults,Library Events
GEO:39.742052;-105.5183552
X-APPLE-STRUCTURED-LOCATION;VALUE=URI;X-ADDRESS=Idaho Springs Public Library 219 14th Avenue Idaho Springs CO 80452 United States;X-APPLE-RADIUS=500;X-TITLE=219 14th Avenue:geo:-105.5183552,39.742052
END:VEVENT
BEGIN:VEVENT
DTSTART;TZID=America/Denver:20220611T120000
DTEND;TZID=America/Denver:20220611T140000
DTSTAMP:20260422T015517
CREATED:20220607T194128Z
LAST-MODIFIED:20220607T194128Z
UID:10005829-1654948800-1654956000@cccld.org
SUMMARY:OMEGA
DESCRIPTION:Join us for food and fun at our new LBGTQ+ Social Group for kids ages 12-20. Held monthly at the Idaho Springs Public Library. For further information email joe@cccld.org.
URL:https://cccld.org/event/omega-2/
LOCATION:Idaho Springs Public Library\, 219 14th Avenue\, Idaho Springs\, CO\, 80452\, United States
CATEGORIES:Kids,Library Events,Teens
GEO:39.742052;-105.5183552
X-APPLE-STRUCTURED-LOCATION;VALUE=URI;X-ADDRESS=Idaho Springs Public Library 219 14th Avenue Idaho Springs CO 80452 United States;X-APPLE-RADIUS=500;X-TITLE=219 14th Avenue:geo:-105.5183552,39.742052
END:VEVENT
BEGIN:VEVENT
DTSTART;TZID=America/Denver:20220607T100000
DTEND;TZID=America/Denver:20220607T140000
DTSTAMP:20260422T015517
CREATED:20220607T193051Z
LAST-MODIFIED:20220607T195214Z
UID:10005818-1654596000-1654610400@cccld.org
SUMMARY:ISPL - Summer Reading
DESCRIPTION:Review complete reading groups & times at www.cccldsummerreading.org/calendar\nSet sail for adventure with your Clear Creek County Libraries! Join a Summer Reading pirate crew\, orient your trusty compass to FUN\, and explore Oceans of Possibilities. We have special activities for learners of all ages. Create\, play\, learn\, and read your way to fabulous treasures. Yo-ho-ho\, it’s a pirate’s life for us!
URL:https://cccld.org/event/ispl-summer-reading/2022-06-07/
LOCATION:Idaho Springs Public Library\, 219 14th Avenue\, Idaho Springs\, CO\, 80452\, United States
CATEGORIES:Kids,Library Events,Summer Reading,Teens
GEO:39.742052;-105.5183552
X-APPLE-STRUCTURED-LOCATION;VALUE=URI;X-ADDRESS=Idaho Springs Public Library 219 14th Avenue Idaho Springs CO 80452 United States;X-APPLE-RADIUS=500;X-TITLE=219 14th Avenue:geo:-105.5183552,39.742052
END:VEVENT
BEGIN:VEVENT
DTSTART;TZID=America/Denver:20220528T103000
DTEND;TZID=America/Denver:20220528T233000
DTSTAMP:20260422T015517
CREATED:20220412T213754Z
LAST-MODIFIED:20220412T213754Z
UID:10005768-1653733800-1653780600@cccld.org
SUMMARY:Family ASL
DESCRIPTION:Family American Sign Language Classes–at the Idaho Springs Public Library. Please email joe@cccld.org for more information and to register.
URL:https://cccld.org/event/family-asl/2022-05-28/
LOCATION:Idaho Springs Public Library\, 219 14th Avenue\, Idaho Springs\, CO\, 80452\, United States
CATEGORIES:Adults,Kids,Library Events,Teens
GEO:39.742052;-105.5183552
X-APPLE-STRUCTURED-LOCATION;VALUE=URI;X-ADDRESS=Idaho Springs Public Library 219 14th Avenue Idaho Springs CO 80452 United States;X-APPLE-RADIUS=500;X-TITLE=219 14th Avenue:geo:-105.5183552,39.742052
END:VEVENT
BEGIN:VEVENT
DTSTART;TZID=America/Denver:20220521T103000
DTEND;TZID=America/Denver:20220521T233000
DTSTAMP:20260422T015517
CREATED:20220412T213754Z
LAST-MODIFIED:20220412T213754Z
UID:10005767-1653129000-1653175800@cccld.org
SUMMARY:Family ASL
DESCRIPTION:Family American Sign Language Classes–at the Idaho Springs Public Library. Please email joe@cccld.org for more information and to register.
URL:https://cccld.org/event/family-asl/2022-05-21/
LOCATION:Idaho Springs Public Library\, 219 14th Avenue\, Idaho Springs\, CO\, 80452\, United States
CATEGORIES:Adults,Kids,Library Events,Teens
GEO:39.742052;-105.5183552
X-APPLE-STRUCTURED-LOCATION;VALUE=URI;X-ADDRESS=Idaho Springs Public Library 219 14th Avenue Idaho Springs CO 80452 United States;X-APPLE-RADIUS=500;X-TITLE=219 14th Avenue:geo:-105.5183552,39.742052
END:VEVENT
END:VCALENDAR