BEGIN:VCALENDAR
VERSION:2.0
PRODID:-//Clear Creek County Library District - ECPv6.15.16//NONSGML v1.0//EN
CALSCALE:GREGORIAN
METHOD:PUBLISH
X-WR-CALNAME:Clear Creek County Library District
X-ORIGINAL-URL:https://cccld.org
X-WR-CALDESC:Events for Clear Creek County Library District
REFRESH-INTERVAL;VALUE=DURATION:PT1H
X-Robots-Tag:noindex
X-PUBLISHED-TTL:PT1H
BEGIN:VTIMEZONE
TZID:America/Denver
BEGIN:DAYLIGHT
TZOFFSETFROM:-0700
TZOFFSETTO:-0600
TZNAME:MDT
DTSTART:20180311T090000
END:DAYLIGHT
BEGIN:STANDARD
TZOFFSETFROM:-0600
TZOFFSETTO:-0700
TZNAME:MST
DTSTART:20181104T080000
END:STANDARD
BEGIN:DAYLIGHT
TZOFFSETFROM:-0700
TZOFFSETTO:-0600
TZNAME:MDT
DTSTART:20190310T090000
END:DAYLIGHT
BEGIN:STANDARD
TZOFFSETFROM:-0600
TZOFFSETTO:-0700
TZNAME:MST
DTSTART:20191103T080000
END:STANDARD
BEGIN:DAYLIGHT
TZOFFSETFROM:-0700
TZOFFSETTO:-0600
TZNAME:MDT
DTSTART:20200308T090000
END:DAYLIGHT
BEGIN:STANDARD
TZOFFSETFROM:-0600
TZOFFSETTO:-0700
TZNAME:MST
DTSTART:20201101T080000
END:STANDARD
END:VTIMEZONE
BEGIN:VEVENT
DTSTART;TZID=America/Denver:20190718T140000
DTEND;TZID=America/Denver:20190718T140000
DTSTAMP:20260422T213613
CREATED:20190701T191751Z
LAST-MODIFIED:20190701T191751Z
UID:10004467-1563458400-1563458400@cccld.org
SUMMARY:ISPL Harry Potter Trivia
DESCRIPTION:Do you think you know everything there is to know about Harry Potter? Put your knowledge to the test! Harry Potter Trivia will be at the Idaho Springs Public Library on Thursday\, July 18 at 2 pm. All ages welcome!
URL:https://cccld.org/event/ispl-harry-potter-trivia/
LOCATION:Idaho Springs Public Library\, 219 14th Avenue\, Idaho Springs\, CO\, 80452\, United States
CATEGORIES:Adults,Kids,Library Events
GEO:39.742052;-105.5183552
X-APPLE-STRUCTURED-LOCATION;VALUE=URI;X-ADDRESS=Idaho Springs Public Library 219 14th Avenue Idaho Springs CO 80452 United States;X-APPLE-RADIUS=500;X-TITLE=219 14th Avenue:geo:-105.5183552,39.742052
END:VEVENT
BEGIN:VEVENT
DTSTART;TZID=America/Denver:20190716T130000
DTEND;TZID=America/Denver:20190716T140000
DTSTAMP:20260422T213613
CREATED:20190701T184942Z
LAST-MODIFIED:20190701T184942Z
UID:10004447-1563282000-1563285600@cccld.org
SUMMARY:ISPL Computer Basics
DESCRIPTION:Drop in for assistance with learning basic computer skills.
URL:https://cccld.org/event/ispl-computer-basics/2019-07-16/
LOCATION:Idaho Springs Public Library\, 219 14th Avenue\, Idaho Springs\, CO\, 80452\, United States
CATEGORIES:Adults,Library Events
GEO:39.742052;-105.5183552
X-APPLE-STRUCTURED-LOCATION;VALUE=URI;X-ADDRESS=Idaho Springs Public Library 219 14th Avenue Idaho Springs CO 80452 United States;X-APPLE-RADIUS=500;X-TITLE=219 14th Avenue:geo:-105.5183552,39.742052
END:VEVENT
BEGIN:VEVENT
DTSTART;TZID=America/Denver:20190716T130000
DTEND;TZID=America/Denver:20190716T140000
DTSTAMP:20260422T213613
CREATED:20190516T230813Z
LAST-MODIFIED:20190516T230813Z
UID:10004779-1563282000-1563285600@cccld.org
SUMMARY:ISPL Summer Reading Week 7: Emberclaw House
DESCRIPTION:Emberclaw House: 6th – 12th grade \nWeek 7 in Idaho Springs: Charms – Mirror of Erised Workshop
URL:https://cccld.org/event/ispl-summer-reading-week-7-emberclaw-house/
LOCATION:Idaho Springs Public Library\, 219 14th Avenue\, Idaho Springs\, CO\, 80452\, United States
CATEGORIES:Library Events,Summer Reading
GEO:39.742052;-105.5183552
X-APPLE-STRUCTURED-LOCATION;VALUE=URI;X-ADDRESS=Idaho Springs Public Library 219 14th Avenue Idaho Springs CO 80452 United States;X-APPLE-RADIUS=500;X-TITLE=219 14th Avenue:geo:-105.5183552,39.742052
END:VEVENT
BEGIN:VEVENT
DTSTART;TZID=America/Denver:20190716T100000
DTEND;TZID=America/Denver:20190716T120000
DTSTAMP:20260422T213613
CREATED:20190516T201446Z
LAST-MODIFIED:20190606T210436Z
UID:10004423-1563271200-1563278400@cccld.org
SUMMARY:ISPL Summer Reading Week 7: Pippinhoot & Featherfayre Houses
DESCRIPTION:Pippinhoot House: early learning – 2nd grade \nFeatherfayre House: 3rd – 5th grade \nWeek 7 in Idaho Springs: Magic Mirror Workshop
URL:https://cccld.org/event/ispl-summer-reading-week-7-pippinhoot-featherfayre-houses/
LOCATION:Idaho Springs Public Library\, 219 14th Avenue\, Idaho Springs\, CO\, 80452\, United States
CATEGORIES:Kids,Library Events,Summer Reading
GEO:39.742052;-105.5183552
X-APPLE-STRUCTURED-LOCATION;VALUE=URI;X-ADDRESS=Idaho Springs Public Library 219 14th Avenue Idaho Springs CO 80452 United States;X-APPLE-RADIUS=500;X-TITLE=219 14th Avenue:geo:-105.5183552,39.742052
END:VEVENT
BEGIN:VEVENT
DTSTART;TZID=America/Denver:20190715T130000
DTEND;TZID=America/Denver:20190715T143000
DTSTAMP:20260422T213613
CREATED:20190619T171024Z
LAST-MODIFIED:20190619T171024Z
UID:10004466-1563195600-1563201000@cccld.org
SUMMARY:ISPL Adult Book Group
DESCRIPTION:Connect with other readers in our community at monthly library book meetups. Share your ideas and discover new stories. New readers are always welcome! Please contact lucy@cccld.org for more information. \nJuly Book Selection: The Faith Club by Ranya Idilby\, Suzanne Oliver\, and Priscilla Warner
URL:https://cccld.org/event/ispl-adult-book-group-5/
LOCATION:Idaho Springs Public Library\, 219 14th Avenue\, Idaho Springs\, CO\, 80452\, United States
CATEGORIES:Adults,Library Events
GEO:39.742052;-105.5183552
X-APPLE-STRUCTURED-LOCATION;VALUE=URI;X-ADDRESS=Idaho Springs Public Library 219 14th Avenue Idaho Springs CO 80452 United States;X-APPLE-RADIUS=500;X-TITLE=219 14th Avenue:geo:-105.5183552,39.742052
END:VEVENT
BEGIN:VEVENT
DTSTART;TZID=America/Denver:20190715T120000
DTEND;TZID=America/Denver:20190715T130000
DTSTAMP:20260422T213613
CREATED:20190403T213918Z
LAST-MODIFIED:20190701T163939Z
UID:10004351-1563192000-1563195600@cccld.org
SUMMARY:Idaho Springs Library Association and Building Advisory Committee Meeting
DESCRIPTION:Quarterly meeting of the Idaho Springs Library Association and the Idaho Springs Building Advisory Committee.
URL:https://cccld.org/event/idaho-springs-library-association-and-building-advisory-committee-meeting-2/
LOCATION:Idaho Springs Public Library\, 219 14th Avenue\, Idaho Springs\, CO\, 80452\, United States
CATEGORIES:Library Events
GEO:39.742052;-105.5183552
X-APPLE-STRUCTURED-LOCATION;VALUE=URI;X-ADDRESS=Idaho Springs Public Library 219 14th Avenue Idaho Springs CO 80452 United States;X-APPLE-RADIUS=500;X-TITLE=219 14th Avenue:geo:-105.5183552,39.742052
END:VEVENT
BEGIN:VEVENT
DTSTART;TZID=America/Denver:20190709T130000
DTEND;TZID=America/Denver:20190709T140000
DTSTAMP:20260422T213613
CREATED:20190701T184942Z
LAST-MODIFIED:20190701T184942Z
UID:10004446-1562677200-1562680800@cccld.org
SUMMARY:ISPL Computer Basics
DESCRIPTION:Drop in for assistance with learning basic computer skills.
URL:https://cccld.org/event/ispl-computer-basics/2019-07-09/
LOCATION:Idaho Springs Public Library\, 219 14th Avenue\, Idaho Springs\, CO\, 80452\, United States
CATEGORIES:Adults,Library Events
GEO:39.742052;-105.5183552
X-APPLE-STRUCTURED-LOCATION;VALUE=URI;X-ADDRESS=Idaho Springs Public Library 219 14th Avenue Idaho Springs CO 80452 United States;X-APPLE-RADIUS=500;X-TITLE=219 14th Avenue:geo:-105.5183552,39.742052
END:VEVENT
BEGIN:VEVENT
DTSTART;TZID=America/Denver:20190709T130000
DTEND;TZID=America/Denver:20190709T140000
DTSTAMP:20260422T213613
CREATED:20190516T230421Z
LAST-MODIFIED:20190516T230421Z
UID:10004777-1562677200-1562680800@cccld.org
SUMMARY:ISPL Summer Reading Week 6: Emberclaw House
DESCRIPTION:Emberclaw House: 6th – 12th grade \nWeek 6 in Idaho Springs: Transfiguration – Spellcraft
URL:https://cccld.org/event/ispl-summer-reading-week-6-emberclaw-house/
LOCATION:Idaho Springs Public Library\, 219 14th Avenue\, Idaho Springs\, CO\, 80452\, United States
CATEGORIES:Library Events,Summer Reading
GEO:39.742052;-105.5183552
X-APPLE-STRUCTURED-LOCATION;VALUE=URI;X-ADDRESS=Idaho Springs Public Library 219 14th Avenue Idaho Springs CO 80452 United States;X-APPLE-RADIUS=500;X-TITLE=219 14th Avenue:geo:-105.5183552,39.742052
END:VEVENT
BEGIN:VEVENT
DTSTART;TZID=America/Denver:20190709T100000
DTEND;TZID=America/Denver:20190709T120000
DTSTAMP:20260422T213613
CREATED:20190516T201122Z
LAST-MODIFIED:20190606T210406Z
UID:10004417-1562666400-1562673600@cccld.org
SUMMARY:ISPL Summer Reading Week 6: Pippinhoot & Featherfayre Houses
DESCRIPTION:Pippinhoot House: early learning – 2nd grade \nFeatherfayre House: 3rd – 5th grade \nWeek 6 in Idaho Springs: Spells & Ciphers – Quillcraft & Magic Madlibs
URL:https://cccld.org/event/ispl-summer-reading-week-6-pippinhoot-featherfayre-houses/
LOCATION:Idaho Springs Public Library\, 219 14th Avenue\, Idaho Springs\, CO\, 80452\, United States
CATEGORIES:Kids,Library Events,Summer Reading
GEO:39.742052;-105.5183552
X-APPLE-STRUCTURED-LOCATION;VALUE=URI;X-ADDRESS=Idaho Springs Public Library 219 14th Avenue Idaho Springs CO 80452 United States;X-APPLE-RADIUS=500;X-TITLE=219 14th Avenue:geo:-105.5183552,39.742052
END:VEVENT
BEGIN:VEVENT
DTSTART;TZID=America/Denver:20190708T173000
DTEND;TZID=America/Denver:20190708T190000
DTSTAMP:20260422T213613
CREATED:20190619T164928Z
LAST-MODIFIED:20190619T164959Z
UID:10004451-1562607000-1562612400@cccld.org
SUMMARY:ISPL Adult Craft Night
DESCRIPTION:Do you love to craft? Or are you craft-curious? Get creative and connect with other crafty patrons at our monthly craft workshops! No experience is necessary and all workshops are free. \nIn June\, we will be making strawberry jam!
URL:https://cccld.org/event/ispl-adult-craft-night-2/
LOCATION:Idaho Springs Public Library\, 219 14th Avenue\, Idaho Springs\, CO\, 80452\, United States
CATEGORIES:Adults,Library Events
GEO:39.742052;-105.5183552
X-APPLE-STRUCTURED-LOCATION;VALUE=URI;X-ADDRESS=Idaho Springs Public Library 219 14th Avenue Idaho Springs CO 80452 United States;X-APPLE-RADIUS=500;X-TITLE=219 14th Avenue:geo:-105.5183552,39.742052
END:VEVENT
BEGIN:VEVENT
DTSTART;TZID=America/Denver:20190625T130000
DTEND;TZID=America/Denver:20190625T140000
DTSTAMP:20260422T213613
CREATED:20190516T225925Z
LAST-MODIFIED:20190516T225925Z
UID:10004775-1561467600-1561471200@cccld.org
SUMMARY:ISPL Summer Reading Week 4: Emberclaw House
DESCRIPTION:Emberclaw House: 6th – 12th grade \nWeek 4 in Idaho Springs: Castles – Castlecraft
URL:https://cccld.org/event/ispl-summer-reading-week-4-emberclaw-house/
LOCATION:Idaho Springs Public Library\, 219 14th Avenue\, Idaho Springs\, CO\, 80452\, United States
CATEGORIES:Library Events,Summer Reading
GEO:39.742052;-105.5183552
X-APPLE-STRUCTURED-LOCATION;VALUE=URI;X-ADDRESS=Idaho Springs Public Library 219 14th Avenue Idaho Springs CO 80452 United States;X-APPLE-RADIUS=500;X-TITLE=219 14th Avenue:geo:-105.5183552,39.742052
END:VEVENT
BEGIN:VEVENT
DTSTART;TZID=America/Denver:20190625T100000
DTEND;TZID=America/Denver:20190625T120000
DTSTAMP:20260422T213613
CREATED:20190516T190010Z
LAST-MODIFIED:20190606T210243Z
UID:10004409-1561456800-1561464000@cccld.org
SUMMARY:ISPL Summer Reading Week 4: Pippinhoot & Featherfayre Houses
DESCRIPTION:Pippinhoot House: early learning – 2nd grade \nFeatherfayre House: 3rd – 5th grade \nWeek 4 in Idaho Springs: Castles – Castlecraft
URL:https://cccld.org/event/ispl-summer-reading-pippinhoot-featherfayre-houses-4/
LOCATION:Idaho Springs Public Library\, 219 14th Avenue\, Idaho Springs\, CO\, 80452\, United States
CATEGORIES:Kids,Library Events,Summer Reading
GEO:39.742052;-105.5183552
X-APPLE-STRUCTURED-LOCATION;VALUE=URI;X-ADDRESS=Idaho Springs Public Library 219 14th Avenue Idaho Springs CO 80452 United States;X-APPLE-RADIUS=500;X-TITLE=219 14th Avenue:geo:-105.5183552,39.742052
END:VEVENT
BEGIN:VEVENT
DTSTART;TZID=America/Denver:20190618T180000
DTEND;TZID=America/Denver:20190618T180000
DTSTAMP:20260422T213613
CREATED:20190328T204845Z
LAST-MODIFIED:20190328T204845Z
UID:10004626-1560880800-1560880800@cccld.org
SUMMARY:District Board Meeting
DESCRIPTION:
URL:https://cccld.org/event/district-board-meeting-3/
LOCATION:Idaho Springs Public Library\, 219 14th Avenue\, Idaho Springs\, CO\, 80452\, United States
CATEGORIES:Library Events
GEO:39.742052;-105.5183552
X-APPLE-STRUCTURED-LOCATION;VALUE=URI;X-ADDRESS=Idaho Springs Public Library 219 14th Avenue Idaho Springs CO 80452 United States;X-APPLE-RADIUS=500;X-TITLE=219 14th Avenue:geo:-105.5183552,39.742052
END:VEVENT
BEGIN:VEVENT
DTSTART;TZID=America/Denver:20190618T130000
DTEND;TZID=America/Denver:20190618T140000
DTSTAMP:20260422T213613
CREATED:20190516T225307Z
LAST-MODIFIED:20190516T225307Z
UID:10004772-1560862800-1560866400@cccld.org
SUMMARY:ISPL Summer Reading Week 3: Emberclaw House
DESCRIPTION:Emberclaw House: 6th – 12th grade \nWeek 3 in Idaho Springs: Potions – Potion Workshop
URL:https://cccld.org/event/ispl-summer-reading-week-3-emberclaw-house/
LOCATION:Idaho Springs Public Library\, 219 14th Avenue\, Idaho Springs\, CO\, 80452\, United States
CATEGORIES:Library Events,Summer Reading
GEO:39.742052;-105.5183552
X-APPLE-STRUCTURED-LOCATION;VALUE=URI;X-ADDRESS=Idaho Springs Public Library 219 14th Avenue Idaho Springs CO 80452 United States;X-APPLE-RADIUS=500;X-TITLE=219 14th Avenue:geo:-105.5183552,39.742052
END:VEVENT
BEGIN:VEVENT
DTSTART;TZID=America/Denver:20190618T100000
DTEND;TZID=America/Denver:20190618T120000
DTSTAMP:20260422T213613
CREATED:20190516T185514Z
LAST-MODIFIED:20190606T210029Z
UID:10004403-1560852000-1560859200@cccld.org
SUMMARY:ISPL Summer Reading Week 3: Pippinhoot & Featherfayre Houses
DESCRIPTION:Pippinhoot House: early learning – 2nd grade \nFeatherfayre House: 3rd – 5th grade \nWeek 3 in Idaho Springs: Potions Workshop
URL:https://cccld.org/event/ispl-summer-reading-pippinhoot-featherfayre-houses-3/
LOCATION:Idaho Springs Public Library\, 219 14th Avenue\, Idaho Springs\, CO\, 80452\, United States
CATEGORIES:Kids,Library Events,Summer Reading
GEO:39.742052;-105.5183552
X-APPLE-STRUCTURED-LOCATION;VALUE=URI;X-ADDRESS=Idaho Springs Public Library 219 14th Avenue Idaho Springs CO 80452 United States;X-APPLE-RADIUS=500;X-TITLE=219 14th Avenue:geo:-105.5183552,39.742052
END:VEVENT
BEGIN:VEVENT
DTSTART;TZID=America/Denver:20190617T130000
DTEND;TZID=America/Denver:20190617T150000
DTSTAMP:20260422T213613
CREATED:20190606T223904Z
LAST-MODIFIED:20190606T223904Z
UID:10004863-1560776400-1560783600@cccld.org
SUMMARY:ISPL Adult Book Group
DESCRIPTION:Connect with other readers in our community at monthly library book meetups. Share your ideas and discover new stories. New readers are always welcome! Please contact lucy@cccld.org for more information. \nThis month\, Ann Doolan-Fox\, author of Celtic Road Home\, will be giving a presentation. All are welcome\, regardless of whether you have read the book.
URL:https://cccld.org/event/ispl-adult-book-group-4/
LOCATION:Idaho Springs Public Library\, 219 14th Avenue\, Idaho Springs\, CO\, 80452\, United States
CATEGORIES:Adults,Library Events
GEO:39.742052;-105.5183552
X-APPLE-STRUCTURED-LOCATION;VALUE=URI;X-ADDRESS=Idaho Springs Public Library 219 14th Avenue Idaho Springs CO 80452 United States;X-APPLE-RADIUS=500;X-TITLE=219 14th Avenue:geo:-105.5183552,39.742052
END:VEVENT
BEGIN:VEVENT
DTSTART;TZID=America/Denver:20190611T130000
DTEND;TZID=America/Denver:20190611T140000
DTSTAMP:20260422T213613
CREATED:20190516T224340Z
LAST-MODIFIED:20190606T205842Z
UID:10004768-1560258000-1560261600@cccld.org
SUMMARY:ISPL Summer Reading Week 2: Emberclaw House
DESCRIPTION:Emberclaw House: 6th – 12th grade \nWeek 2 in Idaho Springs: Owlery Visit – Owlcraft
URL:https://cccld.org/event/ispl-summer-reading-week-2-emberclaw-house/
LOCATION:Idaho Springs Public Library\, 219 14th Avenue\, Idaho Springs\, CO\, 80452\, United States
CATEGORIES:Library Events,Summer Reading
GEO:39.742052;-105.5183552
X-APPLE-STRUCTURED-LOCATION;VALUE=URI;X-ADDRESS=Idaho Springs Public Library 219 14th Avenue Idaho Springs CO 80452 United States;X-APPLE-RADIUS=500;X-TITLE=219 14th Avenue:geo:-105.5183552,39.742052
END:VEVENT
BEGIN:VEVENT
DTSTART;TZID=America/Denver:20190611T100000
DTEND;TZID=America/Denver:20190611T120000
DTSTAMP:20260422T213613
CREATED:20190516T184952Z
LAST-MODIFIED:20190606T205815Z
UID:10004398-1560247200-1560254400@cccld.org
SUMMARY:ISPL Summer Reading Week 2: Pippinhoot & Featherfayre Houses
DESCRIPTION:Pippinhoot House: early learning – 2nd grade \nFeatherfayre House: 3rd – 5th grade \nWeek 2 in Idaho Springs: Owlery Visit – Owlcraft
URL:https://cccld.org/event/ispl-summer-reading-pippinhoot-featherfayre-houses-2/
LOCATION:Idaho Springs Public Library\, 219 14th Avenue\, Idaho Springs\, CO\, 80452\, United States
CATEGORIES:Kids,Library Events,Summer Reading
GEO:39.742052;-105.5183552
X-APPLE-STRUCTURED-LOCATION;VALUE=URI;X-ADDRESS=Idaho Springs Public Library 219 14th Avenue Idaho Springs CO 80452 United States;X-APPLE-RADIUS=500;X-TITLE=219 14th Avenue:geo:-105.5183552,39.742052
END:VEVENT
BEGIN:VEVENT
DTSTART;TZID=America/Denver:20190610T173000
DTEND;TZID=America/Denver:20190610T190000
DTSTAMP:20260422T213613
CREATED:20190610T185110Z
LAST-MODIFIED:20190610T185239Z
UID:10004432-1560187800-1560193200@cccld.org
SUMMARY:ISPL Adult Craft Night
DESCRIPTION:Do you love to craft? Or are you craft-curious? Get creative and connect with other crafty patrons at our monthly craft workshops! No experience is necessary and all workshops are free\, but registration is required for each session. Please email holly@cccld.org to sign up. \nJune craft: pompom owls
URL:https://cccld.org/event/ispl-adult-craft-night/
LOCATION:Idaho Springs Public Library\, 219 14th Avenue\, Idaho Springs\, CO\, 80452\, United States
CATEGORIES:Adults,Library Events
GEO:39.742052;-105.5183552
X-APPLE-STRUCTURED-LOCATION;VALUE=URI;X-ADDRESS=Idaho Springs Public Library 219 14th Avenue Idaho Springs CO 80452 United States;X-APPLE-RADIUS=500;X-TITLE=219 14th Avenue:geo:-105.5183552,39.742052
END:VEVENT
BEGIN:VEVENT
DTSTART;TZID=America/Denver:20190604T130000
DTEND;TZID=America/Denver:20190604T140000
DTSTAMP:20260422T213613
CREATED:20190516T223637Z
LAST-MODIFIED:20190516T223637Z
UID:10004764-1559653200-1559656800@cccld.org
SUMMARY:ISPL Summer Reading Week 1: Emberclaw House
DESCRIPTION:Emberclaw House: 6th – 12th grade \nWeek 1 in Idaho Springs: Witches’ Welcome – Ollivander’s Wand Workshop
URL:https://cccld.org/event/ispl-summer-reading-week-1-emberclaw-house/
LOCATION:Idaho Springs Public Library\, 219 14th Avenue\, Idaho Springs\, CO\, 80452\, United States
CATEGORIES:Library Events,Summer Reading
GEO:39.742052;-105.5183552
X-APPLE-STRUCTURED-LOCATION;VALUE=URI;X-ADDRESS=Idaho Springs Public Library 219 14th Avenue Idaho Springs CO 80452 United States;X-APPLE-RADIUS=500;X-TITLE=219 14th Avenue:geo:-105.5183552,39.742052
END:VEVENT
BEGIN:VEVENT
DTSTART;TZID=America/Denver:20190604T100000
DTEND;TZID=America/Denver:20190604T120000
DTSTAMP:20260422T213613
CREATED:20190516T180128Z
LAST-MODIFIED:20190516T190820Z
UID:10004753-1559642400-1559649600@cccld.org
SUMMARY:ISPL Summer Reading Week 1: Pippinhoot & Featherfayre Houses
DESCRIPTION:Pippinhoot House: early learning – 2nd grade \nFeatherfayre House: 3rd – 5th grade \nWeek One in Idaho Springs: Witches & Wands – Magic Wand Workshop
URL:https://cccld.org/event/ispl-summer-reading-pippinhoot-featherfayre-houses/
LOCATION:Idaho Springs Public Library\, 219 14th Avenue\, Idaho Springs\, CO\, 80452\, United States
CATEGORIES:Kids,Library Events,Summer Reading
GEO:39.742052;-105.5183552
X-APPLE-STRUCTURED-LOCATION;VALUE=URI;X-ADDRESS=Idaho Springs Public Library 219 14th Avenue Idaho Springs CO 80452 United States;X-APPLE-RADIUS=500;X-TITLE=219 14th Avenue:geo:-105.5183552,39.742052
END:VEVENT
BEGIN:VEVENT
DTSTART;TZID=America/Denver:20190520T130000
DTEND;TZID=America/Denver:20190520T143000
DTSTAMP:20260422T213613
CREATED:20190424T220639Z
LAST-MODIFIED:20190424T220639Z
UID:10004394-1558357200-1558362600@cccld.org
SUMMARY:ISPL Adult Book Group
DESCRIPTION:Connect with other readers in our community at monthly library book meetups. Share your ideas and discover new stories. New readers are always welcome! Please contact lucy@cccld.org for more information. \nMay Book Selection: The President’s Kitchen Cabinet by Adrian Miller
URL:https://cccld.org/event/ispl-adult-book-group-2/
LOCATION:Idaho Springs Public Library\, 219 14th Avenue\, Idaho Springs\, CO\, 80452\, United States
CATEGORIES:Adults,Library Events
GEO:39.742052;-105.5183552
X-APPLE-STRUCTURED-LOCATION;VALUE=URI;X-ADDRESS=Idaho Springs Public Library 219 14th Avenue Idaho Springs CO 80452 United States;X-APPLE-RADIUS=500;X-TITLE=219 14th Avenue:geo:-105.5183552,39.742052
END:VEVENT
BEGIN:VEVENT
DTSTART;TZID=America/Denver:20190515T153000
DTEND;TZID=America/Denver:20190515T170000
DTSTAMP:20260422T213613
CREATED:20190403T223600Z
LAST-MODIFIED:20190403T223600Z
UID:10004678-1557934200-1557939600@cccld.org
SUMMARY:After-School Homework Help
DESCRIPTION:Students of all ages can get help with their homework from 3:30 – 5 pm on Wednesdays at the Idaho Springs Public Library. Volunteer tutors will be available to help with homework\, reading\, or other school activities.
URL:https://cccld.org/event/after-school-homework-help-7/
LOCATION:Idaho Springs Public Library\, 219 14th Avenue\, Idaho Springs\, CO\, 80452\, United States
CATEGORIES:Kids,Library Events
GEO:39.742052;-105.5183552
X-APPLE-STRUCTURED-LOCATION;VALUE=URI;X-ADDRESS=Idaho Springs Public Library 219 14th Avenue Idaho Springs CO 80452 United States;X-APPLE-RADIUS=500;X-TITLE=219 14th Avenue:geo:-105.5183552,39.742052
END:VEVENT
BEGIN:VEVENT
DTSTART;TZID=America/Denver:20190514T111500
DTEND;TZID=America/Denver:20190514T111500
DTSTAMP:20260422T213613
CREATED:20190424T215125Z
LAST-MODIFIED:20190424T215125Z
UID:10004747-1557832500-1557832500@cccld.org
SUMMARY:ISPL Storytime
DESCRIPTION:Join us at the Idaho Springs Public Library for stories\, fun activities\, and snacks each week. Connect with other families and your library! \nThis will be the last storytime before summer.
URL:https://cccld.org/event/ispl-storytime-6/
LOCATION:Idaho Springs Public Library\, 219 14th Avenue\, Idaho Springs\, CO\, 80452\, United States
CATEGORIES:Library Events
GEO:39.742052;-105.5183552
X-APPLE-STRUCTURED-LOCATION;VALUE=URI;X-ADDRESS=Idaho Springs Public Library 219 14th Avenue Idaho Springs CO 80452 United States;X-APPLE-RADIUS=500;X-TITLE=219 14th Avenue:geo:-105.5183552,39.742052
END:VEVENT
BEGIN:VEVENT
DTSTART;TZID=America/Denver:20190513T173000
DTEND;TZID=America/Denver:20190513T173000
DTSTAMP:20260422T213613
CREATED:20190424T214859Z
LAST-MODIFIED:20190424T214859Z
UID:10004743-1557768600-1557768600@cccld.org
SUMMARY:ISPL Adult Craft
DESCRIPTION:Do you love to craft? Or are you craft-curious? Get creative and connect with other crafty patrons at our monthly craft workshops! No experience is necessary and all workshops are free\, but registration is required for each session. Please email holly@cccld.org to sign up. \nMay Craft: Mendhi Tattoo Workshop
URL:https://cccld.org/event/ispl-adult-craft/
LOCATION:Idaho Springs Public Library\, 219 14th Avenue\, Idaho Springs\, CO\, 80452\, United States
CATEGORIES:Adults,Library Events
GEO:39.742052;-105.5183552
X-APPLE-STRUCTURED-LOCATION;VALUE=URI;X-ADDRESS=Idaho Springs Public Library 219 14th Avenue Idaho Springs CO 80452 United States;X-APPLE-RADIUS=500;X-TITLE=219 14th Avenue:geo:-105.5183552,39.742052
END:VEVENT
BEGIN:VEVENT
DTSTART;TZID=America/Denver:20190510T170000
DTEND;TZID=America/Denver:20190510T170000
DTSTAMP:20260422T213613
CREATED:20190424T214400Z
LAST-MODIFIED:20190424T214400Z
UID:10004741-1557507600-1557507600@cccld.org
SUMMARY:ISPL Movie Night - Spider-Man: Into the Spider-Verse
DESCRIPTION:Enjoy a free\, family-friendly movie on the big screen at your library! Satisfy your cravings with snacks and freshly-popped popcorn available for sale at our mini concessions stand.
URL:https://cccld.org/event/ispl-movie-night-spider-man-into-the-spider-verse/
LOCATION:Idaho Springs Public Library\, 219 14th Avenue\, Idaho Springs\, CO\, 80452\, United States
CATEGORIES:Library Events
GEO:39.742052;-105.5183552
X-APPLE-STRUCTURED-LOCATION;VALUE=URI;X-ADDRESS=Idaho Springs Public Library 219 14th Avenue Idaho Springs CO 80452 United States;X-APPLE-RADIUS=500;X-TITLE=219 14th Avenue:geo:-105.5183552,39.742052
END:VEVENT
BEGIN:VEVENT
DTSTART;TZID=America/Denver:20190508T153000
DTEND;TZID=America/Denver:20190508T170000
DTSTAMP:20260422T213613
CREATED:20190403T223520Z
LAST-MODIFIED:20190403T223520Z
UID:10004677-1557329400-1557334800@cccld.org
SUMMARY:After-School Homework Help
DESCRIPTION:Students of all ages can get help with their homework from 3:30 – 5 pm on Wednesdays at the Idaho Springs Public Library. Volunteer tutors will be available to help with homework\, reading\, or other school activities.
URL:https://cccld.org/event/after-school-homework-help-6/
LOCATION:Idaho Springs Public Library\, 219 14th Avenue\, Idaho Springs\, CO\, 80452\, United States
CATEGORIES:Kids,Library Events
GEO:39.742052;-105.5183552
X-APPLE-STRUCTURED-LOCATION;VALUE=URI;X-ADDRESS=Idaho Springs Public Library 219 14th Avenue Idaho Springs CO 80452 United States;X-APPLE-RADIUS=500;X-TITLE=219 14th Avenue:geo:-105.5183552,39.742052
END:VEVENT
BEGIN:VEVENT
DTSTART;TZID=America/Denver:20190507T111500
DTEND;TZID=America/Denver:20190507T111500
DTSTAMP:20260422T213613
CREATED:20190403T222322Z
LAST-MODIFIED:20190403T222322Z
UID:10004657-1557227700-1557227700@cccld.org
SUMMARY:ISPL Storytime
DESCRIPTION:Join us at the Idaho Springs Public Library for stories\, fun activities\, and snacks each week. Connect with other families and your library!
URL:https://cccld.org/event/ispl-storytime-5/
LOCATION:Idaho Springs Public Library\, 219 14th Avenue\, Idaho Springs\, CO\, 80452\, United States
CATEGORIES:Kids,Library Events
GEO:39.742052;-105.5183552
X-APPLE-STRUCTURED-LOCATION;VALUE=URI;X-ADDRESS=Idaho Springs Public Library 219 14th Avenue Idaho Springs CO 80452 United States;X-APPLE-RADIUS=500;X-TITLE=219 14th Avenue:geo:-105.5183552,39.742052
END:VEVENT
BEGIN:VEVENT
DTSTART;TZID=America/Denver:20190501T153000
DTEND;TZID=America/Denver:20190501T170000
DTSTAMP:20260422T213613
CREATED:20190403T223448Z
LAST-MODIFIED:20190403T223448Z
UID:10004676-1556724600-1556730000@cccld.org
SUMMARY:After-School Homework Help
DESCRIPTION:Students of all ages can get help with their homework from 3:30 – 5 pm on Wednesdays at the Idaho Springs Public Library. Volunteer tutors will be available to help with homework\, reading\, or other school activities.
URL:https://cccld.org/event/after-school-homework-help-5/
LOCATION:Idaho Springs Public Library\, 219 14th Avenue\, Idaho Springs\, CO\, 80452\, United States
CATEGORIES:Kids,Library Events
GEO:39.742052;-105.5183552
X-APPLE-STRUCTURED-LOCATION;VALUE=URI;X-ADDRESS=Idaho Springs Public Library 219 14th Avenue Idaho Springs CO 80452 United States;X-APPLE-RADIUS=500;X-TITLE=219 14th Avenue:geo:-105.5183552,39.742052
END:VEVENT
BEGIN:VEVENT
DTSTART;TZID=America/Denver:20190430T153000
DTEND;TZID=America/Denver:20190430T153000
DTSTAMP:20260422T213613
CREATED:20190129T191851Z
LAST-MODIFIED:20190401T161152Z
UID:10004421-1556638200-1556638200@cccld.org
SUMMARY:Día de los Niños
DESCRIPTION:Día is a nationally recognized initiative that emphasizes the importance of literacy for all children form all backgrounds. It is a daily commitment to linking children and their families to diverse books\, languages\, and cultures. Día is also known as El día de los niños or El día de los libros (Children’s Day or Book Day).
URL:https://cccld.org/event/dia-de-los-ninos/
LOCATION:Idaho Springs Public Library\, 219 14th Avenue\, Idaho Springs\, CO\, 80452\, United States
CATEGORIES:Kids,Library Events
GEO:39.742052;-105.5183552
X-APPLE-STRUCTURED-LOCATION;VALUE=URI;X-ADDRESS=Idaho Springs Public Library 219 14th Avenue Idaho Springs CO 80452 United States;X-APPLE-RADIUS=500;X-TITLE=219 14th Avenue:geo:-105.5183552,39.742052
END:VEVENT
END:VCALENDAR