BEGIN:VCALENDAR
VERSION:2.0
PRODID:-//Clear Creek County Library District - ECPv6.15.16//NONSGML v1.0//EN
CALSCALE:GREGORIAN
METHOD:PUBLISH
X-ORIGINAL-URL:https://cccld.org
X-WR-CALDESC:Events for Clear Creek County Library District
REFRESH-INTERVAL;VALUE=DURATION:PT1H
X-Robots-Tag:noindex
X-PUBLISHED-TTL:PT1H
BEGIN:VTIMEZONE
TZID:America/Denver
BEGIN:DAYLIGHT
TZOFFSETFROM:-0700
TZOFFSETTO:-0600
TZNAME:MDT
DTSTART:20180311T090000
END:DAYLIGHT
BEGIN:STANDARD
TZOFFSETFROM:-0600
TZOFFSETTO:-0700
TZNAME:MST
DTSTART:20181104T080000
END:STANDARD
BEGIN:DAYLIGHT
TZOFFSETFROM:-0700
TZOFFSETTO:-0600
TZNAME:MDT
DTSTART:20190310T090000
END:DAYLIGHT
BEGIN:STANDARD
TZOFFSETFROM:-0600
TZOFFSETTO:-0700
TZNAME:MST
DTSTART:20191103T080000
END:STANDARD
BEGIN:DAYLIGHT
TZOFFSETFROM:-0700
TZOFFSETTO:-0600
TZNAME:MDT
DTSTART:20200308T090000
END:DAYLIGHT
BEGIN:STANDARD
TZOFFSETFROM:-0600
TZOFFSETTO:-0700
TZNAME:MST
DTSTART:20201101T080000
END:STANDARD
END:VTIMEZONE
BEGIN:VEVENT
DTSTART;TZID=America/Denver:20190604T100000
DTEND;TZID=America/Denver:20190604T120000
DTSTAMP:20260423T011945
CREATED:20190516T180128Z
LAST-MODIFIED:20190516T190820Z
UID:10004753-1559642400-1559649600@cccld.org
SUMMARY:ISPL Summer Reading Week 1: Pippinhoot & Featherfayre Houses
DESCRIPTION:Pippinhoot House: early learning – 2nd grade \nFeatherfayre House: 3rd – 5th grade \nWeek One in Idaho Springs: Witches & Wands – Magic Wand Workshop
URL:https://cccld.org/event/ispl-summer-reading-pippinhoot-featherfayre-houses/
LOCATION:Idaho Springs Public Library\, 219 14th Avenue\, Idaho Springs\, CO\, 80452\, United States
CATEGORIES:Kids,Library Events,Summer Reading
GEO:39.742052;-105.5183552
X-APPLE-STRUCTURED-LOCATION;VALUE=URI;X-ADDRESS=Idaho Springs Public Library 219 14th Avenue Idaho Springs CO 80452 United States;X-APPLE-RADIUS=500;X-TITLE=219 14th Avenue:geo:-105.5183552,39.742052
END:VEVENT
BEGIN:VEVENT
DTSTART;TZID=America/Denver:20190520T130000
DTEND;TZID=America/Denver:20190520T143000
DTSTAMP:20260423T011945
CREATED:20190424T220639Z
LAST-MODIFIED:20190424T220639Z
UID:10004394-1558357200-1558362600@cccld.org
SUMMARY:ISPL Adult Book Group
DESCRIPTION:Connect with other readers in our community at monthly library book meetups. Share your ideas and discover new stories. New readers are always welcome! Please contact lucy@cccld.org for more information. \nMay Book Selection: The President’s Kitchen Cabinet by Adrian Miller
URL:https://cccld.org/event/ispl-adult-book-group-2/
LOCATION:Idaho Springs Public Library\, 219 14th Avenue\, Idaho Springs\, CO\, 80452\, United States
CATEGORIES:Adults,Library Events
GEO:39.742052;-105.5183552
X-APPLE-STRUCTURED-LOCATION;VALUE=URI;X-ADDRESS=Idaho Springs Public Library 219 14th Avenue Idaho Springs CO 80452 United States;X-APPLE-RADIUS=500;X-TITLE=219 14th Avenue:geo:-105.5183552,39.742052
END:VEVENT
BEGIN:VEVENT
DTSTART;TZID=America/Denver:20190515T153000
DTEND;TZID=America/Denver:20190515T170000
DTSTAMP:20260423T011945
CREATED:20190403T223600Z
LAST-MODIFIED:20190403T223600Z
UID:10004678-1557934200-1557939600@cccld.org
SUMMARY:After-School Homework Help
DESCRIPTION:Students of all ages can get help with their homework from 3:30 – 5 pm on Wednesdays at the Idaho Springs Public Library. Volunteer tutors will be available to help with homework\, reading\, or other school activities.
URL:https://cccld.org/event/after-school-homework-help-7/
LOCATION:Idaho Springs Public Library\, 219 14th Avenue\, Idaho Springs\, CO\, 80452\, United States
CATEGORIES:Kids,Library Events
GEO:39.742052;-105.5183552
X-APPLE-STRUCTURED-LOCATION;VALUE=URI;X-ADDRESS=Idaho Springs Public Library 219 14th Avenue Idaho Springs CO 80452 United States;X-APPLE-RADIUS=500;X-TITLE=219 14th Avenue:geo:-105.5183552,39.742052
END:VEVENT
BEGIN:VEVENT
DTSTART;TZID=America/Denver:20190514T111500
DTEND;TZID=America/Denver:20190514T111500
DTSTAMP:20260423T011945
CREATED:20190424T215125Z
LAST-MODIFIED:20190424T215125Z
UID:10004747-1557832500-1557832500@cccld.org
SUMMARY:ISPL Storytime
DESCRIPTION:Join us at the Idaho Springs Public Library for stories\, fun activities\, and snacks each week. Connect with other families and your library! \nThis will be the last storytime before summer.
URL:https://cccld.org/event/ispl-storytime-6/
LOCATION:Idaho Springs Public Library\, 219 14th Avenue\, Idaho Springs\, CO\, 80452\, United States
CATEGORIES:Library Events
GEO:39.742052;-105.5183552
X-APPLE-STRUCTURED-LOCATION;VALUE=URI;X-ADDRESS=Idaho Springs Public Library 219 14th Avenue Idaho Springs CO 80452 United States;X-APPLE-RADIUS=500;X-TITLE=219 14th Avenue:geo:-105.5183552,39.742052
END:VEVENT
BEGIN:VEVENT
DTSTART;TZID=America/Denver:20190513T173000
DTEND;TZID=America/Denver:20190513T173000
DTSTAMP:20260423T011945
CREATED:20190424T214859Z
LAST-MODIFIED:20190424T214859Z
UID:10004743-1557768600-1557768600@cccld.org
SUMMARY:ISPL Adult Craft
DESCRIPTION:Do you love to craft? Or are you craft-curious? Get creative and connect with other crafty patrons at our monthly craft workshops! No experience is necessary and all workshops are free\, but registration is required for each session. Please email holly@cccld.org to sign up. \nMay Craft: Mendhi Tattoo Workshop
URL:https://cccld.org/event/ispl-adult-craft/
LOCATION:Idaho Springs Public Library\, 219 14th Avenue\, Idaho Springs\, CO\, 80452\, United States
CATEGORIES:Adults,Library Events
GEO:39.742052;-105.5183552
X-APPLE-STRUCTURED-LOCATION;VALUE=URI;X-ADDRESS=Idaho Springs Public Library 219 14th Avenue Idaho Springs CO 80452 United States;X-APPLE-RADIUS=500;X-TITLE=219 14th Avenue:geo:-105.5183552,39.742052
END:VEVENT
BEGIN:VEVENT
DTSTART;TZID=America/Denver:20190510T170000
DTEND;TZID=America/Denver:20190510T170000
DTSTAMP:20260423T011945
CREATED:20190424T214400Z
LAST-MODIFIED:20190424T214400Z
UID:10004741-1557507600-1557507600@cccld.org
SUMMARY:ISPL Movie Night - Spider-Man: Into the Spider-Verse
DESCRIPTION:Enjoy a free\, family-friendly movie on the big screen at your library! Satisfy your cravings with snacks and freshly-popped popcorn available for sale at our mini concessions stand.
URL:https://cccld.org/event/ispl-movie-night-spider-man-into-the-spider-verse/
LOCATION:Idaho Springs Public Library\, 219 14th Avenue\, Idaho Springs\, CO\, 80452\, United States
CATEGORIES:Library Events
GEO:39.742052;-105.5183552
X-APPLE-STRUCTURED-LOCATION;VALUE=URI;X-ADDRESS=Idaho Springs Public Library 219 14th Avenue Idaho Springs CO 80452 United States;X-APPLE-RADIUS=500;X-TITLE=219 14th Avenue:geo:-105.5183552,39.742052
END:VEVENT
BEGIN:VEVENT
DTSTART;TZID=America/Denver:20190508T153000
DTEND;TZID=America/Denver:20190508T170000
DTSTAMP:20260423T011945
CREATED:20190403T223520Z
LAST-MODIFIED:20190403T223520Z
UID:10004677-1557329400-1557334800@cccld.org
SUMMARY:After-School Homework Help
DESCRIPTION:Students of all ages can get help with their homework from 3:30 – 5 pm on Wednesdays at the Idaho Springs Public Library. Volunteer tutors will be available to help with homework\, reading\, or other school activities.
URL:https://cccld.org/event/after-school-homework-help-6/
LOCATION:Idaho Springs Public Library\, 219 14th Avenue\, Idaho Springs\, CO\, 80452\, United States
CATEGORIES:Kids,Library Events
GEO:39.742052;-105.5183552
X-APPLE-STRUCTURED-LOCATION;VALUE=URI;X-ADDRESS=Idaho Springs Public Library 219 14th Avenue Idaho Springs CO 80452 United States;X-APPLE-RADIUS=500;X-TITLE=219 14th Avenue:geo:-105.5183552,39.742052
END:VEVENT
BEGIN:VEVENT
DTSTART;TZID=America/Denver:20190507T111500
DTEND;TZID=America/Denver:20190507T111500
DTSTAMP:20260423T011945
CREATED:20190403T222322Z
LAST-MODIFIED:20190403T222322Z
UID:10004657-1557227700-1557227700@cccld.org
SUMMARY:ISPL Storytime
DESCRIPTION:Join us at the Idaho Springs Public Library for stories\, fun activities\, and snacks each week. Connect with other families and your library!
URL:https://cccld.org/event/ispl-storytime-5/
LOCATION:Idaho Springs Public Library\, 219 14th Avenue\, Idaho Springs\, CO\, 80452\, United States
CATEGORIES:Kids,Library Events
GEO:39.742052;-105.5183552
X-APPLE-STRUCTURED-LOCATION;VALUE=URI;X-ADDRESS=Idaho Springs Public Library 219 14th Avenue Idaho Springs CO 80452 United States;X-APPLE-RADIUS=500;X-TITLE=219 14th Avenue:geo:-105.5183552,39.742052
END:VEVENT
BEGIN:VEVENT
DTSTART;TZID=America/Denver:20190501T153000
DTEND;TZID=America/Denver:20190501T170000
DTSTAMP:20260423T011945
CREATED:20190403T223448Z
LAST-MODIFIED:20190403T223448Z
UID:10004676-1556724600-1556730000@cccld.org
SUMMARY:After-School Homework Help
DESCRIPTION:Students of all ages can get help with their homework from 3:30 – 5 pm on Wednesdays at the Idaho Springs Public Library. Volunteer tutors will be available to help with homework\, reading\, or other school activities.
URL:https://cccld.org/event/after-school-homework-help-5/
LOCATION:Idaho Springs Public Library\, 219 14th Avenue\, Idaho Springs\, CO\, 80452\, United States
CATEGORIES:Kids,Library Events
GEO:39.742052;-105.5183552
X-APPLE-STRUCTURED-LOCATION;VALUE=URI;X-ADDRESS=Idaho Springs Public Library 219 14th Avenue Idaho Springs CO 80452 United States;X-APPLE-RADIUS=500;X-TITLE=219 14th Avenue:geo:-105.5183552,39.742052
END:VEVENT
BEGIN:VEVENT
DTSTART;TZID=America/Denver:20190430T153000
DTEND;TZID=America/Denver:20190430T153000
DTSTAMP:20260423T011945
CREATED:20190129T191851Z
LAST-MODIFIED:20190401T161152Z
UID:10004421-1556638200-1556638200@cccld.org
SUMMARY:Día de los Niños
DESCRIPTION:Día is a nationally recognized initiative that emphasizes the importance of literacy for all children form all backgrounds. It is a daily commitment to linking children and their families to diverse books\, languages\, and cultures. Día is also known as El día de los niños or El día de los libros (Children’s Day or Book Day).
URL:https://cccld.org/event/dia-de-los-ninos/
LOCATION:Idaho Springs Public Library\, 219 14th Avenue\, Idaho Springs\, CO\, 80452\, United States
CATEGORIES:Kids,Library Events
GEO:39.742052;-105.5183552
X-APPLE-STRUCTURED-LOCATION;VALUE=URI;X-ADDRESS=Idaho Springs Public Library 219 14th Avenue Idaho Springs CO 80452 United States;X-APPLE-RADIUS=500;X-TITLE=219 14th Avenue:geo:-105.5183552,39.742052
END:VEVENT
BEGIN:VEVENT
DTSTART;TZID=America/Denver:20190430T130000
DTEND;TZID=America/Denver:20190430T130000
DTSTAMP:20260423T011945
CREATED:20190403T230004Z
LAST-MODIFIED:20190403T230004Z
UID:10004362-1556629200-1556629200@cccld.org
SUMMARY:ISPL Tech Time: Computer Basics
DESCRIPTION:Learn how to write a letter\, search the internet\, check the news\, find stock tips\, set up email\, and more.
URL:https://cccld.org/event/ispl-tech-time-computer-basics-5/
LOCATION:Idaho Springs Public Library\, 219 14th Avenue\, Idaho Springs\, CO\, 80452\, United States
CATEGORIES:Library Events
GEO:39.742052;-105.5183552
X-APPLE-STRUCTURED-LOCATION;VALUE=URI;X-ADDRESS=Idaho Springs Public Library 219 14th Avenue Idaho Springs CO 80452 United States;X-APPLE-RADIUS=500;X-TITLE=219 14th Avenue:geo:-105.5183552,39.742052
END:VEVENT
BEGIN:VEVENT
DTSTART;TZID=America/Denver:20190430T111500
DTEND;TZID=America/Denver:20190430T111500
DTSTAMP:20260423T011945
CREATED:20190403T222227Z
LAST-MODIFIED:20190403T222227Z
UID:10004656-1556622900-1556622900@cccld.org
SUMMARY:ISPL Storytime
DESCRIPTION:Join us at the Idaho Springs Public Library for stories\, fun activities\, and snacks each week. Connect with other families and your library!
URL:https://cccld.org/event/ispl-storytime-4/
LOCATION:Idaho Springs Public Library\, 219 14th Avenue\, Idaho Springs\, CO\, 80452\, United States
CATEGORIES:Kids,Library Events
GEO:39.742052;-105.5183552
X-APPLE-STRUCTURED-LOCATION;VALUE=URI;X-ADDRESS=Idaho Springs Public Library 219 14th Avenue Idaho Springs CO 80452 United States;X-APPLE-RADIUS=500;X-TITLE=219 14th Avenue:geo:-105.5183552,39.742052
END:VEVENT
BEGIN:VEVENT
DTSTART;TZID=America/Denver:20190429T153000
DTEND;TZID=America/Denver:20190429T153000
DTSTAMP:20260423T011945
CREATED:20190403T225919Z
LAST-MODIFIED:20190403T225919Z
UID:10004696-1556551800-1556551800@cccld.org
SUMMARY:ISPL League of the Beastly Dreadfuls Book Club
DESCRIPTION:Join the League of Beastly Dreadfuls Book Club at the Idaho Springs Public Library! There are snacks\, crafts\, and games each week.
URL:https://cccld.org/event/ispl-league-of-the-beastly-dreadfuls-book-club-4/
LOCATION:Idaho Springs Public Library\, 219 14th Avenue\, Idaho Springs\, CO\, 80452\, United States
CATEGORIES:Kids,Library Events
GEO:39.742052;-105.5183552
X-APPLE-STRUCTURED-LOCATION;VALUE=URI;X-ADDRESS=Idaho Springs Public Library 219 14th Avenue Idaho Springs CO 80452 United States;X-APPLE-RADIUS=500;X-TITLE=219 14th Avenue:geo:-105.5183552,39.742052
END:VEVENT
BEGIN:VEVENT
DTSTART;TZID=America/Denver:20190424T153000
DTEND;TZID=America/Denver:20190424T170000
DTSTAMP:20260423T011945
CREATED:20190403T223411Z
LAST-MODIFIED:20190403T223411Z
UID:10004675-1556119800-1556125200@cccld.org
SUMMARY:After-School Homework Help
DESCRIPTION:Students of all ages can get help with their homework from 3:30 – 5 pm on Wednesdays at the Idaho Springs Public Library. Volunteer tutors will be available to help with homework\, reading\, or other school activities.
URL:https://cccld.org/event/after-school-homework-help-4/
LOCATION:Idaho Springs Public Library\, 219 14th Avenue\, Idaho Springs\, CO\, 80452\, United States
CATEGORIES:Kids,Library Events
GEO:39.742052;-105.5183552
X-APPLE-STRUCTURED-LOCATION;VALUE=URI;X-ADDRESS=Idaho Springs Public Library 219 14th Avenue Idaho Springs CO 80452 United States;X-APPLE-RADIUS=500;X-TITLE=219 14th Avenue:geo:-105.5183552,39.742052
END:VEVENT
BEGIN:VEVENT
DTSTART;TZID=America/Denver:20190423T130000
DTEND;TZID=America/Denver:20190423T130000
DTSTAMP:20260423T011945
CREATED:20190403T225645Z
LAST-MODIFIED:20190403T225645Z
UID:10004690-1556024400-1556024400@cccld.org
SUMMARY:ISPL Tech Time: Computer Basics
DESCRIPTION:Learn how to write a letter\, search the internet\, check the news\, find stock tips\, set up email\, and more.
URL:https://cccld.org/event/ispl-tech-time-computer-basics-4/
LOCATION:Idaho Springs Public Library\, 219 14th Avenue\, Idaho Springs\, CO\, 80452\, United States
CATEGORIES:Library Events
GEO:39.742052;-105.5183552
X-APPLE-STRUCTURED-LOCATION;VALUE=URI;X-ADDRESS=Idaho Springs Public Library 219 14th Avenue Idaho Springs CO 80452 United States;X-APPLE-RADIUS=500;X-TITLE=219 14th Avenue:geo:-105.5183552,39.742052
END:VEVENT
BEGIN:VEVENT
DTSTART;TZID=America/Denver:20190423T111500
DTEND;TZID=America/Denver:20190423T111500
DTSTAMP:20260423T011945
CREATED:20190403T222035Z
LAST-MODIFIED:20190403T222035Z
UID:10004655-1556018100-1556018100@cccld.org
SUMMARY:ISPL Storytime
DESCRIPTION:Join us at the Idaho Springs Public Library for stories\, fun activities\, and snacks each week. Connect with other families and your library!
URL:https://cccld.org/event/ispl-storytime-3/
LOCATION:Idaho Springs Public Library\, 219 14th Avenue\, Idaho Springs\, CO\, 80452\, United States
CATEGORIES:Kids,Library Events
GEO:39.742052;-105.5183552
X-APPLE-STRUCTURED-LOCATION;VALUE=URI;X-ADDRESS=Idaho Springs Public Library 219 14th Avenue Idaho Springs CO 80452 United States;X-APPLE-RADIUS=500;X-TITLE=219 14th Avenue:geo:-105.5183552,39.742052
END:VEVENT
BEGIN:VEVENT
DTSTART;TZID=America/Denver:20190422T153000
DTEND;TZID=America/Denver:20190422T153000
DTSTAMP:20260423T011945
CREATED:20190403T225600Z
LAST-MODIFIED:20190403T225600Z
UID:10004688-1555947000-1555947000@cccld.org
SUMMARY:ISPL League of the Beastly Dreadfuls Book Club
DESCRIPTION:Join the League of Beastly Dreadfuls Book Club at the Idaho Springs Public Library! There are snacks\, crafts\, and games each week.
URL:https://cccld.org/event/ispl-league-of-the-beastly-dreadfuls-book-club-3/
LOCATION:Idaho Springs Public Library\, 219 14th Avenue\, Idaho Springs\, CO\, 80452\, United States
CATEGORIES:Kids,Library Events
GEO:39.742052;-105.5183552
X-APPLE-STRUCTURED-LOCATION;VALUE=URI;X-ADDRESS=Idaho Springs Public Library 219 14th Avenue Idaho Springs CO 80452 United States;X-APPLE-RADIUS=500;X-TITLE=219 14th Avenue:geo:-105.5183552,39.742052
END:VEVENT
BEGIN:VEVENT
DTSTART;TZID=America/Denver:20190418T120000
DTEND;TZID=America/Denver:20190418T120000
DTSTAMP:20260423T011945
CREATED:20190329T161235Z
LAST-MODIFIED:20190329T161235Z
UID:10004323-1555588800-1555588800@cccld.org
SUMMARY:Outsmart the Scammers: Financial Workshop
DESCRIPTION:Incidents of fraud are on the rise\, and scammers’ tactics are becoming more complex. That’s why it’s important to educate yourself about fraud. And while no one is immune\, there are steps you can take to Outsmart the Scammers. \nJoin us for this presentation and learn important strategies to help protect you and the ones you love. We’ll share: \n\nHow to spot certain red flags that may indicate a fraudulent encounter\nResources you can turn to in the event you or a loved one is targeted\nSteps you can take now to help protect yourself and your loved ones\n\nPresented by Jenny Donohoe\, AAMS\, Financial Advisor at Edward Jones
URL:https://cccld.org/event/outsmart-the-scammers-financial-workshop/
LOCATION:Idaho Springs Public Library\, 219 14th Avenue\, Idaho Springs\, CO\, 80452\, United States
CATEGORIES:Adults,Library Events
GEO:39.742052;-105.5183552
X-APPLE-STRUCTURED-LOCATION;VALUE=URI;X-ADDRESS=Idaho Springs Public Library 219 14th Avenue Idaho Springs CO 80452 United States;X-APPLE-RADIUS=500;X-TITLE=219 14th Avenue:geo:-105.5183552,39.742052
END:VEVENT
BEGIN:VEVENT
DTSTART;TZID=America/Denver:20190417T153000
DTEND;TZID=America/Denver:20190417T170000
DTSTAMP:20260423T011945
CREATED:20190403T223336Z
LAST-MODIFIED:20190403T223336Z
UID:10004674-1555515000-1555520400@cccld.org
SUMMARY:After-School Homework Help
DESCRIPTION:Students of all ages can get help with their homework from 3:30 – 5 pm on Wednesdays at the Idaho Springs Public Library. Volunteer tutors will be available to help with homework\, reading\, or other school activities.
URL:https://cccld.org/event/after-school-homework-help-3/
LOCATION:Idaho Springs Public Library\, 219 14th Avenue\, Idaho Springs\, CO\, 80452\, United States
CATEGORIES:Kids,Library Events
GEO:39.742052;-105.5183552
X-APPLE-STRUCTURED-LOCATION;VALUE=URI;X-ADDRESS=Idaho Springs Public Library 219 14th Avenue Idaho Springs CO 80452 United States;X-APPLE-RADIUS=500;X-TITLE=219 14th Avenue:geo:-105.5183552,39.742052
END:VEVENT
BEGIN:VEVENT
DTSTART;TZID=America/Denver:20190416T180000
DTEND;TZID=America/Denver:20190416T180000
DTSTAMP:20260423T011945
CREATED:20190328T204714Z
LAST-MODIFIED:20190403T205947Z
UID:10004624-1555437600-1555437600@cccld.org
SUMMARY:District Board Meeting
DESCRIPTION:
URL:https://cccld.org/event/district-board-meeting/
LOCATION:Idaho Springs Public Library\, 219 14th Avenue\, Idaho Springs\, CO\, 80452\, United States
CATEGORIES:Library Events
GEO:39.742052;-105.5183552
X-APPLE-STRUCTURED-LOCATION;VALUE=URI;X-ADDRESS=Idaho Springs Public Library 219 14th Avenue Idaho Springs CO 80452 United States;X-APPLE-RADIUS=500;X-TITLE=219 14th Avenue:geo:-105.5183552,39.742052
END:VEVENT
BEGIN:VEVENT
DTSTART;TZID=America/Denver:20190416T130000
DTEND;TZID=America/Denver:20190416T130000
DTSTAMP:20260423T011945
CREATED:20190403T225312Z
LAST-MODIFIED:20190403T225312Z
UID:10004682-1555419600-1555419600@cccld.org
SUMMARY:ISPL Tech Time: Computer Basics
DESCRIPTION:Learn how to write a letter\, search the internet\, check the news\, find stock tips\, set up email\, and more.
URL:https://cccld.org/event/ispl-tech-time-computer-basics-3/
LOCATION:Idaho Springs Public Library\, 219 14th Avenue\, Idaho Springs\, CO\, 80452\, United States
CATEGORIES:Library Events
GEO:39.742052;-105.5183552
X-APPLE-STRUCTURED-LOCATION;VALUE=URI;X-ADDRESS=Idaho Springs Public Library 219 14th Avenue Idaho Springs CO 80452 United States;X-APPLE-RADIUS=500;X-TITLE=219 14th Avenue:geo:-105.5183552,39.742052
END:VEVENT
BEGIN:VEVENT
DTSTART;TZID=America/Denver:20190416T111500
DTEND;TZID=America/Denver:20190416T111500
DTSTAMP:20260423T011945
CREATED:20190403T221341Z
LAST-MODIFIED:20190403T221341Z
UID:10004654-1555413300-1555413300@cccld.org
SUMMARY:ISPL Storytime
DESCRIPTION:Join us at the Idaho Springs Public Library for stories\, fun activities\, and snacks each week. Connect with other families and your library!
URL:https://cccld.org/event/ispl-storytime-2/
LOCATION:Idaho Springs Public Library\, 219 14th Avenue\, Idaho Springs\, CO\, 80452\, United States
CATEGORIES:Kids,Library Events
GEO:39.742052;-105.5183552
X-APPLE-STRUCTURED-LOCATION;VALUE=URI;X-ADDRESS=Idaho Springs Public Library 219 14th Avenue Idaho Springs CO 80452 United States;X-APPLE-RADIUS=500;X-TITLE=219 14th Avenue:geo:-105.5183552,39.742052
END:VEVENT
BEGIN:VEVENT
DTSTART;TZID=America/Denver:20190415T100000
DTEND;TZID=America/Denver:20190415T100000
DTSTAMP:20260423T011945
CREATED:20190129T190803Z
LAST-MODIFIED:20190411T163327Z
UID:10004410-1555322400-1555322400@cccld.org
SUMMARY:ISPL Adult Book Connection
DESCRIPTION:Connect with other readers in our community at monthly library book meetups. Share your ideas and discover new stories. New readers are always welcome! Please contact lucy@cccld.org for more information. \nIn April\, come and discuss a book you’ve read recently during our new morning meeting time. Come enjoy coffee\, treats\, and each other’s company! We will also discuss book selections for the rest of 2019.
URL:https://cccld.org/event/adult-book-group-3/
LOCATION:Idaho Springs Public Library\, 219 14th Avenue\, Idaho Springs\, CO\, 80452\, United States
CATEGORIES:Adults,Library Events
GEO:39.742052;-105.5183552
X-APPLE-STRUCTURED-LOCATION;VALUE=URI;X-ADDRESS=Idaho Springs Public Library 219 14th Avenue Idaho Springs CO 80452 United States;X-APPLE-RADIUS=500;X-TITLE=219 14th Avenue:geo:-105.5183552,39.742052
END:VEVENT
BEGIN:VEVENT
DTSTART;TZID=America/Denver:20190412T170000
DTEND;TZID=America/Denver:20190412T190000
DTSTAMP:20260423T011945
CREATED:20190129T190348Z
LAST-MODIFIED:20190321T181514Z
UID:10004397-1555088400-1555095600@cccld.org
SUMMARY:ISPL Movie Night: Mary Poppins Returns
DESCRIPTION:Enjoy a free\, family-friendly movie on the big screen at your library! Satisfy your cravings with snacks and freshly-popped popcorn available for sale at our mini concessions stand. \nApril’s movie pick: Mary Poppins Returns \n \n 
URL:https://cccld.org/event/movie-night-peter-rabbit-2/
LOCATION:Idaho Springs Public Library\, 219 14th Avenue\, Idaho Springs\, CO\, 80452\, United States
CATEGORIES:Library Events
GEO:39.742052;-105.5183552
X-APPLE-STRUCTURED-LOCATION;VALUE=URI;X-ADDRESS=Idaho Springs Public Library 219 14th Avenue Idaho Springs CO 80452 United States;X-APPLE-RADIUS=500;X-TITLE=219 14th Avenue:geo:-105.5183552,39.742052
END:VEVENT
BEGIN:VEVENT
DTSTART;TZID=America/Denver:20190410T153000
DTEND;TZID=America/Denver:20190410T170000
DTSTAMP:20260423T011945
CREATED:20190403T223303Z
LAST-MODIFIED:20190403T223303Z
UID:10004673-1554910200-1554915600@cccld.org
SUMMARY:After-School Homework Help
DESCRIPTION:Students of all ages can get help with their homework from 3:30 – 5 pm on Wednesdays at the Idaho Springs Public Library. Volunteer tutors will be available to help with homework\, reading\, or other school activities.
URL:https://cccld.org/event/after-school-homework-help-2/
LOCATION:Idaho Springs Public Library\, 219 14th Avenue\, Idaho Springs\, CO\, 80452\, United States
CATEGORIES:Kids,Library Events
GEO:39.742052;-105.5183552
X-APPLE-STRUCTURED-LOCATION;VALUE=URI;X-ADDRESS=Idaho Springs Public Library 219 14th Avenue Idaho Springs CO 80452 United States;X-APPLE-RADIUS=500;X-TITLE=219 14th Avenue:geo:-105.5183552,39.742052
END:VEVENT
BEGIN:VEVENT
DTSTART;TZID=America/Denver:20190409T130000
DTEND;TZID=America/Denver:20190409T141500
DTSTAMP:20260423T011945
CREATED:20190403T224149Z
LAST-MODIFIED:20190403T224149Z
UID:10004679-1554814800-1554819300@cccld.org
SUMMARY:ISPL Tech Time: Computer Basics
DESCRIPTION:Learn how to write a letter\, search the internet\, check the news\, find stock tips\, set up email\, and more.
URL:https://cccld.org/event/ispl-tech-time-computer-basics-2/
LOCATION:Idaho Springs Public Library\, 219 14th Avenue\, Idaho Springs\, CO\, 80452\, United States
CATEGORIES:Library Events
GEO:39.742052;-105.5183552
X-APPLE-STRUCTURED-LOCATION;VALUE=URI;X-ADDRESS=Idaho Springs Public Library 219 14th Avenue Idaho Springs CO 80452 United States;X-APPLE-RADIUS=500;X-TITLE=219 14th Avenue:geo:-105.5183552,39.742052
END:VEVENT
BEGIN:VEVENT
DTSTART;TZID=America/Denver:20190409T111500
DTEND;TZID=America/Denver:20190409T111500
DTSTAMP:20260423T011945
CREATED:20190403T221257Z
LAST-MODIFIED:20190403T221257Z
UID:10004653-1554808500-1554808500@cccld.org
SUMMARY:ISPL Storytime
DESCRIPTION:Join us at the Idaho Springs Public Library for stories\, fun activities\, and snacks each week. Connect with other families and your library!
URL:https://cccld.org/event/ispl-storytime/
LOCATION:Idaho Springs Public Library\, 219 14th Avenue\, Idaho Springs\, CO\, 80452\, United States
CATEGORIES:Kids,Library Events
GEO:39.742052;-105.5183552
X-APPLE-STRUCTURED-LOCATION;VALUE=URI;X-ADDRESS=Idaho Springs Public Library 219 14th Avenue Idaho Springs CO 80452 United States;X-APPLE-RADIUS=500;X-TITLE=219 14th Avenue:geo:-105.5183552,39.742052
END:VEVENT
BEGIN:VEVENT
DTSTART;TZID=America/Denver:20190408T173000
DTEND;TZID=America/Denver:20190408T173000
DTSTAMP:20260423T011945
CREATED:20190129T190615Z
LAST-MODIFIED:20190329T155943Z
UID:10004404-1554744600-1554744600@cccld.org
SUMMARY:Adult Craft
DESCRIPTION:Do you love to craft? Or are you craft-curious? Get creative and connect with other crafty patrons at our monthly craft workshops! No experience is necessary and all workshops are free\, but registration is required for each session. Please email holly@cccld.org to sign up. \nApril craft: Beaded Necklaces
URL:https://cccld.org/event/adult-craft-3/
LOCATION:Idaho Springs Public Library\, 219 14th Avenue\, Idaho Springs\, CO\, 80452\, United States
CATEGORIES:Adults,Library Events
GEO:39.742052;-105.5183552
X-APPLE-STRUCTURED-LOCATION;VALUE=URI;X-ADDRESS=Idaho Springs Public Library 219 14th Avenue Idaho Springs CO 80452 United States;X-APPLE-RADIUS=500;X-TITLE=219 14th Avenue:geo:-105.5183552,39.742052
END:VEVENT
BEGIN:VEVENT
DTSTART;TZID=America/Denver:20190408T153000
DTEND;TZID=America/Denver:20190408T153000
DTSTAMP:20260423T011945
CREATED:20190402T225814Z
LAST-MODIFIED:20190402T230027Z
UID:10004336-1554737400-1554737400@cccld.org
SUMMARY:ISPL League of the Beastly Dreadfuls Book Club
DESCRIPTION:Join the League of Beastly Dreadfuls Book Club at the Idaho Springs Public Library! There are snacks\, crafts\, and games each week.
URL:https://cccld.org/event/ispl-league-of-the-beastly-dreadfuls-book-club/
LOCATION:Idaho Springs Public Library\, 219 14th Avenue\, Idaho Springs\, CO\, 80452\, United States
CATEGORIES:Kids,Library Events
GEO:39.742052;-105.5183552
X-APPLE-STRUCTURED-LOCATION;VALUE=URI;X-ADDRESS=Idaho Springs Public Library 219 14th Avenue Idaho Springs CO 80452 United States;X-APPLE-RADIUS=500;X-TITLE=219 14th Avenue:geo:-105.5183552,39.742052
END:VEVENT
BEGIN:VEVENT
DTSTART;TZID=America/Denver:20190408T120000
DTEND;TZID=America/Denver:20190408T120000
DTSTAMP:20260423T011945
CREATED:20190403T213826Z
LAST-MODIFIED:20190403T214036Z
UID:10004348-1554724800-1554724800@cccld.org
SUMMARY:Idaho Springs Library Association and Building Advisory Committee Meeting
DESCRIPTION:Quarterly meeting of the Idaho Springs Library Association and the Idaho Springs Building Advisory Committee.
URL:https://cccld.org/event/idaho-springs-library-association-and-building-advisory-committee-meeting/
LOCATION:Idaho Springs Public Library\, 219 14th Avenue\, Idaho Springs\, CO\, 80452\, United States
CATEGORIES:Library Events
GEO:39.742052;-105.5183552
X-APPLE-STRUCTURED-LOCATION;VALUE=URI;X-ADDRESS=Idaho Springs Public Library 219 14th Avenue Idaho Springs CO 80452 United States;X-APPLE-RADIUS=500;X-TITLE=219 14th Avenue:geo:-105.5183552,39.742052
END:VEVENT
END:VCALENDAR