BEGIN:VCALENDAR
VERSION:2.0
PRODID:-//Clear Creek County Library District - ECPv6.15.16//NONSGML v1.0//EN
CALSCALE:GREGORIAN
METHOD:PUBLISH
X-WR-CALNAME:Clear Creek County Library District
X-ORIGINAL-URL:https://cccld.org
X-WR-CALDESC:Events for Clear Creek County Library District
REFRESH-INTERVAL;VALUE=DURATION:PT1H
X-Robots-Tag:noindex
X-PUBLISHED-TTL:PT1H
BEGIN:VTIMEZONE
TZID:America/Denver
BEGIN:DAYLIGHT
TZOFFSETFROM:-0700
TZOFFSETTO:-0600
TZNAME:MDT
DTSTART:20230312T090000
END:DAYLIGHT
BEGIN:STANDARD
TZOFFSETFROM:-0600
TZOFFSETTO:-0700
TZNAME:MST
DTSTART:20231105T080000
END:STANDARD
BEGIN:DAYLIGHT
TZOFFSETFROM:-0700
TZOFFSETTO:-0600
TZNAME:MDT
DTSTART:20240310T090000
END:DAYLIGHT
BEGIN:STANDARD
TZOFFSETFROM:-0600
TZOFFSETTO:-0700
TZNAME:MST
DTSTART:20241103T080000
END:STANDARD
BEGIN:DAYLIGHT
TZOFFSETFROM:-0700
TZOFFSETTO:-0600
TZNAME:MDT
DTSTART:20250309T090000
END:DAYLIGHT
BEGIN:STANDARD
TZOFFSETFROM:-0600
TZOFFSETTO:-0700
TZNAME:MST
DTSTART:20251102T080000
END:STANDARD
END:VTIMEZONE
BEGIN:VEVENT
DTSTART;TZID=America/Denver:20240909T160000
DTEND;TZID=America/Denver:20240909T170000
DTSTAMP:20260420T084315
CREATED:20240610T171053Z
LAST-MODIFIED:20260116T185121Z
UID:10006468-1725897600-1725901200@cccld.org
SUMMARY:ISPL Book Group
DESCRIPTION:Everyone is welcome. Email libby@cccld.org for more information.
URL:https://cccld.org/event/ispl-book-group-16-2/2024-09-09/
LOCATION:Idaho Springs Public Library\, 219 14th Avenue\, Idaho Springs\, CO\, 80452\, United States
CATEGORIES:Adults,Library Events
GEO:39.742052;-105.5183552
X-APPLE-STRUCTURED-LOCATION;VALUE=URI;X-ADDRESS=Idaho Springs Public Library 219 14th Avenue Idaho Springs CO 80452 United States;X-APPLE-RADIUS=500;X-TITLE=219 14th Avenue:geo:-105.5183552,39.742052
END:VEVENT
BEGIN:VEVENT
DTSTART;TZID=America/Denver:20240812T160000
DTEND;TZID=America/Denver:20240812T170000
DTSTAMP:20260420T084315
CREATED:20240610T171053Z
LAST-MODIFIED:20260116T185121Z
UID:10006467-1723478400-1723482000@cccld.org
SUMMARY:ISPL Book Group
DESCRIPTION:Everyone is welcome. Email libby@cccld.org for more information.
URL:https://cccld.org/event/ispl-book-group-16-2/2024-08-12/
LOCATION:Idaho Springs Public Library\, 219 14th Avenue\, Idaho Springs\, CO\, 80452\, United States
CATEGORIES:Adults,Library Events
GEO:39.742052;-105.5183552
X-APPLE-STRUCTURED-LOCATION;VALUE=URI;X-ADDRESS=Idaho Springs Public Library 219 14th Avenue Idaho Springs CO 80452 United States;X-APPLE-RADIUS=500;X-TITLE=219 14th Avenue:geo:-105.5183552,39.742052
END:VEVENT
BEGIN:VEVENT
DTSTART;TZID=America/Denver:20240730T130000
DTEND;TZID=America/Denver:20240730T150000
DTSTAMP:20260420T084315
CREATED:20240617T205854Z
LAST-MODIFIED:20240719T204115Z
UID:10006500-1722344400-1722351600@cccld.org
SUMMARY:ISPL-Read with Mowgli
DESCRIPTION:Mowgli–handsome therapy dog–loves stories! Will you read to him at the Idaho Springs Public Library? Reading to animals is a great way for young learners to develop their reading skills! Please email holly@cccld.org to sign up to read to Mowgli!
URL:https://cccld.org/event/ispl-read-with-mowgli/2024-07-30/
LOCATION:Idaho Springs Public Library\, 219 14th Avenue\, Idaho Springs\, CO\, 80452\, United States
CATEGORIES:Kids,Library Events,Teens
GEO:39.742052;-105.5183552
X-APPLE-STRUCTURED-LOCATION;VALUE=URI;X-ADDRESS=Idaho Springs Public Library 219 14th Avenue Idaho Springs CO 80452 United States;X-APPLE-RADIUS=500;X-TITLE=219 14th Avenue:geo:-105.5183552,39.742052
END:VEVENT
BEGIN:VEVENT
DTSTART;TZID=America/Denver:20240708T160000
DTEND;TZID=America/Denver:20240708T170000
DTSTAMP:20260420T084315
CREATED:20240610T171053Z
LAST-MODIFIED:20260116T185121Z
UID:10006466-1720454400-1720458000@cccld.org
SUMMARY:ISPL Book Group
DESCRIPTION:Everyone is welcome. Email libby@cccld.org for more information.
URL:https://cccld.org/event/ispl-book-group-16-2/2024-07-08/
LOCATION:Idaho Springs Public Library\, 219 14th Avenue\, Idaho Springs\, CO\, 80452\, United States
CATEGORIES:Adults,Library Events
GEO:39.742052;-105.5183552
X-APPLE-STRUCTURED-LOCATION;VALUE=URI;X-ADDRESS=Idaho Springs Public Library 219 14th Avenue Idaho Springs CO 80452 United States;X-APPLE-RADIUS=500;X-TITLE=219 14th Avenue:geo:-105.5183552,39.742052
END:VEVENT
BEGIN:VEVENT
DTSTART;TZID=America/Denver:20240702T130000
DTEND;TZID=America/Denver:20240702T150000
DTSTAMP:20260420T084315
CREATED:20240617T205854Z
LAST-MODIFIED:20240719T204115Z
UID:10006492-1719925200-1719932400@cccld.org
SUMMARY:ISPL-Read with Mowgli
DESCRIPTION:Mowgli–handsome therapy dog–loves stories! Will you read to him at the Idaho Springs Public Library? Reading to animals is a great way for young learners to develop their reading skills! Please email holly@cccld.org to sign up to read to Mowgli!
URL:https://cccld.org/event/ispl-read-with-mowgli/2024-07-02/
LOCATION:Idaho Springs Public Library\, 219 14th Avenue\, Idaho Springs\, CO\, 80452\, United States
CATEGORIES:Kids,Library Events,Teens
GEO:39.742052;-105.5183552
X-APPLE-STRUCTURED-LOCATION;VALUE=URI;X-ADDRESS=Idaho Springs Public Library 219 14th Avenue Idaho Springs CO 80452 United States;X-APPLE-RADIUS=500;X-TITLE=219 14th Avenue:geo:-105.5183552,39.742052
END:VEVENT
BEGIN:VEVENT
DTSTART;TZID=America/Denver:20240628T170000
DTEND;TZID=America/Denver:20240628T200000
DTSTAMP:20260420T084315
CREATED:20240617T210911Z
LAST-MODIFIED:20240617T211130Z
UID:10006494-1719594000-1719604800@cccld.org
SUMMARY:ISPL-Mystery on the Tracks
DESCRIPTION:FREE FUN! All aboard for…Mystery on the Tracks–a mysterious game for Detectives aged 11-18 @ Idaho Springs Public Library. Test your sleuthing skills! Enjoy pizza and snacks. To sign up\, please email holly@cccld.org
URL:https://cccld.org/event/ispl-mystery-on-the-tracks/
LOCATION:Idaho Springs Public Library\, 219 14th Avenue\, Idaho Springs\, CO\, 80452\, United States
CATEGORIES:Library Events,Teens
GEO:39.742052;-105.5183552
X-APPLE-STRUCTURED-LOCATION;VALUE=URI;X-ADDRESS=Idaho Springs Public Library 219 14th Avenue Idaho Springs CO 80452 United States;X-APPLE-RADIUS=500;X-TITLE=219 14th Avenue:geo:-105.5183552,39.742052
END:VEVENT
BEGIN:VEVENT
DTSTART;TZID=America/Denver:20240626T180000
DTEND;TZID=America/Denver:20240626T193000
DTSTAMP:20260420T084315
CREATED:20240325T153645Z
LAST-MODIFIED:20240425T201602Z
UID:10006437-1719424800-1719430200@cccld.org
SUMMARY:Quill & Spill
DESCRIPTION:Connect with other local writers at our monthly Quill & Spill sessions\, hosted by author Lisa Manifold. Please email lisa@cccld.org to register.
URL:https://cccld.org/event/quill-spill/2024-06-26/
LOCATION:Idaho Springs Public Library\, 219 14th Avenue\, Idaho Springs\, CO\, 80452\, United States
CATEGORIES:Adults,Library Events
GEO:39.742052;-105.5183552
X-APPLE-STRUCTURED-LOCATION;VALUE=URI;X-ADDRESS=Idaho Springs Public Library 219 14th Avenue Idaho Springs CO 80452 United States;X-APPLE-RADIUS=500;X-TITLE=219 14th Avenue:geo:-105.5183552,39.742052
END:VEVENT
BEGIN:VEVENT
DTSTART;TZID=America/Denver:20240625T100000
DTEND;TZID=America/Denver:20240625T130000
DTSTAMP:20260420T084315
CREATED:20240610T165221Z
LAST-MODIFIED:20240610T165221Z
UID:10006461-1719309600-1719320400@cccld.org
SUMMARY:ISPL-Summer Reading
DESCRIPTION:Review complete reading groups & times at cccld.org/summer-reading-2024/\nJoin us on a summertime expedition into the wide world of stories\, crafts\, challenges\, and excursions. Connect with other Clear Creek learners\, and read your way to wonderful prizes! Like all Library District programs\, Summer Reading is 100% free.
URL:https://cccld.org/event/ispl-summer-reading-3/2024-06-25/
LOCATION:Idaho Springs Public Library\, 219 14th Avenue\, Idaho Springs\, CO\, 80452\, United States
CATEGORIES:Kids,Library Events,Summer Reading,Teens
GEO:39.742052;-105.5183552
X-APPLE-STRUCTURED-LOCATION;VALUE=URI;X-ADDRESS=Idaho Springs Public Library 219 14th Avenue Idaho Springs CO 80452 United States;X-APPLE-RADIUS=500;X-TITLE=219 14th Avenue:geo:-105.5183552,39.742052
END:VEVENT
BEGIN:VEVENT
DTSTART;TZID=America/Denver:20240618T100000
DTEND;TZID=America/Denver:20240618T130000
DTSTAMP:20260420T084315
CREATED:20240610T165221Z
LAST-MODIFIED:20240610T165221Z
UID:10006460-1718704800-1718715600@cccld.org
SUMMARY:ISPL-Summer Reading
DESCRIPTION:Review complete reading groups & times at cccld.org/summer-reading-2024/\nJoin us on a summertime expedition into the wide world of stories\, crafts\, challenges\, and excursions. Connect with other Clear Creek learners\, and read your way to wonderful prizes! Like all Library District programs\, Summer Reading is 100% free.
URL:https://cccld.org/event/ispl-summer-reading-3/2024-06-18/
LOCATION:Idaho Springs Public Library\, 219 14th Avenue\, Idaho Springs\, CO\, 80452\, United States
CATEGORIES:Kids,Library Events,Summer Reading,Teens
GEO:39.742052;-105.5183552
X-APPLE-STRUCTURED-LOCATION;VALUE=URI;X-ADDRESS=Idaho Springs Public Library 219 14th Avenue Idaho Springs CO 80452 United States;X-APPLE-RADIUS=500;X-TITLE=219 14th Avenue:geo:-105.5183552,39.742052
END:VEVENT
BEGIN:VEVENT
DTSTART;TZID=America/Denver:20240611T100000
DTEND;TZID=America/Denver:20240611T130000
DTSTAMP:20260420T084315
CREATED:20240610T165221Z
LAST-MODIFIED:20240610T165221Z
UID:10006459-1718100000-1718110800@cccld.org
SUMMARY:ISPL-Summer Reading
DESCRIPTION:Review complete reading groups & times at cccld.org/summer-reading-2024/\nJoin us on a summertime expedition into the wide world of stories\, crafts\, challenges\, and excursions. Connect with other Clear Creek learners\, and read your way to wonderful prizes! Like all Library District programs\, Summer Reading is 100% free.
URL:https://cccld.org/event/ispl-summer-reading-3/2024-06-11/
LOCATION:Idaho Springs Public Library\, 219 14th Avenue\, Idaho Springs\, CO\, 80452\, United States
CATEGORIES:Kids,Library Events,Summer Reading,Teens
GEO:39.742052;-105.5183552
X-APPLE-STRUCTURED-LOCATION;VALUE=URI;X-ADDRESS=Idaho Springs Public Library 219 14th Avenue Idaho Springs CO 80452 United States;X-APPLE-RADIUS=500;X-TITLE=219 14th Avenue:geo:-105.5183552,39.742052
END:VEVENT
BEGIN:VEVENT
DTSTART;TZID=America/Denver:20240610T080000
DTEND;TZID=America/Denver:20240610T170000
DTSTAMP:20260420T084315
CREATED:20240610T171053Z
LAST-MODIFIED:20260116T185121Z
UID:10006813-1718006400-1718038800@cccld.org
SUMMARY:ISPL Book Group
DESCRIPTION:Everyone is welcome. Email libby@cccld.org for more information.
URL:https://cccld.org/event/ispl-book-group-16-2/2024-06-10/
LOCATION:Idaho Springs Public Library\, 219 14th Avenue\, Idaho Springs\, CO\, 80452\, United States
CATEGORIES:Adults,Library Events
GEO:39.742052;-105.5183552
X-APPLE-STRUCTURED-LOCATION;VALUE=URI;X-ADDRESS=Idaho Springs Public Library 219 14th Avenue Idaho Springs CO 80452 United States;X-APPLE-RADIUS=500;X-TITLE=219 14th Avenue:geo:-105.5183552,39.742052
END:VEVENT
BEGIN:VEVENT
DTSTART;TZID=America/Denver:20240528T111500
DTEND;TZID=America/Denver:20240528T121500
DTSTAMP:20260420T084315
CREATED:20230727T161653Z
LAST-MODIFIED:20240420T175137Z
UID:10006327-1716894900-1716898500@cccld.org
SUMMARY:ISPL Storytime
DESCRIPTION:Join us for storytime and crafts at the Idaho Springs Public Library.
URL:https://cccld.org/event/ispl-storytime-10/2024-05-28/
LOCATION:Idaho Springs Public Library\, 219 14th Avenue\, Idaho Springs\, CO\, 80452\, United States
CATEGORIES:Kids,Library Events
GEO:39.742052;-105.5183552
X-APPLE-STRUCTURED-LOCATION;VALUE=URI;X-ADDRESS=Idaho Springs Public Library 219 14th Avenue Idaho Springs CO 80452 United States;X-APPLE-RADIUS=500;X-TITLE=219 14th Avenue:geo:-105.5183552,39.742052
END:VEVENT
BEGIN:VEVENT
DTSTART;TZID=America/Denver:20240522T180000
DTEND;TZID=America/Denver:20240522T193000
DTSTAMP:20260420T084315
CREATED:20240325T153645Z
LAST-MODIFIED:20240425T201602Z
UID:10006436-1716400800-1716406200@cccld.org
SUMMARY:Quill & Spill
DESCRIPTION:Connect with other local writers at our monthly Quill & Spill sessions\, hosted by author Lisa Manifold. Please email lisa@cccld.org to register.
URL:https://cccld.org/event/quill-spill/2024-05-22/
LOCATION:Idaho Springs Public Library\, 219 14th Avenue\, Idaho Springs\, CO\, 80452\, United States
CATEGORIES:Adults,Library Events
GEO:39.742052;-105.5183552
X-APPLE-STRUCTURED-LOCATION;VALUE=URI;X-ADDRESS=Idaho Springs Public Library 219 14th Avenue Idaho Springs CO 80452 United States;X-APPLE-RADIUS=500;X-TITLE=219 14th Avenue:geo:-105.5183552,39.742052
END:VEVENT
BEGIN:VEVENT
DTSTART;TZID=America/Denver:20240521T173000
DTEND;TZID=America/Denver:20240521T190000
DTSTAMP:20260420T084315
CREATED:20240425T204538Z
LAST-MODIFIED:20240425T204959Z
UID:10006452-1716312600-1716318000@cccld.org
SUMMARY:ISPL Adult Craft
DESCRIPTION:We are delighted to welcome Resilience 1220 to our branches for therapeutic art sessions in May! Supplies will be provided\, but registration is required. For more details\, please email holly@cccld.org.
URL:https://cccld.org/event/ispl-adult-craft-13/
LOCATION:Idaho Springs Public Library\, 219 14th Avenue\, Idaho Springs\, CO\, 80452\, United States
CATEGORIES:Adults,Library Events
GEO:39.742052;-105.5183552
X-APPLE-STRUCTURED-LOCATION;VALUE=URI;X-ADDRESS=Idaho Springs Public Library 219 14th Avenue Idaho Springs CO 80452 United States;X-APPLE-RADIUS=500;X-TITLE=219 14th Avenue:geo:-105.5183552,39.742052
END:VEVENT
BEGIN:VEVENT
DTSTART;TZID=America/Denver:20240521T111500
DTEND;TZID=America/Denver:20240521T121500
DTSTAMP:20260420T084315
CREATED:20230727T161653Z
LAST-MODIFIED:20240420T175137Z
UID:10006326-1716290100-1716293700@cccld.org
SUMMARY:ISPL Storytime
DESCRIPTION:Join us for storytime and crafts at the Idaho Springs Public Library.
URL:https://cccld.org/event/ispl-storytime-10/2024-05-21/
LOCATION:Idaho Springs Public Library\, 219 14th Avenue\, Idaho Springs\, CO\, 80452\, United States
CATEGORIES:Kids,Library Events
GEO:39.742052;-105.5183552
X-APPLE-STRUCTURED-LOCATION;VALUE=URI;X-ADDRESS=Idaho Springs Public Library 219 14th Avenue Idaho Springs CO 80452 United States;X-APPLE-RADIUS=500;X-TITLE=219 14th Avenue:geo:-105.5183552,39.742052
END:VEVENT
BEGIN:VEVENT
DTSTART;TZID=America/Denver:20240514T111500
DTEND;TZID=America/Denver:20240514T121500
DTSTAMP:20260420T084315
CREATED:20230727T161653Z
LAST-MODIFIED:20240420T175137Z
UID:10006325-1715685300-1715688900@cccld.org
SUMMARY:ISPL Storytime
DESCRIPTION:Join us for storytime and crafts at the Idaho Springs Public Library.
URL:https://cccld.org/event/ispl-storytime-10/2024-05-14/
LOCATION:Idaho Springs Public Library\, 219 14th Avenue\, Idaho Springs\, CO\, 80452\, United States
CATEGORIES:Kids,Library Events
GEO:39.742052;-105.5183552
X-APPLE-STRUCTURED-LOCATION;VALUE=URI;X-ADDRESS=Idaho Springs Public Library 219 14th Avenue Idaho Springs CO 80452 United States;X-APPLE-RADIUS=500;X-TITLE=219 14th Avenue:geo:-105.5183552,39.742052
END:VEVENT
BEGIN:VEVENT
DTSTART;TZID=America/Denver:20240513T160000
DTEND;TZID=America/Denver:20240513T170000
DTSTAMP:20260420T084315
CREATED:20230504T172937Z
LAST-MODIFIED:20240507T215850Z
UID:10005388-1715616000-1715619600@cccld.org
SUMMARY:ISPL Book Group
DESCRIPTION:Everyone is welcome. Email libby@cccld.org for more information.
URL:https://cccld.org/event/ispl-book-group-16/2024-05-13/
LOCATION:Idaho Springs Public Library\, 219 14th Avenue\, Idaho Springs\, CO\, 80452\, United States
CATEGORIES:Adults,Library Events
GEO:39.742052;-105.5183552
X-APPLE-STRUCTURED-LOCATION;VALUE=URI;X-ADDRESS=Idaho Springs Public Library 219 14th Avenue Idaho Springs CO 80452 United States;X-APPLE-RADIUS=500;X-TITLE=219 14th Avenue:geo:-105.5183552,39.742052
END:VEVENT
BEGIN:VEVENT
DTSTART;TZID=America/Denver:20240507T111500
DTEND;TZID=America/Denver:20240507T121500
DTSTAMP:20260420T084315
CREATED:20230727T161653Z
LAST-MODIFIED:20240420T175137Z
UID:10006324-1715080500-1715084100@cccld.org
SUMMARY:ISPL Storytime
DESCRIPTION:Join us for storytime and crafts at the Idaho Springs Public Library.
URL:https://cccld.org/event/ispl-storytime-10/2024-05-07/
LOCATION:Idaho Springs Public Library\, 219 14th Avenue\, Idaho Springs\, CO\, 80452\, United States
CATEGORIES:Kids,Library Events
GEO:39.742052;-105.5183552
X-APPLE-STRUCTURED-LOCATION;VALUE=URI;X-ADDRESS=Idaho Springs Public Library 219 14th Avenue Idaho Springs CO 80452 United States;X-APPLE-RADIUS=500;X-TITLE=219 14th Avenue:geo:-105.5183552,39.742052
END:VEVENT
BEGIN:VEVENT
DTSTART;TZID=America/Denver:20240502T033000
DTEND;TZID=America/Denver:20240502T191500
DTSTAMP:20260420T084315
CREATED:20240425T201115Z
LAST-MODIFIED:20240425T201115Z
UID:10006450-1714620600-1714677300@cccld.org
SUMMARY:ISPL - Vampires & Werewolves Pizza Party
DESCRIPTION:Join us to play the popular deduction game Werewolf\, watch Twilight\, and enjoy pizza and snacks! Registration is required – to sign up\, please email holly@cccld.org. Parental permission is required for participants under the age of 13 years\, as Twilight is rated PG-13.
URL:https://cccld.org/event/ispl-vampires-werewolves-pizza-party/
LOCATION:Idaho Springs Public Library\, 219 14th Avenue\, Idaho Springs\, CO\, 80452\, United States
CATEGORIES:Library Events,Teens
GEO:39.742052;-105.5183552
X-APPLE-STRUCTURED-LOCATION;VALUE=URI;X-ADDRESS=Idaho Springs Public Library 219 14th Avenue Idaho Springs CO 80452 United States;X-APPLE-RADIUS=500;X-TITLE=219 14th Avenue:geo:-105.5183552,39.742052
END:VEVENT
BEGIN:VEVENT
DTSTART;TZID=America/Denver:20240430T153000
DTEND;TZID=America/Denver:20240430T170000
DTSTAMP:20260420T084315
CREATED:20240325T154109Z
LAST-MODIFIED:20250219T230103Z
UID:10006438-1714491000-1714496400@cccld.org
SUMMARY:Día de los Niños
DESCRIPTION:Celebrate children\, families\, and literacy at our annual Día party! Refreshments\, traditional dance performances\, and a storytime en Español promise a lively time at this after-school fiesta.
URL:https://cccld.org/event/dia-de-los-ninos-4/
LOCATION:Idaho Springs Public Library\, 219 14th Avenue\, Idaho Springs\, CO\, 80452\, United States
CATEGORIES:Adults,Kids,Library Events,Teens
GEO:39.742052;-105.5183552
X-APPLE-STRUCTURED-LOCATION;VALUE=URI;X-ADDRESS=Idaho Springs Public Library 219 14th Avenue Idaho Springs CO 80452 United States;X-APPLE-RADIUS=500;X-TITLE=219 14th Avenue:geo:-105.5183552,39.742052
END:VEVENT
BEGIN:VEVENT
DTSTART;TZID=America/Denver:20240430T111500
DTEND;TZID=America/Denver:20240430T121500
DTSTAMP:20260420T084315
CREATED:20230727T161653Z
LAST-MODIFIED:20240420T175137Z
UID:10006323-1714475700-1714479300@cccld.org
SUMMARY:ISPL Storytime
DESCRIPTION:Join us for storytime and crafts at the Idaho Springs Public Library.
URL:https://cccld.org/event/ispl-storytime-10/2024-04-30/
LOCATION:Idaho Springs Public Library\, 219 14th Avenue\, Idaho Springs\, CO\, 80452\, United States
CATEGORIES:Kids,Library Events
GEO:39.742052;-105.5183552
X-APPLE-STRUCTURED-LOCATION;VALUE=URI;X-ADDRESS=Idaho Springs Public Library 219 14th Avenue Idaho Springs CO 80452 United States;X-APPLE-RADIUS=500;X-TITLE=219 14th Avenue:geo:-105.5183552,39.742052
END:VEVENT
BEGIN:VEVENT
DTSTART;TZID=America/Denver:20240426T100000
DTEND;TZID=America/Denver:20240426T113000
DTSTAMP:20260420T084315
CREATED:20240325T153426Z
LAST-MODIFIED:20240325T153426Z
UID:10006434-1714125600-1714131000@cccld.org
SUMMARY:ISPL - Youth Art Workshop
DESCRIPTION:This month\, we are thrilled to host Resilience 1220 for art workshops at the Libraries! Young learners are invited to get creative at these special craft sessions.
URL:https://cccld.org/event/ispl-youth-art-workshop/
LOCATION:Idaho Springs Public Library\, 219 14th Avenue\, Idaho Springs\, CO\, 80452\, United States
CATEGORIES:Kids,Library Events,Teens
GEO:39.742052;-105.5183552
X-APPLE-STRUCTURED-LOCATION;VALUE=URI;X-ADDRESS=Idaho Springs Public Library 219 14th Avenue Idaho Springs CO 80452 United States;X-APPLE-RADIUS=500;X-TITLE=219 14th Avenue:geo:-105.5183552,39.742052
END:VEVENT
BEGIN:VEVENT
DTSTART;TZID=America/Denver:20240424T180000
DTEND;TZID=America/Denver:20240424T193000
DTSTAMP:20260420T084315
CREATED:20240325T153645Z
LAST-MODIFIED:20240425T201602Z
UID:10006435-1713981600-1713987000@cccld.org
SUMMARY:Quill & Spill
DESCRIPTION:Connect with other local writers at our monthly Quill & Spill sessions\, hosted by author Lisa Manifold. Please email lisa@cccld.org to register.
URL:https://cccld.org/event/quill-spill/2024-04-24/
LOCATION:Idaho Springs Public Library\, 219 14th Avenue\, Idaho Springs\, CO\, 80452\, United States
CATEGORIES:Adults,Library Events
GEO:39.742052;-105.5183552
X-APPLE-STRUCTURED-LOCATION;VALUE=URI;X-ADDRESS=Idaho Springs Public Library 219 14th Avenue Idaho Springs CO 80452 United States;X-APPLE-RADIUS=500;X-TITLE=219 14th Avenue:geo:-105.5183552,39.742052
END:VEVENT
BEGIN:VEVENT
DTSTART;TZID=America/Denver:20240423T111500
DTEND;TZID=America/Denver:20240423T121500
DTSTAMP:20260420T084315
CREATED:20230727T161653Z
LAST-MODIFIED:20240420T175137Z
UID:10006322-1713870900-1713874500@cccld.org
SUMMARY:ISPL Storytime
DESCRIPTION:Join us for storytime and crafts at the Idaho Springs Public Library.
URL:https://cccld.org/event/ispl-storytime-10/2024-04-23/
LOCATION:Idaho Springs Public Library\, 219 14th Avenue\, Idaho Springs\, CO\, 80452\, United States
CATEGORIES:Kids,Library Events
GEO:39.742052;-105.5183552
X-APPLE-STRUCTURED-LOCATION;VALUE=URI;X-ADDRESS=Idaho Springs Public Library 219 14th Avenue Idaho Springs CO 80452 United States;X-APPLE-RADIUS=500;X-TITLE=219 14th Avenue:geo:-105.5183552,39.742052
END:VEVENT
BEGIN:VEVENT
DTSTART;TZID=America/Denver:20240416T111500
DTEND;TZID=America/Denver:20240416T121500
DTSTAMP:20260420T084315
CREATED:20230727T161653Z
LAST-MODIFIED:20240420T175137Z
UID:10006321-1713266100-1713269700@cccld.org
SUMMARY:ISPL Storytime
DESCRIPTION:Join us for storytime and crafts at the Idaho Springs Public Library.
URL:https://cccld.org/event/ispl-storytime-10/2024-04-16/
LOCATION:Idaho Springs Public Library\, 219 14th Avenue\, Idaho Springs\, CO\, 80452\, United States
CATEGORIES:Kids,Library Events
GEO:39.742052;-105.5183552
X-APPLE-STRUCTURED-LOCATION;VALUE=URI;X-ADDRESS=Idaho Springs Public Library 219 14th Avenue Idaho Springs CO 80452 United States;X-APPLE-RADIUS=500;X-TITLE=219 14th Avenue:geo:-105.5183552,39.742052
END:VEVENT
BEGIN:VEVENT
DTSTART;TZID=America/Denver:20240409T111500
DTEND;TZID=America/Denver:20240409T121500
DTSTAMP:20260420T084315
CREATED:20230727T161653Z
LAST-MODIFIED:20240420T175137Z
UID:10006320-1712661300-1712664900@cccld.org
SUMMARY:ISPL Storytime
DESCRIPTION:Join us for storytime and crafts at the Idaho Springs Public Library.
URL:https://cccld.org/event/ispl-storytime-10/2024-04-09/
LOCATION:Idaho Springs Public Library\, 219 14th Avenue\, Idaho Springs\, CO\, 80452\, United States
CATEGORIES:Kids,Library Events
GEO:39.742052;-105.5183552
X-APPLE-STRUCTURED-LOCATION;VALUE=URI;X-ADDRESS=Idaho Springs Public Library 219 14th Avenue Idaho Springs CO 80452 United States;X-APPLE-RADIUS=500;X-TITLE=219 14th Avenue:geo:-105.5183552,39.742052
END:VEVENT
BEGIN:VEVENT
DTSTART;TZID=America/Denver:20240408T160000
DTEND;TZID=America/Denver:20240408T170000
DTSTAMP:20260420T084315
CREATED:20230504T172937Z
LAST-MODIFIED:20240507T215850Z
UID:10005387-1712592000-1712595600@cccld.org
SUMMARY:ISPL Book Group
DESCRIPTION:Everyone is welcome. Email libby@cccld.org for more information.
URL:https://cccld.org/event/ispl-book-group-16/2024-04-08/
LOCATION:Idaho Springs Public Library\, 219 14th Avenue\, Idaho Springs\, CO\, 80452\, United States
CATEGORIES:Adults,Library Events
GEO:39.742052;-105.5183552
X-APPLE-STRUCTURED-LOCATION;VALUE=URI;X-ADDRESS=Idaho Springs Public Library 219 14th Avenue Idaho Springs CO 80452 United States;X-APPLE-RADIUS=500;X-TITLE=219 14th Avenue:geo:-105.5183552,39.742052
END:VEVENT
BEGIN:VEVENT
DTSTART;TZID=America/Denver:20240402T111500
DTEND;TZID=America/Denver:20240402T121500
DTSTAMP:20260420T084315
CREATED:20230727T161653Z
LAST-MODIFIED:20240420T175137Z
UID:10006319-1712056500-1712060100@cccld.org
SUMMARY:ISPL Storytime
DESCRIPTION:Join us for storytime and crafts at the Idaho Springs Public Library.
URL:https://cccld.org/event/ispl-storytime-10/2024-04-02/
LOCATION:Idaho Springs Public Library\, 219 14th Avenue\, Idaho Springs\, CO\, 80452\, United States
CATEGORIES:Kids,Library Events
GEO:39.742052;-105.5183552
X-APPLE-STRUCTURED-LOCATION;VALUE=URI;X-ADDRESS=Idaho Springs Public Library 219 14th Avenue Idaho Springs CO 80452 United States;X-APPLE-RADIUS=500;X-TITLE=219 14th Avenue:geo:-105.5183552,39.742052
END:VEVENT
BEGIN:VEVENT
DTSTART;TZID=America/Denver:20240326T111500
DTEND;TZID=America/Denver:20240326T121500
DTSTAMP:20260420T084315
CREATED:20230727T161653Z
LAST-MODIFIED:20240420T175137Z
UID:10006318-1711451700-1711455300@cccld.org
SUMMARY:ISPL Storytime
DESCRIPTION:Join us for storytime and crafts at the Idaho Springs Public Library.
URL:https://cccld.org/event/ispl-storytime-10/2024-03-26/
LOCATION:Idaho Springs Public Library\, 219 14th Avenue\, Idaho Springs\, CO\, 80452\, United States
CATEGORIES:Kids,Library Events
GEO:39.742052;-105.5183552
X-APPLE-STRUCTURED-LOCATION;VALUE=URI;X-ADDRESS=Idaho Springs Public Library 219 14th Avenue Idaho Springs CO 80452 United States;X-APPLE-RADIUS=500;X-TITLE=219 14th Avenue:geo:-105.5183552,39.742052
END:VEVENT
BEGIN:VEVENT
DTSTART;TZID=America/Denver:20240322T100000
DTEND;TZID=America/Denver:20240322T110000
DTSTAMP:20260420T084315
CREATED:20240304T174738Z
LAST-MODIFIED:20240304T174738Z
UID:10005495-1711101600-1711105200@cccld.org
SUMMARY:ISPL - Miss Honeybun's Hat Workshop
DESCRIPTION:Calling Clear Creek kids: celebrate the first weeks of Spring at Miss Honeybun’s Springtime Hat Workshops! Bring your favorite doll or stuffed animal – we’ll provide the hats and embellishments.
URL:https://cccld.org/event/ispl-miss-honeybuns-hat-workshop/
LOCATION:Idaho Springs Public Library\, 219 14th Avenue\, Idaho Springs\, CO\, 80452\, United States
CATEGORIES:Kids,Library Events,Teens
GEO:39.742052;-105.5183552
X-APPLE-STRUCTURED-LOCATION;VALUE=URI;X-ADDRESS=Idaho Springs Public Library 219 14th Avenue Idaho Springs CO 80452 United States;X-APPLE-RADIUS=500;X-TITLE=219 14th Avenue:geo:-105.5183552,39.742052
END:VEVENT
END:VCALENDAR