BEGIN:VCALENDAR
VERSION:2.0
PRODID:-//Clear Creek County Library District - ECPv6.15.16//NONSGML v1.0//EN
CALSCALE:GREGORIAN
METHOD:PUBLISH
X-ORIGINAL-URL:https://cccld.org
X-WR-CALDESC:Events for Clear Creek County Library District
REFRESH-INTERVAL;VALUE=DURATION:PT1H
X-Robots-Tag:noindex
X-PUBLISHED-TTL:PT1H
BEGIN:VTIMEZONE
TZID:America/Denver
BEGIN:DAYLIGHT
TZOFFSETFROM:-0700
TZOFFSETTO:-0600
TZNAME:MDT
DTSTART:20220313T090000
END:DAYLIGHT
BEGIN:STANDARD
TZOFFSETFROM:-0600
TZOFFSETTO:-0700
TZNAME:MST
DTSTART:20221106T080000
END:STANDARD
BEGIN:DAYLIGHT
TZOFFSETFROM:-0700
TZOFFSETTO:-0600
TZNAME:MDT
DTSTART:20230312T090000
END:DAYLIGHT
BEGIN:STANDARD
TZOFFSETFROM:-0600
TZOFFSETTO:-0700
TZNAME:MST
DTSTART:20231105T080000
END:STANDARD
BEGIN:DAYLIGHT
TZOFFSETFROM:-0700
TZOFFSETTO:-0600
TZNAME:MDT
DTSTART:20240310T090000
END:DAYLIGHT
BEGIN:STANDARD
TZOFFSETFROM:-0600
TZOFFSETTO:-0700
TZNAME:MST
DTSTART:20241103T080000
END:STANDARD
BEGIN:DAYLIGHT
TZOFFSETFROM:-0700
TZOFFSETTO:-0600
TZNAME:MDT
DTSTART:20250309T090000
END:DAYLIGHT
BEGIN:STANDARD
TZOFFSETFROM:-0600
TZOFFSETTO:-0700
TZNAME:MST
DTSTART:20251102T080000
END:STANDARD
END:VTIMEZONE
BEGIN:VEVENT
DTSTART;TZID=America/Denver:20240223T140000
DTEND;TZID=America/Denver:20240223T160000
DTSTAMP:20260419T160549
CREATED:20231129T165858Z
LAST-MODIFIED:20250102T182751Z
UID:10006420-1708696800-1708704000@cccld.org
SUMMARY:JTML-Virtual Reality
DESCRIPTION:Explore new worlds and great games at our virtual reality sessions for tweens and teens (ages 12 years and older). Registration is required. Please email heather@cccld.org to learn more and save your spot.
URL:https://cccld.org/event/jtml-virtual-reality-7/2024-02-23/
LOCATION:John Tomay Memorial Library\, 605 6th Street\, Georgetown\, CO\, 80444\, United States
CATEGORIES:Kids,Library Events,Teens
GEO:39.7061997;-105.6974142
X-APPLE-STRUCTURED-LOCATION;VALUE=URI;X-ADDRESS=John Tomay Memorial Library 605 6th Street Georgetown CO 80444 United States;X-APPLE-RADIUS=500;X-TITLE=605 6th Street:geo:-105.6974142,39.7061997
END:VEVENT
BEGIN:VEVENT
DTSTART;TZID=America/Denver:20240222T111500
DTEND;TZID=America/Denver:20240222T121500
DTSTAMP:20260419T160549
CREATED:20230727T161856Z
LAST-MODIFIED:20231129T162744Z
UID:10006352-1708600500-1708604100@cccld.org
SUMMARY:JTML Storytime
DESCRIPTION:Join us for storytime and crafts at the John Tomay Memorial Library.
URL:https://cccld.org/event/jtml-storytime-10/2024-02-22/
LOCATION:John Tomay Memorial Library\, 605 6th Street\, Georgetown\, CO\, 80444\, United States
CATEGORIES:Kids,Library Events
GEO:39.7061997;-105.6974142
X-APPLE-STRUCTURED-LOCATION;VALUE=URI;X-ADDRESS=John Tomay Memorial Library 605 6th Street Georgetown CO 80444 United States;X-APPLE-RADIUS=500;X-TITLE=605 6th Street:geo:-105.6974142,39.7061997
END:VEVENT
BEGIN:VEVENT
DTSTART;TZID=America/Denver:20240215T150000
DTEND;TZID=America/Denver:20240215T170000
DTSTAMP:20260419T160549
CREATED:20230615T214632Z
LAST-MODIFIED:20230615T214632Z
UID:10006281-1708009200-1708016400@cccld.org
SUMMARY:JTML Book Group
DESCRIPTION:Everyone is welcome. Email libby@cccld.org for more information.
URL:https://cccld.org/event/jtml-book-group-14/2024-02-15/
LOCATION:John Tomay Memorial Library\, 605 6th Street\, Georgetown\, CO\, 80444\, United States
CATEGORIES:Adults,Library Events
GEO:39.7061997;-105.6974142
X-APPLE-STRUCTURED-LOCATION;VALUE=URI;X-ADDRESS=John Tomay Memorial Library 605 6th Street Georgetown CO 80444 United States;X-APPLE-RADIUS=500;X-TITLE=605 6th Street:geo:-105.6974142,39.7061997
END:VEVENT
BEGIN:VEVENT
DTSTART;TZID=America/Denver:20240215T111500
DTEND;TZID=America/Denver:20240215T121500
DTSTAMP:20260419T160549
CREATED:20230727T161856Z
LAST-MODIFIED:20231129T162744Z
UID:10006351-1707995700-1707999300@cccld.org
SUMMARY:JTML Storytime
DESCRIPTION:Join us for storytime and crafts at the John Tomay Memorial Library.
URL:https://cccld.org/event/jtml-storytime-10/2024-02-15/
LOCATION:John Tomay Memorial Library\, 605 6th Street\, Georgetown\, CO\, 80444\, United States
CATEGORIES:Kids,Library Events
GEO:39.7061997;-105.6974142
X-APPLE-STRUCTURED-LOCATION;VALUE=URI;X-ADDRESS=John Tomay Memorial Library 605 6th Street Georgetown CO 80444 United States;X-APPLE-RADIUS=500;X-TITLE=605 6th Street:geo:-105.6974142,39.7061997
END:VEVENT
BEGIN:VEVENT
DTSTART;TZID=America/Denver:20240215T110000
DTEND;TZID=America/Denver:20240215T133000
DTSTAMP:20260419T160549
CREATED:20240125T165136Z
LAST-MODIFIED:20250131T210550Z
UID:10006433-1707994800-1708003800@cccld.org
SUMMARY:JTML- Friends of Georgetown Library Annual Soup Lunch
DESCRIPTION:Join the Friends of the Georgetown Library for their FREE Annual Soup Lunch at the John Tomay Memorial Library.
URL:https://cccld.org/event/jtml-friends-of-georgetown-library-annual-soup-lunch/2024-02-15/
LOCATION:John Tomay Memorial Library\, 605 6th Street\, Georgetown\, CO\, 80444\, United States
CATEGORIES:Adults,Community Events,Kids,Library Events,Teens
GEO:39.7061997;-105.6974142
X-APPLE-STRUCTURED-LOCATION;VALUE=URI;X-ADDRESS=John Tomay Memorial Library 605 6th Street Georgetown CO 80444 United States;X-APPLE-RADIUS=500;X-TITLE=605 6th Street:geo:-105.6974142,39.7061997
END:VEVENT
BEGIN:VEVENT
DTSTART;TZID=America/Denver:20240208T111500
DTEND;TZID=America/Denver:20240208T121500
DTSTAMP:20260419T160549
CREATED:20230727T161856Z
LAST-MODIFIED:20231129T162744Z
UID:10006350-1707390900-1707394500@cccld.org
SUMMARY:JTML Storytime
DESCRIPTION:Join us for storytime and crafts at the John Tomay Memorial Library.
URL:https://cccld.org/event/jtml-storytime-10/2024-02-08/
LOCATION:John Tomay Memorial Library\, 605 6th Street\, Georgetown\, CO\, 80444\, United States
CATEGORIES:Kids,Library Events
GEO:39.7061997;-105.6974142
X-APPLE-STRUCTURED-LOCATION;VALUE=URI;X-ADDRESS=John Tomay Memorial Library 605 6th Street Georgetown CO 80444 United States;X-APPLE-RADIUS=500;X-TITLE=605 6th Street:geo:-105.6974142,39.7061997
END:VEVENT
BEGIN:VEVENT
DTSTART;TZID=America/Denver:20240201T111500
DTEND;TZID=America/Denver:20240201T121500
DTSTAMP:20260419T160549
CREATED:20230727T161856Z
LAST-MODIFIED:20231129T162744Z
UID:10006349-1706786100-1706789700@cccld.org
SUMMARY:JTML Storytime
DESCRIPTION:Join us for storytime and crafts at the John Tomay Memorial Library.
URL:https://cccld.org/event/jtml-storytime-10/2024-02-01/
LOCATION:John Tomay Memorial Library\, 605 6th Street\, Georgetown\, CO\, 80444\, United States
CATEGORIES:Kids,Library Events
GEO:39.7061997;-105.6974142
X-APPLE-STRUCTURED-LOCATION;VALUE=URI;X-ADDRESS=John Tomay Memorial Library 605 6th Street Georgetown CO 80444 United States;X-APPLE-RADIUS=500;X-TITLE=605 6th Street:geo:-105.6974142,39.7061997
END:VEVENT
BEGIN:VEVENT
DTSTART;TZID=America/Denver:20240126T140000
DTEND;TZID=America/Denver:20240126T160000
DTSTAMP:20260419T160549
CREATED:20231129T165858Z
LAST-MODIFIED:20250102T182751Z
UID:10006419-1706277600-1706284800@cccld.org
SUMMARY:JTML-Virtual Reality
DESCRIPTION:Explore new worlds and great games at our virtual reality sessions for tweens and teens (ages 12 years and older). Registration is required. Please email heather@cccld.org to learn more and save your spot.
URL:https://cccld.org/event/jtml-virtual-reality-7/2024-01-26/
LOCATION:John Tomay Memorial Library\, 605 6th Street\, Georgetown\, CO\, 80444\, United States
CATEGORIES:Kids,Library Events,Teens
GEO:39.7061997;-105.6974142
X-APPLE-STRUCTURED-LOCATION;VALUE=URI;X-ADDRESS=John Tomay Memorial Library 605 6th Street Georgetown CO 80444 United States;X-APPLE-RADIUS=500;X-TITLE=605 6th Street:geo:-105.6974142,39.7061997
END:VEVENT
BEGIN:VEVENT
DTSTART;TZID=America/Denver:20240125T111500
DTEND;TZID=America/Denver:20240125T121500
DTSTAMP:20260419T160549
CREATED:20230727T161856Z
LAST-MODIFIED:20231129T162744Z
UID:10006348-1706181300-1706184900@cccld.org
SUMMARY:JTML Storytime
DESCRIPTION:Join us for storytime and crafts at the John Tomay Memorial Library.
URL:https://cccld.org/event/jtml-storytime-10/2024-01-25/
LOCATION:John Tomay Memorial Library\, 605 6th Street\, Georgetown\, CO\, 80444\, United States
CATEGORIES:Kids,Library Events
GEO:39.7061997;-105.6974142
X-APPLE-STRUCTURED-LOCATION;VALUE=URI;X-ADDRESS=John Tomay Memorial Library 605 6th Street Georgetown CO 80444 United States;X-APPLE-RADIUS=500;X-TITLE=605 6th Street:geo:-105.6974142,39.7061997
END:VEVENT
BEGIN:VEVENT
DTSTART;TZID=America/Denver:20240124T173000
DTEND;TZID=America/Denver:20240124T193000
DTSTAMP:20260419T160549
CREATED:20231215T204625Z
LAST-MODIFIED:20231215T204625Z
UID:10006427-1706117400-1706124600@cccld.org
SUMMARY:JTML-Tween Beach Party
DESCRIPTION:Join us for a Tween Beach Party at the John Tomay Memorial Library. Food\, games\, activities and prizes! Ages 11+\, FREE! REGISTRATION REQUIRED please email Chris at chris@cccld.org by Monday\, 1/22/24 @ 5pm.
URL:https://cccld.org/event/jtml-tween-beach-party/
LOCATION:John Tomay Memorial Library\, 605 6th Street\, Georgetown\, CO\, 80444\, United States
CATEGORIES:Library Events,Teens
GEO:39.7061997;-105.6974142
X-APPLE-STRUCTURED-LOCATION;VALUE=URI;X-ADDRESS=John Tomay Memorial Library 605 6th Street Georgetown CO 80444 United States;X-APPLE-RADIUS=500;X-TITLE=605 6th Street:geo:-105.6974142,39.7061997
END:VEVENT
BEGIN:VEVENT
DTSTART;TZID=America/Denver:20240118T150000
DTEND;TZID=America/Denver:20240118T170000
DTSTAMP:20260419T160549
CREATED:20230615T214632Z
LAST-MODIFIED:20230615T214632Z
UID:10006280-1705590000-1705597200@cccld.org
SUMMARY:JTML Book Group
DESCRIPTION:Everyone is welcome. Email libby@cccld.org for more information.
URL:https://cccld.org/event/jtml-book-group-14/2024-01-18/
LOCATION:John Tomay Memorial Library\, 605 6th Street\, Georgetown\, CO\, 80444\, United States
CATEGORIES:Adults,Library Events
GEO:39.7061997;-105.6974142
X-APPLE-STRUCTURED-LOCATION;VALUE=URI;X-ADDRESS=John Tomay Memorial Library 605 6th Street Georgetown CO 80444 United States;X-APPLE-RADIUS=500;X-TITLE=605 6th Street:geo:-105.6974142,39.7061997
END:VEVENT
BEGIN:VEVENT
DTSTART;TZID=America/Denver:20240118T111500
DTEND;TZID=America/Denver:20240118T121500
DTSTAMP:20260419T160549
CREATED:20230727T161856Z
LAST-MODIFIED:20231129T162744Z
UID:10006347-1705576500-1705580100@cccld.org
SUMMARY:JTML Storytime
DESCRIPTION:Join us for storytime and crafts at the John Tomay Memorial Library.
URL:https://cccld.org/event/jtml-storytime-10/2024-01-18/
LOCATION:John Tomay Memorial Library\, 605 6th Street\, Georgetown\, CO\, 80444\, United States
CATEGORIES:Kids,Library Events
GEO:39.7061997;-105.6974142
X-APPLE-STRUCTURED-LOCATION;VALUE=URI;X-ADDRESS=John Tomay Memorial Library 605 6th Street Georgetown CO 80444 United States;X-APPLE-RADIUS=500;X-TITLE=605 6th Street:geo:-105.6974142,39.7061997
END:VEVENT
BEGIN:VEVENT
DTSTART;TZID=America/Denver:20240111T111500
DTEND;TZID=America/Denver:20240111T121500
DTSTAMP:20260419T160549
CREATED:20230727T161856Z
LAST-MODIFIED:20231129T162744Z
UID:10006346-1704971700-1704975300@cccld.org
SUMMARY:JTML Storytime
DESCRIPTION:Join us for storytime and crafts at the John Tomay Memorial Library.
URL:https://cccld.org/event/jtml-storytime-10/2024-01-11/
LOCATION:John Tomay Memorial Library\, 605 6th Street\, Georgetown\, CO\, 80444\, United States
CATEGORIES:Kids,Library Events
GEO:39.7061997;-105.6974142
X-APPLE-STRUCTURED-LOCATION;VALUE=URI;X-ADDRESS=John Tomay Memorial Library 605 6th Street Georgetown CO 80444 United States;X-APPLE-RADIUS=500;X-TITLE=605 6th Street:geo:-105.6974142,39.7061997
END:VEVENT
BEGIN:VEVENT
DTSTART;TZID=America/Denver:20240104T111500
DTEND;TZID=America/Denver:20240104T121500
DTSTAMP:20260419T160549
CREATED:20230727T161856Z
LAST-MODIFIED:20231129T162744Z
UID:10006345-1704366900-1704370500@cccld.org
SUMMARY:JTML Storytime
DESCRIPTION:Join us for storytime and crafts at the John Tomay Memorial Library.
URL:https://cccld.org/event/jtml-storytime-10/2024-01-04/
LOCATION:John Tomay Memorial Library\, 605 6th Street\, Georgetown\, CO\, 80444\, United States
CATEGORIES:Kids,Library Events
GEO:39.7061997;-105.6974142
X-APPLE-STRUCTURED-LOCATION;VALUE=URI;X-ADDRESS=John Tomay Memorial Library 605 6th Street Georgetown CO 80444 United States;X-APPLE-RADIUS=500;X-TITLE=605 6th Street:geo:-105.6974142,39.7061997
END:VEVENT
BEGIN:VEVENT
DTSTART;TZID=America/Denver:20231228T111500
DTEND;TZID=America/Denver:20231228T121500
DTSTAMP:20260419T160549
CREATED:20230727T161856Z
LAST-MODIFIED:20231129T162744Z
UID:10006344-1703762100-1703765700@cccld.org
SUMMARY:JTML Storytime
DESCRIPTION:Join us for storytime and crafts at the John Tomay Memorial Library.
URL:https://cccld.org/event/jtml-storytime-10/2023-12-28/
LOCATION:John Tomay Memorial Library\, 605 6th Street\, Georgetown\, CO\, 80444\, United States
CATEGORIES:Kids,Library Events
GEO:39.7061997;-105.6974142
X-APPLE-STRUCTURED-LOCATION;VALUE=URI;X-ADDRESS=John Tomay Memorial Library 605 6th Street Georgetown CO 80444 United States;X-APPLE-RADIUS=500;X-TITLE=605 6th Street:geo:-105.6974142,39.7061997
END:VEVENT
BEGIN:VEVENT
DTSTART;TZID=America/Denver:20231221T111500
DTEND;TZID=America/Denver:20231221T121500
DTSTAMP:20260419T160549
CREATED:20230727T161856Z
LAST-MODIFIED:20231129T162744Z
UID:10006343-1703157300-1703160900@cccld.org
SUMMARY:JTML Storytime
DESCRIPTION:Join us for storytime and crafts at the John Tomay Memorial Library.
URL:https://cccld.org/event/jtml-storytime-10/2023-12-21/
LOCATION:John Tomay Memorial Library\, 605 6th Street\, Georgetown\, CO\, 80444\, United States
CATEGORIES:Kids,Library Events
GEO:39.7061997;-105.6974142
X-APPLE-STRUCTURED-LOCATION;VALUE=URI;X-ADDRESS=John Tomay Memorial Library 605 6th Street Georgetown CO 80444 United States;X-APPLE-RADIUS=500;X-TITLE=605 6th Street:geo:-105.6974142,39.7061997
END:VEVENT
BEGIN:VEVENT
DTSTART;TZID=America/Denver:20231215T140000
DTEND;TZID=America/Denver:20231215T160000
DTSTAMP:20260419T160549
CREATED:20230808T165439Z
LAST-MODIFIED:20230814T201852Z
UID:10006383-1702648800-1702656000@cccld.org
SUMMARY:JTML-Virtual Reality
DESCRIPTION:Explore new worlds and great games at our virtual reality sessions for tweens and teens (ages 12 years and older). Registration is required. Please email heather@cccld.org to learn more and save your spot.
URL:https://cccld.org/event/jtml-virtual-reality-6/2023-12-15/
LOCATION:John Tomay Memorial Library\, 605 6th Street\, Georgetown\, CO\, 80444\, United States
CATEGORIES:Library Events,Teens
GEO:39.7061997;-105.6974142
X-APPLE-STRUCTURED-LOCATION;VALUE=URI;X-ADDRESS=John Tomay Memorial Library 605 6th Street Georgetown CO 80444 United States;X-APPLE-RADIUS=500;X-TITLE=605 6th Street:geo:-105.6974142,39.7061997
END:VEVENT
BEGIN:VEVENT
DTSTART;TZID=America/Denver:20231214T111500
DTEND;TZID=America/Denver:20231214T121500
DTSTAMP:20260419T160549
CREATED:20230727T161856Z
LAST-MODIFIED:20231129T162744Z
UID:10006342-1702552500-1702556100@cccld.org
SUMMARY:JTML Storytime
DESCRIPTION:Join us for storytime and crafts at the John Tomay Memorial Library.
URL:https://cccld.org/event/jtml-storytime-10/2023-12-14/
LOCATION:John Tomay Memorial Library\, 605 6th Street\, Georgetown\, CO\, 80444\, United States
CATEGORIES:Kids,Library Events
GEO:39.7061997;-105.6974142
X-APPLE-STRUCTURED-LOCATION;VALUE=URI;X-ADDRESS=John Tomay Memorial Library 605 6th Street Georgetown CO 80444 United States;X-APPLE-RADIUS=500;X-TITLE=605 6th Street:geo:-105.6974142,39.7061997
END:VEVENT
BEGIN:VEVENT
DTSTART;TZID=America/Denver:20231210T100000
DTEND;TZID=America/Denver:20231210T160000
DTSTAMP:20260419T160549
CREATED:20231127T172511Z
LAST-MODIFIED:20231127T172547Z
UID:10005468-1702202400-1702224000@cccld.org
SUMMARY:JTML Friends Book Sale
DESCRIPTION:Support the Friends of the Georgetown Library and stop by their annual book sale during the Georgetown Christmas Market.
URL:https://cccld.org/event/jtml-friends-book-sale-4/2023-12-10/
LOCATION:John Tomay Memorial Library\, 605 6th Street\, Georgetown\, CO\, 80444\, United States
CATEGORIES:Adults,Community Events,Kids,Library Events,Teens
GEO:39.7061997;-105.6974142
X-APPLE-STRUCTURED-LOCATION;VALUE=URI;X-ADDRESS=John Tomay Memorial Library 605 6th Street Georgetown CO 80444 United States;X-APPLE-RADIUS=500;X-TITLE=605 6th Street:geo:-105.6974142,39.7061997
END:VEVENT
BEGIN:VEVENT
DTSTART;TZID=America/Denver:20231210T090000
DTEND;TZID=America/Denver:20231210T140000
DTSTAMP:20260419T160549
CREATED:20230814T210706Z
LAST-MODIFIED:20231127T172041Z
UID:10006396-1702198800-1702216800@cccld.org
SUMMARY:JTML-Winter Craft Workshops - Georgetown Christmas Market
DESCRIPTION:All kids are welcome at the John Tomay Memorial Library for creative crafts and fun during the Georgetown Christmas Market.
URL:https://cccld.org/event/winter-craft-workshops-georgetown-christmas-market-2/2023-12-10/
LOCATION:John Tomay Memorial Library\, 605 6th Street\, Georgetown\, CO\, 80444\, United States
CATEGORIES:Adults,Kids,Library Events,Teens
GEO:39.7061997;-105.6974142
X-APPLE-STRUCTURED-LOCATION;VALUE=URI;X-ADDRESS=John Tomay Memorial Library 605 6th Street Georgetown CO 80444 United States;X-APPLE-RADIUS=500;X-TITLE=605 6th Street:geo:-105.6974142,39.7061997
END:VEVENT
BEGIN:VEVENT
DTSTART;TZID=America/Denver:20231209T100000
DTEND;TZID=America/Denver:20231209T160000
DTSTAMP:20260419T160549
CREATED:20231127T172511Z
LAST-MODIFIED:20231127T172547Z
UID:10005467-1702116000-1702137600@cccld.org
SUMMARY:JTML Friends Book Sale
DESCRIPTION:Support the Friends of the Georgetown Library and stop by their annual book sale during the Georgetown Christmas Market.
URL:https://cccld.org/event/jtml-friends-book-sale-4/2023-12-09/
LOCATION:John Tomay Memorial Library\, 605 6th Street\, Georgetown\, CO\, 80444\, United States
CATEGORIES:Adults,Community Events,Kids,Library Events,Teens
GEO:39.7061997;-105.6974142
X-APPLE-STRUCTURED-LOCATION;VALUE=URI;X-ADDRESS=John Tomay Memorial Library 605 6th Street Georgetown CO 80444 United States;X-APPLE-RADIUS=500;X-TITLE=605 6th Street:geo:-105.6974142,39.7061997
END:VEVENT
BEGIN:VEVENT
DTSTART;TZID=America/Denver:20231209T090000
DTEND;TZID=America/Denver:20231209T140000
DTSTAMP:20260419T160549
CREATED:20230814T210706Z
LAST-MODIFIED:20231127T172041Z
UID:10006395-1702112400-1702130400@cccld.org
SUMMARY:JTML-Winter Craft Workshops - Georgetown Christmas Market
DESCRIPTION:All kids are welcome at the John Tomay Memorial Library for creative crafts and fun during the Georgetown Christmas Market.
URL:https://cccld.org/event/winter-craft-workshops-georgetown-christmas-market-2/2023-12-09/
LOCATION:John Tomay Memorial Library\, 605 6th Street\, Georgetown\, CO\, 80444\, United States
CATEGORIES:Adults,Kids,Library Events,Teens
GEO:39.7061997;-105.6974142
X-APPLE-STRUCTURED-LOCATION;VALUE=URI;X-ADDRESS=John Tomay Memorial Library 605 6th Street Georgetown CO 80444 United States;X-APPLE-RADIUS=500;X-TITLE=605 6th Street:geo:-105.6974142,39.7061997
END:VEVENT
BEGIN:VEVENT
DTSTART;TZID=America/Denver:20231207T111500
DTEND;TZID=America/Denver:20231207T121500
DTSTAMP:20260419T160549
CREATED:20230727T161856Z
LAST-MODIFIED:20231129T162744Z
UID:10006341-1701947700-1701951300@cccld.org
SUMMARY:JTML Storytime
DESCRIPTION:Join us for storytime and crafts at the John Tomay Memorial Library.
URL:https://cccld.org/event/jtml-storytime-10/2023-12-07/
LOCATION:John Tomay Memorial Library\, 605 6th Street\, Georgetown\, CO\, 80444\, United States
CATEGORIES:Kids,Library Events
GEO:39.7061997;-105.6974142
X-APPLE-STRUCTURED-LOCATION;VALUE=URI;X-ADDRESS=John Tomay Memorial Library 605 6th Street Georgetown CO 80444 United States;X-APPLE-RADIUS=500;X-TITLE=605 6th Street:geo:-105.6974142,39.7061997
END:VEVENT
BEGIN:VEVENT
DTSTART;TZID=America/Denver:20231203T100000
DTEND;TZID=America/Denver:20231203T160000
DTSTAMP:20260419T160549
CREATED:20231127T172511Z
LAST-MODIFIED:20231127T172547Z
UID:10005466-1701597600-1701619200@cccld.org
SUMMARY:JTML Friends Book Sale
DESCRIPTION:Support the Friends of the Georgetown Library and stop by their annual book sale during the Georgetown Christmas Market.
URL:https://cccld.org/event/jtml-friends-book-sale-4/2023-12-03/
LOCATION:John Tomay Memorial Library\, 605 6th Street\, Georgetown\, CO\, 80444\, United States
CATEGORIES:Adults,Community Events,Kids,Library Events,Teens
GEO:39.7061997;-105.6974142
X-APPLE-STRUCTURED-LOCATION;VALUE=URI;X-ADDRESS=John Tomay Memorial Library 605 6th Street Georgetown CO 80444 United States;X-APPLE-RADIUS=500;X-TITLE=605 6th Street:geo:-105.6974142,39.7061997
END:VEVENT
BEGIN:VEVENT
DTSTART;TZID=America/Denver:20231203T090000
DTEND;TZID=America/Denver:20231203T140000
DTSTAMP:20260419T160549
CREATED:20230814T210706Z
LAST-MODIFIED:20231127T172041Z
UID:10006394-1701594000-1701612000@cccld.org
SUMMARY:JTML-Winter Craft Workshops - Georgetown Christmas Market
DESCRIPTION:All kids are welcome at the John Tomay Memorial Library for creative crafts and fun during the Georgetown Christmas Market.
URL:https://cccld.org/event/winter-craft-workshops-georgetown-christmas-market-2/2023-12-03/
LOCATION:John Tomay Memorial Library\, 605 6th Street\, Georgetown\, CO\, 80444\, United States
CATEGORIES:Adults,Kids,Library Events,Teens
GEO:39.7061997;-105.6974142
X-APPLE-STRUCTURED-LOCATION;VALUE=URI;X-ADDRESS=John Tomay Memorial Library 605 6th Street Georgetown CO 80444 United States;X-APPLE-RADIUS=500;X-TITLE=605 6th Street:geo:-105.6974142,39.7061997
END:VEVENT
BEGIN:VEVENT
DTSTART;TZID=America/Denver:20231202T100000
DTEND;TZID=America/Denver:20231202T160000
DTSTAMP:20260419T160549
CREATED:20231127T172511Z
LAST-MODIFIED:20231127T172547Z
UID:10005465-1701511200-1701532800@cccld.org
SUMMARY:JTML Friends Book Sale
DESCRIPTION:Support the Friends of the Georgetown Library and stop by their annual book sale during the Georgetown Christmas Market.
URL:https://cccld.org/event/jtml-friends-book-sale-4/2023-12-02/
LOCATION:John Tomay Memorial Library\, 605 6th Street\, Georgetown\, CO\, 80444\, United States
CATEGORIES:Adults,Community Events,Kids,Library Events,Teens
GEO:39.7061997;-105.6974142
X-APPLE-STRUCTURED-LOCATION;VALUE=URI;X-ADDRESS=John Tomay Memorial Library 605 6th Street Georgetown CO 80444 United States;X-APPLE-RADIUS=500;X-TITLE=605 6th Street:geo:-105.6974142,39.7061997
END:VEVENT
BEGIN:VEVENT
DTSTART;TZID=America/Denver:20231202T090000
DTEND;TZID=America/Denver:20231202T140000
DTSTAMP:20260419T160549
CREATED:20230814T210706Z
LAST-MODIFIED:20231127T172041Z
UID:10006393-1701507600-1701525600@cccld.org
SUMMARY:JTML-Winter Craft Workshops - Georgetown Christmas Market
DESCRIPTION:All kids are welcome at the John Tomay Memorial Library for creative crafts and fun during the Georgetown Christmas Market.
URL:https://cccld.org/event/winter-craft-workshops-georgetown-christmas-market-2/2023-12-02/
LOCATION:John Tomay Memorial Library\, 605 6th Street\, Georgetown\, CO\, 80444\, United States
CATEGORIES:Adults,Kids,Library Events,Teens
GEO:39.7061997;-105.6974142
X-APPLE-STRUCTURED-LOCATION;VALUE=URI;X-ADDRESS=John Tomay Memorial Library 605 6th Street Georgetown CO 80444 United States;X-APPLE-RADIUS=500;X-TITLE=605 6th Street:geo:-105.6974142,39.7061997
END:VEVENT
BEGIN:VEVENT
DTSTART;TZID=America/Denver:20231130T111500
DTEND;TZID=America/Denver:20231130T121500
DTSTAMP:20260419T160549
CREATED:20230727T161856Z
LAST-MODIFIED:20231129T162744Z
UID:10006340-1701342900-1701346500@cccld.org
SUMMARY:JTML Storytime
DESCRIPTION:Join us for storytime and crafts at the John Tomay Memorial Library.
URL:https://cccld.org/event/jtml-storytime-10/2023-11-30/
LOCATION:John Tomay Memorial Library\, 605 6th Street\, Georgetown\, CO\, 80444\, United States
CATEGORIES:Kids,Library Events
GEO:39.7061997;-105.6974142
X-APPLE-STRUCTURED-LOCATION;VALUE=URI;X-ADDRESS=John Tomay Memorial Library 605 6th Street Georgetown CO 80444 United States;X-APPLE-RADIUS=500;X-TITLE=605 6th Street:geo:-105.6974142,39.7061997
END:VEVENT
BEGIN:VEVENT
DTSTART;TZID=America/Denver:20231125T170000
DTEND;TZID=America/Denver:20231125T180000
DTSTAMP:20260419T160549
CREATED:20230814T205942Z
LAST-MODIFIED:20230814T205942Z
UID:10006390-1700931600-1700935200@cccld.org
SUMMARY:Georgetown Tree Lighting & Cookies
DESCRIPTION:Find the library table at the Georgetown Tree Lighting for a yummy treat.
URL:https://cccld.org/event/georgetown-tree-lighting-cookies/
LOCATION:John Tomay Memorial Library\, 605 6th Street\, Georgetown\, CO\, 80444\, United States
CATEGORIES:Adults,Community Events,Kids,Library Events,Teens
GEO:39.7061997;-105.6974142
X-APPLE-STRUCTURED-LOCATION;VALUE=URI;X-ADDRESS=John Tomay Memorial Library 605 6th Street Georgetown CO 80444 United States;X-APPLE-RADIUS=500;X-TITLE=605 6th Street:geo:-105.6974142,39.7061997
END:VEVENT
BEGIN:VEVENT
DTSTART;TZID=America/Denver:20231123T111500
DTEND;TZID=America/Denver:20231123T121500
DTSTAMP:20260419T160549
CREATED:20230727T161856Z
LAST-MODIFIED:20231129T162744Z
UID:10006339-1700738100-1700741700@cccld.org
SUMMARY:JTML Storytime
DESCRIPTION:Join us for storytime and crafts at the John Tomay Memorial Library.
URL:https://cccld.org/event/jtml-storytime-10/2023-11-23/
LOCATION:John Tomay Memorial Library\, 605 6th Street\, Georgetown\, CO\, 80444\, United States
CATEGORIES:Kids,Library Events
GEO:39.7061997;-105.6974142
X-APPLE-STRUCTURED-LOCATION;VALUE=URI;X-ADDRESS=John Tomay Memorial Library 605 6th Street Georgetown CO 80444 United States;X-APPLE-RADIUS=500;X-TITLE=605 6th Street:geo:-105.6974142,39.7061997
END:VEVENT
END:VCALENDAR