BEGIN:VCALENDAR
VERSION:2.0
PRODID:-//Clear Creek County Library District - ECPv6.15.16//NONSGML v1.0//EN
CALSCALE:GREGORIAN
METHOD:PUBLISH
X-WR-CALNAME:Clear Creek County Library District
X-ORIGINAL-URL:https://cccld.org
X-WR-CALDESC:Events for Clear Creek County Library District
REFRESH-INTERVAL;VALUE=DURATION:PT1H
X-Robots-Tag:noindex
X-PUBLISHED-TTL:PT1H
BEGIN:VTIMEZONE
TZID:America/Denver
BEGIN:DAYLIGHT
TZOFFSETFROM:-0700
TZOFFSETTO:-0600
TZNAME:MDT
DTSTART:20210314T090000
END:DAYLIGHT
BEGIN:STANDARD
TZOFFSETFROM:-0600
TZOFFSETTO:-0700
TZNAME:MST
DTSTART:20211107T080000
END:STANDARD
BEGIN:DAYLIGHT
TZOFFSETFROM:-0700
TZOFFSETTO:-0600
TZNAME:MDT
DTSTART:20220313T090000
END:DAYLIGHT
BEGIN:STANDARD
TZOFFSETFROM:-0600
TZOFFSETTO:-0700
TZNAME:MST
DTSTART:20221106T080000
END:STANDARD
BEGIN:DAYLIGHT
TZOFFSETFROM:-0700
TZOFFSETTO:-0600
TZNAME:MDT
DTSTART:20230312T090000
END:DAYLIGHT
BEGIN:STANDARD
TZOFFSETFROM:-0600
TZOFFSETTO:-0700
TZNAME:MST
DTSTART:20231105T080000
END:STANDARD
BEGIN:DAYLIGHT
TZOFFSETFROM:-0700
TZOFFSETTO:-0600
TZNAME:MDT
DTSTART:20240310T090000
END:DAYLIGHT
BEGIN:STANDARD
TZOFFSETFROM:-0600
TZOFFSETTO:-0700
TZNAME:MST
DTSTART:20241103T080000
END:STANDARD
END:VTIMEZONE
BEGIN:VEVENT
DTSTART;TZID=America/Denver:20230119T111500
DTEND;TZID=America/Denver:20230119T111500
DTSTAMP:20260420T063846
CREATED:20220823T161604Z
LAST-MODIFIED:20230601T154437Z
UID:10005893-1674126900-1674126900@cccld.org
SUMMARY:JTML Storytime
DESCRIPTION:Join us for storytime and crafts at the John Tomay Memorial Library.
URL:https://cccld.org/event/jtml-storytime-9/2023-01-19/
LOCATION:John Tomay Memorial Library\, 605 6th Street\, Georgetown\, CO\, 80444\, United States
CATEGORIES:Kids,Library Events
GEO:39.7061997;-105.6974142
X-APPLE-STRUCTURED-LOCATION;VALUE=URI;X-ADDRESS=John Tomay Memorial Library 605 6th Street Georgetown CO 80444 United States;X-APPLE-RADIUS=500;X-TITLE=605 6th Street:geo:-105.6974142,39.7061997
END:VEVENT
BEGIN:VEVENT
DTSTART;TZID=America/Denver:20230112T173000
DTEND;TZID=America/Denver:20230112T183000
DTSTAMP:20260420T063846
CREATED:20221212T185755Z
LAST-MODIFIED:20230124T221704Z
UID:10005258-1673544600-1673548200@cccld.org
SUMMARY:JTML Adult Craft
DESCRIPTION:Do you love to craft? Or are you craft-curious? Get creative and connect with other crafty patrons at our monthly craft workshops! No experience is necessary and all workshops are free. January’s craft is Affirmation Stones . Please email chris@cccld.org to register and for additional information.
URL:https://cccld.org/event/jtml-adult-craft-8/
LOCATION:John Tomay Memorial Library\, 605 6th Street\, Georgetown\, CO\, 80444\, United States
CATEGORIES:Adults,Library Events
GEO:39.7061997;-105.6974142
X-APPLE-STRUCTURED-LOCATION;VALUE=URI;X-ADDRESS=John Tomay Memorial Library 605 6th Street Georgetown CO 80444 United States;X-APPLE-RADIUS=500;X-TITLE=605 6th Street:geo:-105.6974142,39.7061997
END:VEVENT
BEGIN:VEVENT
DTSTART;TZID=America/Denver:20230112T111500
DTEND;TZID=America/Denver:20230112T111500
DTSTAMP:20260420T063846
CREATED:20220823T161604Z
LAST-MODIFIED:20230601T154437Z
UID:10005892-1673522100-1673522100@cccld.org
SUMMARY:JTML Storytime
DESCRIPTION:Join us for storytime and crafts at the John Tomay Memorial Library.
URL:https://cccld.org/event/jtml-storytime-9/2023-01-12/
LOCATION:John Tomay Memorial Library\, 605 6th Street\, Georgetown\, CO\, 80444\, United States
CATEGORIES:Kids,Library Events
GEO:39.7061997;-105.6974142
X-APPLE-STRUCTURED-LOCATION;VALUE=URI;X-ADDRESS=John Tomay Memorial Library 605 6th Street Georgetown CO 80444 United States;X-APPLE-RADIUS=500;X-TITLE=605 6th Street:geo:-105.6974142,39.7061997
END:VEVENT
BEGIN:VEVENT
DTSTART;TZID=America/Denver:20230105T111500
DTEND;TZID=America/Denver:20230105T111500
DTSTAMP:20260420T063846
CREATED:20220823T161604Z
LAST-MODIFIED:20230601T154437Z
UID:10005891-1672917300-1672917300@cccld.org
SUMMARY:JTML Storytime
DESCRIPTION:Join us for storytime and crafts at the John Tomay Memorial Library.
URL:https://cccld.org/event/jtml-storytime-9/2023-01-05/
LOCATION:John Tomay Memorial Library\, 605 6th Street\, Georgetown\, CO\, 80444\, United States
CATEGORIES:Kids,Library Events
GEO:39.7061997;-105.6974142
X-APPLE-STRUCTURED-LOCATION;VALUE=URI;X-ADDRESS=John Tomay Memorial Library 605 6th Street Georgetown CO 80444 United States;X-APPLE-RADIUS=500;X-TITLE=605 6th Street:geo:-105.6974142,39.7061997
END:VEVENT
BEGIN:VEVENT
DTSTART;TZID=America/Denver:20221229T111500
DTEND;TZID=America/Denver:20221229T111500
DTSTAMP:20260420T063846
CREATED:20220823T161604Z
LAST-MODIFIED:20230601T154437Z
UID:10005890-1672312500-1672312500@cccld.org
SUMMARY:JTML Storytime
DESCRIPTION:Join us for storytime and crafts at the John Tomay Memorial Library.
URL:https://cccld.org/event/jtml-storytime-9/2022-12-29/
LOCATION:John Tomay Memorial Library\, 605 6th Street\, Georgetown\, CO\, 80444\, United States
CATEGORIES:Kids,Library Events
GEO:39.7061997;-105.6974142
X-APPLE-STRUCTURED-LOCATION;VALUE=URI;X-ADDRESS=John Tomay Memorial Library 605 6th Street Georgetown CO 80444 United States;X-APPLE-RADIUS=500;X-TITLE=605 6th Street:geo:-105.6974142,39.7061997
END:VEVENT
BEGIN:VEVENT
DTSTART;TZID=America/Denver:20221222T111500
DTEND;TZID=America/Denver:20221222T111500
DTSTAMP:20260420T063846
CREATED:20220823T161604Z
LAST-MODIFIED:20230601T154437Z
UID:10005889-1671707700-1671707700@cccld.org
SUMMARY:JTML Storytime
DESCRIPTION:Join us for storytime and crafts at the John Tomay Memorial Library.
URL:https://cccld.org/event/jtml-storytime-9/2022-12-22/
LOCATION:John Tomay Memorial Library\, 605 6th Street\, Georgetown\, CO\, 80444\, United States
CATEGORIES:Kids,Library Events
GEO:39.7061997;-105.6974142
X-APPLE-STRUCTURED-LOCATION;VALUE=URI;X-ADDRESS=John Tomay Memorial Library 605 6th Street Georgetown CO 80444 United States;X-APPLE-RADIUS=500;X-TITLE=605 6th Street:geo:-105.6974142,39.7061997
END:VEVENT
BEGIN:VEVENT
DTSTART;TZID=America/Denver:20221215T111500
DTEND;TZID=America/Denver:20221215T111500
DTSTAMP:20260420T063846
CREATED:20220823T161604Z
LAST-MODIFIED:20230601T154437Z
UID:10005888-1671102900-1671102900@cccld.org
SUMMARY:JTML Storytime
DESCRIPTION:Join us for storytime and crafts at the John Tomay Memorial Library.
URL:https://cccld.org/event/jtml-storytime-9/2022-12-15/
LOCATION:John Tomay Memorial Library\, 605 6th Street\, Georgetown\, CO\, 80444\, United States
CATEGORIES:Kids,Library Events
GEO:39.7061997;-105.6974142
X-APPLE-STRUCTURED-LOCATION;VALUE=URI;X-ADDRESS=John Tomay Memorial Library 605 6th Street Georgetown CO 80444 United States;X-APPLE-RADIUS=500;X-TITLE=605 6th Street:geo:-105.6974142,39.7061997
END:VEVENT
BEGIN:VEVENT
DTSTART;TZID=America/Denver:20221211T100000
DTEND;TZID=America/Denver:20221211T160000
DTSTAMP:20260420T063846
CREATED:20221006T171430Z
LAST-MODIFIED:20221006T171929Z
UID:10005996-1670752800-1670774400@cccld.org
SUMMARY:JTML Friends Book Sale
DESCRIPTION:Support the Friends of the Georgetown Library and stop by their annual book sale during the Georgetown Christmas Market.
URL:https://cccld.org/event/jtml-friends-book-sale/2022-12-11/
LOCATION:John Tomay Memorial Library\, 605 6th Street\, Georgetown\, CO\, 80444\, United States
CATEGORIES:Adults,Community Events,Kids,Library Events,Teens
GEO:39.7061997;-105.6974142
X-APPLE-STRUCTURED-LOCATION;VALUE=URI;X-ADDRESS=John Tomay Memorial Library 605 6th Street Georgetown CO 80444 United States;X-APPLE-RADIUS=500;X-TITLE=605 6th Street:geo:-105.6974142,39.7061997
END:VEVENT
BEGIN:VEVENT
DTSTART;TZID=America/Denver:20221211T090000
DTEND;TZID=America/Denver:20221211T130000
DTSTAMP:20260420T063846
CREATED:20221006T171139Z
LAST-MODIFIED:20221117T201926Z
UID:10005992-1670749200-1670763600@cccld.org
SUMMARY:Winter Craft Workshops - Georgetown Christmas Market
DESCRIPTION:Free creative fun for kids during the Georgetown Christmas Market.
URL:https://cccld.org/event/winter-craft-workshops-georgetown-christmas-market/2022-12-11/
LOCATION:John Tomay Memorial Library\, 605 6th Street\, Georgetown\, CO\, 80444\, United States
CATEGORIES:Adults,Community Events,Kids,Library Events,Teens
GEO:39.7061997;-105.6974142
X-APPLE-STRUCTURED-LOCATION;VALUE=URI;X-ADDRESS=John Tomay Memorial Library 605 6th Street Georgetown CO 80444 United States;X-APPLE-RADIUS=500;X-TITLE=605 6th Street:geo:-105.6974142,39.7061997
END:VEVENT
BEGIN:VEVENT
DTSTART;TZID=America/Denver:20221210T100000
DTEND;TZID=America/Denver:20221210T160000
DTSTAMP:20260420T063846
CREATED:20221006T171430Z
LAST-MODIFIED:20221006T171929Z
UID:10005995-1670666400-1670688000@cccld.org
SUMMARY:JTML Friends Book Sale
DESCRIPTION:Support the Friends of the Georgetown Library and stop by their annual book sale during the Georgetown Christmas Market.
URL:https://cccld.org/event/jtml-friends-book-sale/2022-12-10/
LOCATION:John Tomay Memorial Library\, 605 6th Street\, Georgetown\, CO\, 80444\, United States
CATEGORIES:Adults,Community Events,Kids,Library Events,Teens
GEO:39.7061997;-105.6974142
X-APPLE-STRUCTURED-LOCATION;VALUE=URI;X-ADDRESS=John Tomay Memorial Library 605 6th Street Georgetown CO 80444 United States;X-APPLE-RADIUS=500;X-TITLE=605 6th Street:geo:-105.6974142,39.7061997
END:VEVENT
BEGIN:VEVENT
DTSTART;TZID=America/Denver:20221210T090000
DTEND;TZID=America/Denver:20221210T130000
DTSTAMP:20260420T063846
CREATED:20221006T171139Z
LAST-MODIFIED:20221117T201926Z
UID:10005991-1670662800-1670677200@cccld.org
SUMMARY:Winter Craft Workshops - Georgetown Christmas Market
DESCRIPTION:Free creative fun for kids during the Georgetown Christmas Market.
URL:https://cccld.org/event/winter-craft-workshops-georgetown-christmas-market/2022-12-10/
LOCATION:John Tomay Memorial Library\, 605 6th Street\, Georgetown\, CO\, 80444\, United States
CATEGORIES:Adults,Community Events,Kids,Library Events,Teens
GEO:39.7061997;-105.6974142
X-APPLE-STRUCTURED-LOCATION;VALUE=URI;X-ADDRESS=John Tomay Memorial Library 605 6th Street Georgetown CO 80444 United States;X-APPLE-RADIUS=500;X-TITLE=605 6th Street:geo:-105.6974142,39.7061997
END:VEVENT
BEGIN:VEVENT
DTSTART;TZID=America/Denver:20221208T111500
DTEND;TZID=America/Denver:20221208T111500
DTSTAMP:20260420T063846
CREATED:20220823T161604Z
LAST-MODIFIED:20230601T154437Z
UID:10005887-1670498100-1670498100@cccld.org
SUMMARY:JTML Storytime
DESCRIPTION:Join us for storytime and crafts at the John Tomay Memorial Library.
URL:https://cccld.org/event/jtml-storytime-9/2022-12-08/
LOCATION:John Tomay Memorial Library\, 605 6th Street\, Georgetown\, CO\, 80444\, United States
CATEGORIES:Kids,Library Events
GEO:39.7061997;-105.6974142
X-APPLE-STRUCTURED-LOCATION;VALUE=URI;X-ADDRESS=John Tomay Memorial Library 605 6th Street Georgetown CO 80444 United States;X-APPLE-RADIUS=500;X-TITLE=605 6th Street:geo:-105.6974142,39.7061997
END:VEVENT
BEGIN:VEVENT
DTSTART;TZID=America/Denver:20221204T100000
DTEND;TZID=America/Denver:20221204T160000
DTSTAMP:20260420T063846
CREATED:20221006T171430Z
LAST-MODIFIED:20221006T171929Z
UID:10005994-1670148000-1670169600@cccld.org
SUMMARY:JTML Friends Book Sale
DESCRIPTION:Support the Friends of the Georgetown Library and stop by their annual book sale during the Georgetown Christmas Market.
URL:https://cccld.org/event/jtml-friends-book-sale/2022-12-04/
LOCATION:John Tomay Memorial Library\, 605 6th Street\, Georgetown\, CO\, 80444\, United States
CATEGORIES:Adults,Community Events,Kids,Library Events,Teens
GEO:39.7061997;-105.6974142
X-APPLE-STRUCTURED-LOCATION;VALUE=URI;X-ADDRESS=John Tomay Memorial Library 605 6th Street Georgetown CO 80444 United States;X-APPLE-RADIUS=500;X-TITLE=605 6th Street:geo:-105.6974142,39.7061997
END:VEVENT
BEGIN:VEVENT
DTSTART;TZID=America/Denver:20221204T090000
DTEND;TZID=America/Denver:20221204T130000
DTSTAMP:20260420T063846
CREATED:20221006T171139Z
LAST-MODIFIED:20221117T201926Z
UID:10005990-1670144400-1670158800@cccld.org
SUMMARY:Winter Craft Workshops - Georgetown Christmas Market
DESCRIPTION:Free creative fun for kids during the Georgetown Christmas Market.
URL:https://cccld.org/event/winter-craft-workshops-georgetown-christmas-market/2022-12-04/
LOCATION:John Tomay Memorial Library\, 605 6th Street\, Georgetown\, CO\, 80444\, United States
CATEGORIES:Adults,Community Events,Kids,Library Events,Teens
GEO:39.7061997;-105.6974142
X-APPLE-STRUCTURED-LOCATION;VALUE=URI;X-ADDRESS=John Tomay Memorial Library 605 6th Street Georgetown CO 80444 United States;X-APPLE-RADIUS=500;X-TITLE=605 6th Street:geo:-105.6974142,39.7061997
END:VEVENT
BEGIN:VEVENT
DTSTART;TZID=America/Denver:20221203T100000
DTEND;TZID=America/Denver:20221203T160000
DTSTAMP:20260420T063846
CREATED:20221006T171430Z
LAST-MODIFIED:20221006T171929Z
UID:10005993-1670061600-1670083200@cccld.org
SUMMARY:JTML Friends Book Sale
DESCRIPTION:Support the Friends of the Georgetown Library and stop by their annual book sale during the Georgetown Christmas Market.
URL:https://cccld.org/event/jtml-friends-book-sale/2022-12-03/
LOCATION:John Tomay Memorial Library\, 605 6th Street\, Georgetown\, CO\, 80444\, United States
CATEGORIES:Adults,Community Events,Kids,Library Events,Teens
GEO:39.7061997;-105.6974142
X-APPLE-STRUCTURED-LOCATION;VALUE=URI;X-ADDRESS=John Tomay Memorial Library 605 6th Street Georgetown CO 80444 United States;X-APPLE-RADIUS=500;X-TITLE=605 6th Street:geo:-105.6974142,39.7061997
END:VEVENT
BEGIN:VEVENT
DTSTART;TZID=America/Denver:20221203T090000
DTEND;TZID=America/Denver:20221203T130000
DTSTAMP:20260420T063846
CREATED:20221006T171139Z
LAST-MODIFIED:20221117T201926Z
UID:10005989-1670058000-1670072400@cccld.org
SUMMARY:Winter Craft Workshops - Georgetown Christmas Market
DESCRIPTION:Free creative fun for kids during the Georgetown Christmas Market.
URL:https://cccld.org/event/winter-craft-workshops-georgetown-christmas-market/2022-12-03/
LOCATION:John Tomay Memorial Library\, 605 6th Street\, Georgetown\, CO\, 80444\, United States
CATEGORIES:Adults,Community Events,Kids,Library Events,Teens
GEO:39.7061997;-105.6974142
X-APPLE-STRUCTURED-LOCATION;VALUE=URI;X-ADDRESS=John Tomay Memorial Library 605 6th Street Georgetown CO 80444 United States;X-APPLE-RADIUS=500;X-TITLE=605 6th Street:geo:-105.6974142,39.7061997
END:VEVENT
BEGIN:VEVENT
DTSTART;TZID=America/Denver:20221201T111500
DTEND;TZID=America/Denver:20221201T111500
DTSTAMP:20260420T063846
CREATED:20220823T161604Z
LAST-MODIFIED:20230601T154437Z
UID:10005886-1669893300-1669893300@cccld.org
SUMMARY:JTML Storytime
DESCRIPTION:Join us for storytime and crafts at the John Tomay Memorial Library.
URL:https://cccld.org/event/jtml-storytime-9/2022-12-01/
LOCATION:John Tomay Memorial Library\, 605 6th Street\, Georgetown\, CO\, 80444\, United States
CATEGORIES:Kids,Library Events
GEO:39.7061997;-105.6974142
X-APPLE-STRUCTURED-LOCATION;VALUE=URI;X-ADDRESS=John Tomay Memorial Library 605 6th Street Georgetown CO 80444 United States;X-APPLE-RADIUS=500;X-TITLE=605 6th Street:geo:-105.6974142,39.7061997
END:VEVENT
BEGIN:VEVENT
DTSTART;TZID=America/Denver:20221117T173000
DTEND;TZID=America/Denver:20221117T183000
DTSTAMP:20260420T063846
CREATED:20221006T164045Z
LAST-MODIFIED:20221107T174238Z
UID:10005975-1668706200-1668709800@cccld.org
SUMMARY:JTML Adult Craft
DESCRIPTION:Do you love to craft? Or are you craft-curious? Get creative and connect with other crafty patrons at our monthly craft workshops! No experience is necessary and all workshops are free. November’s craft is Giving Thanks Gift Jars. Please email chris@cccld.org to register and for additional information.
URL:https://cccld.org/event/jtml-adult-craft-7/
LOCATION:John Tomay Memorial Library\, 605 6th Street\, Georgetown\, CO\, 80444\, United States
CATEGORIES:Adults,Library Events
GEO:39.7061997;-105.6974142
X-APPLE-STRUCTURED-LOCATION;VALUE=URI;X-ADDRESS=John Tomay Memorial Library 605 6th Street Georgetown CO 80444 United States;X-APPLE-RADIUS=500;X-TITLE=605 6th Street:geo:-105.6974142,39.7061997
END:VEVENT
BEGIN:VEVENT
DTSTART;TZID=America/Denver:20221117T150000
DTEND;TZID=America/Denver:20221117T160000
DTSTAMP:20260420T063846
CREATED:20221006T165643Z
LAST-MODIFIED:20221006T165643Z
UID:10005985-1668697200-1668700800@cccld.org
SUMMARY:JTML Book Group
DESCRIPTION:Everyone is welcome. Email libby@cccld.org for more information.
URL:https://cccld.org/event/jtml-book-group-11/
LOCATION:John Tomay Memorial Library\, 605 6th Street\, Georgetown\, CO\, 80444\, United States
CATEGORIES:Adults,Library Events
GEO:39.7061997;-105.6974142
X-APPLE-STRUCTURED-LOCATION;VALUE=URI;X-ADDRESS=John Tomay Memorial Library 605 6th Street Georgetown CO 80444 United States;X-APPLE-RADIUS=500;X-TITLE=605 6th Street:geo:-105.6974142,39.7061997
END:VEVENT
BEGIN:VEVENT
DTSTART;TZID=America/Denver:20221117T111500
DTEND;TZID=America/Denver:20221117T111500
DTSTAMP:20260420T063846
CREATED:20220823T161604Z
LAST-MODIFIED:20230601T154437Z
UID:10005885-1668683700-1668683700@cccld.org
SUMMARY:JTML Storytime
DESCRIPTION:Join us for storytime and crafts at the John Tomay Memorial Library.
URL:https://cccld.org/event/jtml-storytime-9/2022-11-17/
LOCATION:John Tomay Memorial Library\, 605 6th Street\, Georgetown\, CO\, 80444\, United States
CATEGORIES:Kids,Library Events
GEO:39.7061997;-105.6974142
X-APPLE-STRUCTURED-LOCATION;VALUE=URI;X-ADDRESS=John Tomay Memorial Library 605 6th Street Georgetown CO 80444 United States;X-APPLE-RADIUS=500;X-TITLE=605 6th Street:geo:-105.6974142,39.7061997
END:VEVENT
BEGIN:VEVENT
DTSTART;TZID=America/Denver:20221112T110000
DTEND;TZID=America/Denver:20221112T140000
DTSTAMP:20260420T063846
CREATED:20221006T164424Z
LAST-MODIFIED:20221006T164424Z
UID:10005977-1668250800-1668261600@cccld.org
SUMMARY:JTML Bighorn Sheep Festival
DESCRIPTION:Stop by the John Tomay Memorial Library for stories and crafts.
URL:https://cccld.org/event/jtml-bighorn-sheep-festival/
LOCATION:John Tomay Memorial Library\, 605 6th Street\, Georgetown\, CO\, 80444\, United States
CATEGORIES:Adults,Kids,Library Events,Teens
GEO:39.7061997;-105.6974142
X-APPLE-STRUCTURED-LOCATION;VALUE=URI;X-ADDRESS=John Tomay Memorial Library 605 6th Street Georgetown CO 80444 United States;X-APPLE-RADIUS=500;X-TITLE=605 6th Street:geo:-105.6974142,39.7061997
END:VEVENT
BEGIN:VEVENT
DTSTART;TZID=America/Denver:20221110T111500
DTEND;TZID=America/Denver:20221110T111500
DTSTAMP:20260420T063846
CREATED:20220823T161604Z
LAST-MODIFIED:20230601T154437Z
UID:10005884-1668078900-1668078900@cccld.org
SUMMARY:JTML Storytime
DESCRIPTION:Join us for storytime and crafts at the John Tomay Memorial Library.
URL:https://cccld.org/event/jtml-storytime-9/2022-11-10/
LOCATION:John Tomay Memorial Library\, 605 6th Street\, Georgetown\, CO\, 80444\, United States
CATEGORIES:Kids,Library Events
GEO:39.7061997;-105.6974142
X-APPLE-STRUCTURED-LOCATION;VALUE=URI;X-ADDRESS=John Tomay Memorial Library 605 6th Street Georgetown CO 80444 United States;X-APPLE-RADIUS=500;X-TITLE=605 6th Street:geo:-105.6974142,39.7061997
END:VEVENT
BEGIN:VEVENT
DTSTART;TZID=America/Denver:20221103T111500
DTEND;TZID=America/Denver:20221103T111500
DTSTAMP:20260420T063846
CREATED:20220823T161604Z
LAST-MODIFIED:20230601T154437Z
UID:10005883-1667474100-1667474100@cccld.org
SUMMARY:JTML Storytime
DESCRIPTION:Join us for storytime and crafts at the John Tomay Memorial Library.
URL:https://cccld.org/event/jtml-storytime-9/2022-11-03/
LOCATION:John Tomay Memorial Library\, 605 6th Street\, Georgetown\, CO\, 80444\, United States
CATEGORIES:Kids,Library Events
GEO:39.7061997;-105.6974142
X-APPLE-STRUCTURED-LOCATION;VALUE=URI;X-ADDRESS=John Tomay Memorial Library 605 6th Street Georgetown CO 80444 United States;X-APPLE-RADIUS=500;X-TITLE=605 6th Street:geo:-105.6974142,39.7061997
END:VEVENT
BEGIN:VEVENT
DTSTART;TZID=America/Denver:20221027T154500
DTEND;TZID=America/Denver:20221027T164500
DTSTAMP:20260420T063846
CREATED:20220823T162546Z
LAST-MODIFIED:20221004T165614Z
UID:10005923-1666885500-1666889100@cccld.org
SUMMARY:JTML Niños Learning Español
DESCRIPTION:Learn basic\, conversational Spanish with our very own Señora Maria at the John Tomay Memorial Library.
URL:https://cccld.org/event/jtml-ninos-learning-espanol/2022-10-27/
LOCATION:John Tomay Memorial Library\, 605 6th Street\, Georgetown\, CO\, 80444\, United States
CATEGORIES:Kids,Library Events,Teens
GEO:39.7061997;-105.6974142
X-APPLE-STRUCTURED-LOCATION;VALUE=URI;X-ADDRESS=John Tomay Memorial Library 605 6th Street Georgetown CO 80444 United States;X-APPLE-RADIUS=500;X-TITLE=605 6th Street:geo:-105.6974142,39.7061997
END:VEVENT
BEGIN:VEVENT
DTSTART;TZID=America/Denver:20221027T111500
DTEND;TZID=America/Denver:20221027T111500
DTSTAMP:20260420T063846
CREATED:20220823T161604Z
LAST-MODIFIED:20230601T154437Z
UID:10005882-1666869300-1666869300@cccld.org
SUMMARY:JTML Storytime
DESCRIPTION:Join us for storytime and crafts at the John Tomay Memorial Library.
URL:https://cccld.org/event/jtml-storytime-9/2022-10-27/
LOCATION:John Tomay Memorial Library\, 605 6th Street\, Georgetown\, CO\, 80444\, United States
CATEGORIES:Kids,Library Events
GEO:39.7061997;-105.6974142
X-APPLE-STRUCTURED-LOCATION;VALUE=URI;X-ADDRESS=John Tomay Memorial Library 605 6th Street Georgetown CO 80444 United States;X-APPLE-RADIUS=500;X-TITLE=605 6th Street:geo:-105.6974142,39.7061997
END:VEVENT
BEGIN:VEVENT
DTSTART;TZID=America/Denver:20221020T154500
DTEND;TZID=America/Denver:20221020T164500
DTSTAMP:20260420T063846
CREATED:20220823T162546Z
LAST-MODIFIED:20221004T165614Z
UID:10005922-1666280700-1666284300@cccld.org
SUMMARY:JTML Niños Learning Español
DESCRIPTION:Learn basic\, conversational Spanish with our very own Señora Maria at the John Tomay Memorial Library.
URL:https://cccld.org/event/jtml-ninos-learning-espanol/2022-10-20/
LOCATION:John Tomay Memorial Library\, 605 6th Street\, Georgetown\, CO\, 80444\, United States
CATEGORIES:Kids,Library Events,Teens
GEO:39.7061997;-105.6974142
X-APPLE-STRUCTURED-LOCATION;VALUE=URI;X-ADDRESS=John Tomay Memorial Library 605 6th Street Georgetown CO 80444 United States;X-APPLE-RADIUS=500;X-TITLE=605 6th Street:geo:-105.6974142,39.7061997
END:VEVENT
BEGIN:VEVENT
DTSTART;TZID=America/Denver:20221020T150000
DTEND;TZID=America/Denver:20221020T160000
DTSTAMP:20260420T063846
CREATED:20220920T162002Z
LAST-MODIFIED:20220920T162002Z
UID:10005173-1666278000-1666281600@cccld.org
SUMMARY:JTML Book Group
DESCRIPTION:Everyone is welcome. Email libby@cccld.org for more information.
URL:https://cccld.org/event/jtml-book-group-10/
LOCATION:John Tomay Memorial Library\, 605 6th Street\, Georgetown\, CO\, 80444\, United States
CATEGORIES:Adults,Library Events
GEO:39.7061997;-105.6974142
X-APPLE-STRUCTURED-LOCATION;VALUE=URI;X-ADDRESS=John Tomay Memorial Library 605 6th Street Georgetown CO 80444 United States;X-APPLE-RADIUS=500;X-TITLE=605 6th Street:geo:-105.6974142,39.7061997
END:VEVENT
BEGIN:VEVENT
DTSTART;TZID=America/Denver:20221020T111500
DTEND;TZID=America/Denver:20221020T111500
DTSTAMP:20260420T063846
CREATED:20220823T161604Z
LAST-MODIFIED:20230601T154437Z
UID:10005881-1666264500-1666264500@cccld.org
SUMMARY:JTML Storytime
DESCRIPTION:Join us for storytime and crafts at the John Tomay Memorial Library.
URL:https://cccld.org/event/jtml-storytime-9/2022-10-20/
LOCATION:John Tomay Memorial Library\, 605 6th Street\, Georgetown\, CO\, 80444\, United States
CATEGORIES:Kids,Library Events
GEO:39.7061997;-105.6974142
X-APPLE-STRUCTURED-LOCATION;VALUE=URI;X-ADDRESS=John Tomay Memorial Library 605 6th Street Georgetown CO 80444 United States;X-APPLE-RADIUS=500;X-TITLE=605 6th Street:geo:-105.6974142,39.7061997
END:VEVENT
BEGIN:VEVENT
DTSTART;TZID=America/Denver:20221013T154500
DTEND;TZID=America/Denver:20221013T164500
DTSTAMP:20260420T063846
CREATED:20220823T162546Z
LAST-MODIFIED:20221004T165614Z
UID:10005921-1665675900-1665679500@cccld.org
SUMMARY:JTML Niños Learning Español
DESCRIPTION:Learn basic\, conversational Spanish with our very own Señora Maria at the John Tomay Memorial Library.
URL:https://cccld.org/event/jtml-ninos-learning-espanol/2022-10-13/
LOCATION:John Tomay Memorial Library\, 605 6th Street\, Georgetown\, CO\, 80444\, United States
CATEGORIES:Kids,Library Events,Teens
GEO:39.7061997;-105.6974142
X-APPLE-STRUCTURED-LOCATION;VALUE=URI;X-ADDRESS=John Tomay Memorial Library 605 6th Street Georgetown CO 80444 United States;X-APPLE-RADIUS=500;X-TITLE=605 6th Street:geo:-105.6974142,39.7061997
END:VEVENT
BEGIN:VEVENT
DTSTART;TZID=America/Denver:20221013T111500
DTEND;TZID=America/Denver:20221013T111500
DTSTAMP:20260420T063846
CREATED:20220823T161604Z
LAST-MODIFIED:20230601T154437Z
UID:10005880-1665659700-1665659700@cccld.org
SUMMARY:JTML Storytime
DESCRIPTION:Join us for storytime and crafts at the John Tomay Memorial Library.
URL:https://cccld.org/event/jtml-storytime-9/2022-10-13/
LOCATION:John Tomay Memorial Library\, 605 6th Street\, Georgetown\, CO\, 80444\, United States
CATEGORIES:Kids,Library Events
GEO:39.7061997;-105.6974142
X-APPLE-STRUCTURED-LOCATION;VALUE=URI;X-ADDRESS=John Tomay Memorial Library 605 6th Street Georgetown CO 80444 United States;X-APPLE-RADIUS=500;X-TITLE=605 6th Street:geo:-105.6974142,39.7061997
END:VEVENT
END:VCALENDAR