BEGIN:VCALENDAR
VERSION:2.0
PRODID:-//Clear Creek County Library District - ECPv6.15.16//NONSGML v1.0//EN
CALSCALE:GREGORIAN
METHOD:PUBLISH
X-ORIGINAL-URL:https://cccld.org
X-WR-CALDESC:Events for Clear Creek County Library District
REFRESH-INTERVAL;VALUE=DURATION:PT1H
X-Robots-Tag:noindex
X-PUBLISHED-TTL:PT1H
BEGIN:VTIMEZONE
TZID:America/Denver
BEGIN:DAYLIGHT
TZOFFSETFROM:-0700
TZOFFSETTO:-0600
TZNAME:MDT
DTSTART:20190310T090000
END:DAYLIGHT
BEGIN:STANDARD
TZOFFSETFROM:-0600
TZOFFSETTO:-0700
TZNAME:MST
DTSTART:20191103T080000
END:STANDARD
BEGIN:DAYLIGHT
TZOFFSETFROM:-0700
TZOFFSETTO:-0600
TZNAME:MDT
DTSTART:20200308T090000
END:DAYLIGHT
BEGIN:STANDARD
TZOFFSETFROM:-0600
TZOFFSETTO:-0700
TZNAME:MST
DTSTART:20201101T080000
END:STANDARD
BEGIN:DAYLIGHT
TZOFFSETFROM:-0700
TZOFFSETTO:-0600
TZNAME:MDT
DTSTART:20210314T090000
END:DAYLIGHT
BEGIN:STANDARD
TZOFFSETFROM:-0600
TZOFFSETTO:-0700
TZNAME:MST
DTSTART:20211107T080000
END:STANDARD
BEGIN:DAYLIGHT
TZOFFSETFROM:-0700
TZOFFSETTO:-0600
TZNAME:MDT
DTSTART:20220313T090000
END:DAYLIGHT
BEGIN:STANDARD
TZOFFSETFROM:-0600
TZOFFSETTO:-0700
TZNAME:MST
DTSTART:20221106T080000
END:STANDARD
BEGIN:DAYLIGHT
TZOFFSETFROM:-0700
TZOFFSETTO:-0600
TZNAME:MDT
DTSTART:20230312T090000
END:DAYLIGHT
BEGIN:STANDARD
TZOFFSETFROM:-0600
TZOFFSETTO:-0700
TZNAME:MST
DTSTART:20231105T080000
END:STANDARD
END:VTIMEZONE
BEGIN:VEVENT
DTSTART;TZID=America/Denver:20220526T111500
DTEND;TZID=America/Denver:20220526T111500
DTSTAMP:20260420T143450
CREATED:20211026T215648Z
LAST-MODIFIED:20220301T221228Z
UID:10005676-1653563700-1653563700@cccld.org
SUMMARY:JTML Storytime
DESCRIPTION:Join us for storytime and crafts at the John Tomay Memorial Library.
URL:https://cccld.org/event/jtml-storytime-8/2022-05-26/
LOCATION:John Tomay Memorial Library\, 605 6th Street\, Georgetown\, CO\, 80444\, United States
CATEGORIES:Kids,Library Events
GEO:39.7061997;-105.6974142
X-APPLE-STRUCTURED-LOCATION;VALUE=URI;X-ADDRESS=John Tomay Memorial Library 605 6th Street Georgetown CO 80444 United States;X-APPLE-RADIUS=500;X-TITLE=605 6th Street:geo:-105.6974142,39.7061997
END:VEVENT
BEGIN:VEVENT
DTSTART;TZID=America/Denver:20220519T111500
DTEND;TZID=America/Denver:20220519T111500
DTSTAMP:20260420T143450
CREATED:20211026T215648Z
LAST-MODIFIED:20220301T221228Z
UID:10005675-1652958900-1652958900@cccld.org
SUMMARY:JTML Storytime
DESCRIPTION:Join us for storytime and crafts at the John Tomay Memorial Library.
URL:https://cccld.org/event/jtml-storytime-8/2022-05-19/
LOCATION:John Tomay Memorial Library\, 605 6th Street\, Georgetown\, CO\, 80444\, United States
CATEGORIES:Kids,Library Events
GEO:39.7061997;-105.6974142
X-APPLE-STRUCTURED-LOCATION;VALUE=URI;X-ADDRESS=John Tomay Memorial Library 605 6th Street Georgetown CO 80444 United States;X-APPLE-RADIUS=500;X-TITLE=605 6th Street:geo:-105.6974142,39.7061997
END:VEVENT
BEGIN:VEVENT
DTSTART;TZID=America/Denver:20220512T154500
DTEND;TZID=America/Denver:20220512T164500
DTSTAMP:20260420T143450
CREATED:20220412T215639Z
LAST-MODIFIED:20220412T215639Z
UID:10005773-1652370300-1652373900@cccld.org
SUMMARY:JTML -Werewolf Game
DESCRIPTION:You can’t beat a good Werewolf Game! Join the fun at the Idaho Springs Public Library.
URL:https://cccld.org/event/jtml-werewolf-game/
LOCATION:John Tomay Memorial Library\, 605 6th Street\, Georgetown\, CO\, 80444\, United States
CATEGORIES:Kids,Library Events
GEO:39.7061997;-105.6974142
X-APPLE-STRUCTURED-LOCATION;VALUE=URI;X-ADDRESS=John Tomay Memorial Library 605 6th Street Georgetown CO 80444 United States;X-APPLE-RADIUS=500;X-TITLE=605 6th Street:geo:-105.6974142,39.7061997
END:VEVENT
BEGIN:VEVENT
DTSTART;TZID=America/Denver:20220512T111500
DTEND;TZID=America/Denver:20220512T111500
DTSTAMP:20260420T143450
CREATED:20211026T215648Z
LAST-MODIFIED:20220301T221228Z
UID:10005674-1652354100-1652354100@cccld.org
SUMMARY:JTML Storytime
DESCRIPTION:Join us for storytime and crafts at the John Tomay Memorial Library.
URL:https://cccld.org/event/jtml-storytime-8/2022-05-12/
LOCATION:John Tomay Memorial Library\, 605 6th Street\, Georgetown\, CO\, 80444\, United States
CATEGORIES:Kids,Library Events
GEO:39.7061997;-105.6974142
X-APPLE-STRUCTURED-LOCATION;VALUE=URI;X-ADDRESS=John Tomay Memorial Library 605 6th Street Georgetown CO 80444 United States;X-APPLE-RADIUS=500;X-TITLE=605 6th Street:geo:-105.6974142,39.7061997
END:VEVENT
BEGIN:VEVENT
DTSTART;TZID=America/Denver:20220505T111500
DTEND;TZID=America/Denver:20220505T111500
DTSTAMP:20260420T143450
CREATED:20211026T215648Z
LAST-MODIFIED:20220301T221228Z
UID:10005673-1651749300-1651749300@cccld.org
SUMMARY:JTML Storytime
DESCRIPTION:Join us for storytime and crafts at the John Tomay Memorial Library.
URL:https://cccld.org/event/jtml-storytime-8/2022-05-05/
LOCATION:John Tomay Memorial Library\, 605 6th Street\, Georgetown\, CO\, 80444\, United States
CATEGORIES:Kids,Library Events
GEO:39.7061997;-105.6974142
X-APPLE-STRUCTURED-LOCATION;VALUE=URI;X-ADDRESS=John Tomay Memorial Library 605 6th Street Georgetown CO 80444 United States;X-APPLE-RADIUS=500;X-TITLE=605 6th Street:geo:-105.6974142,39.7061997
END:VEVENT
BEGIN:VEVENT
DTSTART;TZID=America/Denver:20220428T154500
DTEND;TZID=America/Denver:20220428T164500
DTSTAMP:20260420T143450
CREATED:20220328T162259Z
LAST-MODIFIED:20220328T162546Z
UID:10005757-1651160700-1651164300@cccld.org
SUMMARY:JTML Crafternoon
DESCRIPTION:Join the fun at the John Tomay Memorial Library. Awesome Eco craft.
URL:https://cccld.org/event/jtml-crafternoon-2/
LOCATION:John Tomay Memorial Library\, 605 6th Street\, Georgetown\, CO\, 80444\, United States
CATEGORIES:Kids,Library Events,Teens
GEO:39.7061997;-105.6974142
X-APPLE-STRUCTURED-LOCATION;VALUE=URI;X-ADDRESS=John Tomay Memorial Library 605 6th Street Georgetown CO 80444 United States;X-APPLE-RADIUS=500;X-TITLE=605 6th Street:geo:-105.6974142,39.7061997
END:VEVENT
BEGIN:VEVENT
DTSTART;TZID=America/Denver:20220428T111500
DTEND;TZID=America/Denver:20220428T111500
DTSTAMP:20260420T143450
CREATED:20211026T215648Z
LAST-MODIFIED:20220301T221228Z
UID:10005672-1651144500-1651144500@cccld.org
SUMMARY:JTML Storytime
DESCRIPTION:Join us for storytime and crafts at the John Tomay Memorial Library.
URL:https://cccld.org/event/jtml-storytime-8/2022-04-28/
LOCATION:John Tomay Memorial Library\, 605 6th Street\, Georgetown\, CO\, 80444\, United States
CATEGORIES:Kids,Library Events
GEO:39.7061997;-105.6974142
X-APPLE-STRUCTURED-LOCATION;VALUE=URI;X-ADDRESS=John Tomay Memorial Library 605 6th Street Georgetown CO 80444 United States;X-APPLE-RADIUS=500;X-TITLE=605 6th Street:geo:-105.6974142,39.7061997
END:VEVENT
BEGIN:VEVENT
DTSTART;TZID=America/Denver:20220421T111500
DTEND;TZID=America/Denver:20220421T111500
DTSTAMP:20260420T143450
CREATED:20211026T215648Z
LAST-MODIFIED:20220301T221228Z
UID:10005671-1650539700-1650539700@cccld.org
SUMMARY:JTML Storytime
DESCRIPTION:Join us for storytime and crafts at the John Tomay Memorial Library.
URL:https://cccld.org/event/jtml-storytime-8/2022-04-21/
LOCATION:John Tomay Memorial Library\, 605 6th Street\, Georgetown\, CO\, 80444\, United States
CATEGORIES:Kids,Library Events
GEO:39.7061997;-105.6974142
X-APPLE-STRUCTURED-LOCATION;VALUE=URI;X-ADDRESS=John Tomay Memorial Library 605 6th Street Georgetown CO 80444 United States;X-APPLE-RADIUS=500;X-TITLE=605 6th Street:geo:-105.6974142,39.7061997
END:VEVENT
BEGIN:VEVENT
DTSTART;TZID=America/Denver:20220415T154500
DTEND;TZID=America/Denver:20220415T164500
DTSTAMP:20260420T143450
CREATED:20220328T155918Z
LAST-MODIFIED:20220328T155918Z
UID:10005124-1650037500-1650041100@cccld.org
SUMMARY:JTML Easter Egg Workshop
DESCRIPTION:Join the fun and dye Easter eggs at the John Tomay Memorial Library.
URL:https://cccld.org/event/jtml-easter-egg-workshop/
LOCATION:John Tomay Memorial Library\, 605 6th Street\, Georgetown\, CO\, 80444\, United States
CATEGORIES:Kids,Library Events,Teens
GEO:39.7061997;-105.6974142
X-APPLE-STRUCTURED-LOCATION;VALUE=URI;X-ADDRESS=John Tomay Memorial Library 605 6th Street Georgetown CO 80444 United States;X-APPLE-RADIUS=500;X-TITLE=605 6th Street:geo:-105.6974142,39.7061997
END:VEVENT
BEGIN:VEVENT
DTSTART;TZID=America/Denver:20220414T173000
DTEND;TZID=America/Denver:20220414T183000
DTSTAMP:20260420T143450
CREATED:20220328T155417Z
LAST-MODIFIED:20220328T164551Z
UID:10005122-1649957400-1649961000@cccld.org
SUMMARY:JTML Adult Craft
DESCRIPTION:Join us each month for a great adult craft at the John Tomay Memorial Library. This month’s craft is a Victorian Collage. For information and to register email chris@cccld.org
URL:https://cccld.org/event/jtml-adult-craft-5/
LOCATION:John Tomay Memorial Library\, 605 6th Street\, Georgetown\, CO\, 80444\, United States
CATEGORIES:Adults,Library Events
GEO:39.7061997;-105.6974142
X-APPLE-STRUCTURED-LOCATION;VALUE=URI;X-ADDRESS=John Tomay Memorial Library 605 6th Street Georgetown CO 80444 United States;X-APPLE-RADIUS=500;X-TITLE=605 6th Street:geo:-105.6974142,39.7061997
END:VEVENT
BEGIN:VEVENT
DTSTART;TZID=America/Denver:20220414T111500
DTEND;TZID=America/Denver:20220414T111500
DTSTAMP:20260420T143450
CREATED:20211026T215648Z
LAST-MODIFIED:20220301T221228Z
UID:10005670-1649934900-1649934900@cccld.org
SUMMARY:JTML Storytime
DESCRIPTION:Join us for storytime and crafts at the John Tomay Memorial Library.
URL:https://cccld.org/event/jtml-storytime-8/2022-04-14/
LOCATION:John Tomay Memorial Library\, 605 6th Street\, Georgetown\, CO\, 80444\, United States
CATEGORIES:Kids,Library Events
GEO:39.7061997;-105.6974142
X-APPLE-STRUCTURED-LOCATION;VALUE=URI;X-ADDRESS=John Tomay Memorial Library 605 6th Street Georgetown CO 80444 United States;X-APPLE-RADIUS=500;X-TITLE=605 6th Street:geo:-105.6974142,39.7061997
END:VEVENT
BEGIN:VEVENT
DTSTART;TZID=America/Denver:20220407T111500
DTEND;TZID=America/Denver:20220407T111500
DTSTAMP:20260420T143450
CREATED:20211026T215648Z
LAST-MODIFIED:20220301T221228Z
UID:10005669-1649330100-1649330100@cccld.org
SUMMARY:JTML Storytime
DESCRIPTION:Join us for storytime and crafts at the John Tomay Memorial Library.
URL:https://cccld.org/event/jtml-storytime-8/2022-04-07/
LOCATION:John Tomay Memorial Library\, 605 6th Street\, Georgetown\, CO\, 80444\, United States
CATEGORIES:Kids,Library Events
GEO:39.7061997;-105.6974142
X-APPLE-STRUCTURED-LOCATION;VALUE=URI;X-ADDRESS=John Tomay Memorial Library 605 6th Street Georgetown CO 80444 United States;X-APPLE-RADIUS=500;X-TITLE=605 6th Street:geo:-105.6974142,39.7061997
END:VEVENT
BEGIN:VEVENT
DTSTART;TZID=America/Denver:20220331T154500
DTEND;TZID=America/Denver:20220331T164500
DTSTAMP:20260420T143450
CREATED:20220222T164224Z
LAST-MODIFIED:20220222T173232Z
UID:10005748-1648741500-1648745100@cccld.org
SUMMARY:JTML Crafternoon
DESCRIPTION:Join the fun at the John Tomay Memorial Library! Awesome Penguin Plushie craft.
URL:https://cccld.org/event/jtml-crafternoon/
LOCATION:John Tomay Memorial Library\, 605 6th Street\, Georgetown\, CO\, 80444\, United States
CATEGORIES:Kids,Library Events,Teens
GEO:39.7061997;-105.6974142
X-APPLE-STRUCTURED-LOCATION;VALUE=URI;X-ADDRESS=John Tomay Memorial Library 605 6th Street Georgetown CO 80444 United States;X-APPLE-RADIUS=500;X-TITLE=605 6th Street:geo:-105.6974142,39.7061997
END:VEVENT
BEGIN:VEVENT
DTSTART;TZID=America/Denver:20220331T111500
DTEND;TZID=America/Denver:20220331T111500
DTSTAMP:20260420T143450
CREATED:20211026T215648Z
LAST-MODIFIED:20220301T221228Z
UID:10005668-1648725300-1648725300@cccld.org
SUMMARY:JTML Storytime
DESCRIPTION:Join us for storytime and crafts at the John Tomay Memorial Library.
URL:https://cccld.org/event/jtml-storytime-8/2022-03-31/
LOCATION:John Tomay Memorial Library\, 605 6th Street\, Georgetown\, CO\, 80444\, United States
CATEGORIES:Kids,Library Events
GEO:39.7061997;-105.6974142
X-APPLE-STRUCTURED-LOCATION;VALUE=URI;X-ADDRESS=John Tomay Memorial Library 605 6th Street Georgetown CO 80444 United States;X-APPLE-RADIUS=500;X-TITLE=605 6th Street:geo:-105.6974142,39.7061997
END:VEVENT
BEGIN:VEVENT
DTSTART;TZID=America/Denver:20220324T173000
DTEND;TZID=America/Denver:20220324T183000
DTSTAMP:20260420T143450
CREATED:20220222T171807Z
LAST-MODIFIED:20220222T171807Z
UID:10005098-1648143000-1648146600@cccld.org
SUMMARY:JTML Adult Craft
DESCRIPTION:Join us each month for a great adult craft at the John Tomay Memorial Library. For information and to register email chris@cccld.org
URL:https://cccld.org/event/jtml-adult-craft-4/
LOCATION:John Tomay Memorial Library\, 605 6th Street\, Georgetown\, CO\, 80444\, United States
CATEGORIES:Adults,Library Events
GEO:39.7061997;-105.6974142
X-APPLE-STRUCTURED-LOCATION;VALUE=URI;X-ADDRESS=John Tomay Memorial Library 605 6th Street Georgetown CO 80444 United States;X-APPLE-RADIUS=500;X-TITLE=605 6th Street:geo:-105.6974142,39.7061997
END:VEVENT
BEGIN:VEVENT
DTSTART;TZID=America/Denver:20220324T111500
DTEND;TZID=America/Denver:20220324T111500
DTSTAMP:20260420T143450
CREATED:20211026T215648Z
LAST-MODIFIED:20220301T221228Z
UID:10005667-1648120500-1648120500@cccld.org
SUMMARY:JTML Storytime
DESCRIPTION:Join us for storytime and crafts at the John Tomay Memorial Library.
URL:https://cccld.org/event/jtml-storytime-8/2022-03-24/
LOCATION:John Tomay Memorial Library\, 605 6th Street\, Georgetown\, CO\, 80444\, United States
CATEGORIES:Kids,Library Events
GEO:39.7061997;-105.6974142
X-APPLE-STRUCTURED-LOCATION;VALUE=URI;X-ADDRESS=John Tomay Memorial Library 605 6th Street Georgetown CO 80444 United States;X-APPLE-RADIUS=500;X-TITLE=605 6th Street:geo:-105.6974142,39.7061997
END:VEVENT
BEGIN:VEVENT
DTSTART;TZID=America/Denver:20220321T130000
DTEND;TZID=America/Denver:20220321T160000
DTSTAMP:20260420T143450
CREATED:20220222T170209Z
LAST-MODIFIED:20220222T170209Z
UID:10005751-1647867600-1647878400@cccld.org
SUMMARY:JTML Virtual Reality
DESCRIPTION:Join the fun with the new Oculus Quest 2.
URL:https://cccld.org/event/jtml-virtual-reality/
LOCATION:John Tomay Memorial Library\, 605 6th Street\, Georgetown\, CO\, 80444\, United States
CATEGORIES:Kids,Teens
GEO:39.7061997;-105.6974142
X-APPLE-STRUCTURED-LOCATION;VALUE=URI;X-ADDRESS=John Tomay Memorial Library 605 6th Street Georgetown CO 80444 United States;X-APPLE-RADIUS=500;X-TITLE=605 6th Street:geo:-105.6974142,39.7061997
END:VEVENT
BEGIN:VEVENT
DTSTART;TZID=America/Denver:20220317T111500
DTEND;TZID=America/Denver:20220317T111500
DTSTAMP:20260420T143450
CREATED:20211026T215648Z
LAST-MODIFIED:20220301T221228Z
UID:10005666-1647515700-1647515700@cccld.org
SUMMARY:JTML Storytime
DESCRIPTION:Join us for storytime and crafts at the John Tomay Memorial Library.
URL:https://cccld.org/event/jtml-storytime-8/2022-03-17/
LOCATION:John Tomay Memorial Library\, 605 6th Street\, Georgetown\, CO\, 80444\, United States
CATEGORIES:Kids,Library Events
GEO:39.7061997;-105.6974142
X-APPLE-STRUCTURED-LOCATION;VALUE=URI;X-ADDRESS=John Tomay Memorial Library 605 6th Street Georgetown CO 80444 United States;X-APPLE-RADIUS=500;X-TITLE=605 6th Street:geo:-105.6974142,39.7061997
END:VEVENT
BEGIN:VEVENT
DTSTART;TZID=America/Denver:20220310T111500
DTEND;TZID=America/Denver:20220310T111500
DTSTAMP:20260420T143450
CREATED:20211026T215648Z
LAST-MODIFIED:20220301T221228Z
UID:10005665-1646910900-1646910900@cccld.org
SUMMARY:JTML Storytime
DESCRIPTION:Join us for storytime and crafts at the John Tomay Memorial Library.
URL:https://cccld.org/event/jtml-storytime-8/2022-03-10/
LOCATION:John Tomay Memorial Library\, 605 6th Street\, Georgetown\, CO\, 80444\, United States
CATEGORIES:Kids,Library Events
GEO:39.7061997;-105.6974142
X-APPLE-STRUCTURED-LOCATION;VALUE=URI;X-ADDRESS=John Tomay Memorial Library 605 6th Street Georgetown CO 80444 United States;X-APPLE-RADIUS=500;X-TITLE=605 6th Street:geo:-105.6974142,39.7061997
END:VEVENT
BEGIN:VEVENT
DTSTART;TZID=America/Denver:20220303T111500
DTEND;TZID=America/Denver:20220303T111500
DTSTAMP:20260420T143450
CREATED:20211026T215648Z
LAST-MODIFIED:20220301T221228Z
UID:10005664-1646306100-1646306100@cccld.org
SUMMARY:JTML Storytime
DESCRIPTION:Join us for storytime and crafts at the John Tomay Memorial Library.
URL:https://cccld.org/event/jtml-storytime-8/2022-03-03/
LOCATION:John Tomay Memorial Library\, 605 6th Street\, Georgetown\, CO\, 80444\, United States
CATEGORIES:Kids,Library Events
GEO:39.7061997;-105.6974142
X-APPLE-STRUCTURED-LOCATION;VALUE=URI;X-ADDRESS=John Tomay Memorial Library 605 6th Street Georgetown CO 80444 United States;X-APPLE-RADIUS=500;X-TITLE=605 6th Street:geo:-105.6974142,39.7061997
END:VEVENT
BEGIN:VEVENT
DTSTART;TZID=America/Denver:20211212T090000
DTEND;TZID=America/Denver:20211212T140000
DTSTAMP:20260420T143450
CREATED:20211112T223313Z
LAST-MODIFIED:20211123T211206Z
UID:10005684-1639299600-1639317600@cccld.org
SUMMARY:Winter Craft Workshops - Georgetown Christmas Market
DESCRIPTION:Free creative fun for kids during the Georgetown Christmas Market.
URL:https://cccld.org/event/georgetown-christmas-market-2/2021-12-12/
LOCATION:John Tomay Memorial Library\, 605 6th Street\, Georgetown\, CO\, 80444\, United States
CATEGORIES:Adults,Community Events,Kids,Library Events,Teens
GEO:39.7061997;-105.6974142
X-APPLE-STRUCTURED-LOCATION;VALUE=URI;X-ADDRESS=John Tomay Memorial Library 605 6th Street Georgetown CO 80444 United States;X-APPLE-RADIUS=500;X-TITLE=605 6th Street:geo:-105.6974142,39.7061997
END:VEVENT
BEGIN:VEVENT
DTSTART;TZID=America/Denver:20211205T090000
DTEND;TZID=America/Denver:20211205T140000
DTSTAMP:20260420T143450
CREATED:20211112T223313Z
LAST-MODIFIED:20211123T211206Z
UID:10005683-1638694800-1638712800@cccld.org
SUMMARY:Winter Craft Workshops - Georgetown Christmas Market
DESCRIPTION:Free creative fun for kids during the Georgetown Christmas Market.
URL:https://cccld.org/event/georgetown-christmas-market-2/2021-12-05/
LOCATION:John Tomay Memorial Library\, 605 6th Street\, Georgetown\, CO\, 80444\, United States
CATEGORIES:Adults,Community Events,Kids,Library Events,Teens
GEO:39.7061997;-105.6974142
X-APPLE-STRUCTURED-LOCATION;VALUE=URI;X-ADDRESS=John Tomay Memorial Library 605 6th Street Georgetown CO 80444 United States;X-APPLE-RADIUS=500;X-TITLE=605 6th Street:geo:-105.6974142,39.7061997
END:VEVENT
BEGIN:VEVENT
DTSTART;TZID=America/Denver:20211028T111500
DTEND;TZID=America/Denver:20211028T120000
DTSTAMP:20260420T143450
CREATED:20240821T173809Z
LAST-MODIFIED:20240821T174325Z
UID:10005042-1635419700-1635422400@cccld.org
SUMMARY:JTML Stories & Sunshine
DESCRIPTION:Join us for outdoor storytime at the John Tomay Memorial Library.
URL:https://cccld.org/event/jtml-stories-sunshine-2/2021-10-28/
LOCATION:John Tomay Memorial Library\, 605 6th Street\, Georgetown\, CO\, 80444\, United States
CATEGORIES:Kids,Library Events
GEO:39.7061997;-105.6974142
X-APPLE-STRUCTURED-LOCATION;VALUE=URI;X-ADDRESS=John Tomay Memorial Library 605 6th Street Georgetown CO 80444 United States;X-APPLE-RADIUS=500;X-TITLE=605 6th Street:geo:-105.6974142,39.7061997
END:VEVENT
BEGIN:VEVENT
DTSTART;TZID=America/Denver:20200424T170000
DTEND;TZID=America/Denver:20200424T170000
DTSTAMP:20260420T143450
CREATED:20200310T203330Z
LAST-MODIFIED:20200310T203348Z
UID:10005532-1587747600-1587747600@cccld.org
SUMMARY:Teen Fantasy League: Dungeons & Dragons
DESCRIPTION:Have you ever dreamed of being a knight in shining armor? Or a wizard with incredible powers? Join us on an incredible adventure! Learn to play Dungeons & Dragons with charming Dungeon Master\, Ocean Caplan-Holdgrafer.
URL:https://cccld.org/event/teen-fantasy-league-dungeons-dragons/2020-04-24/
LOCATION:John Tomay Memorial Library\, 605 6th Street\, Georgetown\, CO\, 80444\, United States
CATEGORIES:Library Events,Teens
GEO:39.7061997;-105.6974142
X-APPLE-STRUCTURED-LOCATION;VALUE=URI;X-ADDRESS=John Tomay Memorial Library 605 6th Street Georgetown CO 80444 United States;X-APPLE-RADIUS=500;X-TITLE=605 6th Street:geo:-105.6974142,39.7061997
END:VEVENT
BEGIN:VEVENT
DTSTART;TZID=America/Denver:20200417T170000
DTEND;TZID=America/Denver:20200417T170000
DTSTAMP:20260420T143450
CREATED:20200310T203330Z
LAST-MODIFIED:20200310T203348Z
UID:10005531-1587142800-1587142800@cccld.org
SUMMARY:Teen Fantasy League: Dungeons & Dragons
DESCRIPTION:Have you ever dreamed of being a knight in shining armor? Or a wizard with incredible powers? Join us on an incredible adventure! Learn to play Dungeons & Dragons with charming Dungeon Master\, Ocean Caplan-Holdgrafer.
URL:https://cccld.org/event/teen-fantasy-league-dungeons-dragons/2020-04-17/
LOCATION:John Tomay Memorial Library\, 605 6th Street\, Georgetown\, CO\, 80444\, United States
CATEGORIES:Library Events,Teens
GEO:39.7061997;-105.6974142
X-APPLE-STRUCTURED-LOCATION;VALUE=URI;X-ADDRESS=John Tomay Memorial Library 605 6th Street Georgetown CO 80444 United States;X-APPLE-RADIUS=500;X-TITLE=605 6th Street:geo:-105.6974142,39.7061997
END:VEVENT
BEGIN:VEVENT
DTSTART;TZID=America/Denver:20200220T190000
DTEND;TZID=America/Denver:20200220T190000
DTSTAMP:20260420T143450
CREATED:20200114T195614Z
LAST-MODIFIED:20200114T195655Z
UID:10005395-1582225200-1582225200@cccld.org
SUMMARY:Georgetown Adult Book Group
DESCRIPTION:Connect with other readers in our community at monthly library book meetups. Share your ideas and discover new stories. New readers are always welcome! Please contact holly@cccld.org for more information. \nFebruary Book – Becoming by Michelle Obama
URL:https://cccld.org/event/georgetown-book-group/
LOCATION:John Tomay Memorial Library\, 605 6th Street\, Georgetown\, CO\, 80444\, United States
CATEGORIES:Adults,Library Events
GEO:39.7061997;-105.6974142
X-APPLE-STRUCTURED-LOCATION;VALUE=URI;X-ADDRESS=John Tomay Memorial Library 605 6th Street Georgetown CO 80444 United States;X-APPLE-RADIUS=500;X-TITLE=605 6th Street:geo:-105.6974142,39.7061997
END:VEVENT
BEGIN:VEVENT
DTSTART;TZID=America/Denver:20200214T133000
DTEND;TZID=America/Denver:20200214T153000
DTSTAMP:20260420T143450
CREATED:20200129T184637Z
LAST-MODIFIED:20200129T184637Z
UID:10005438-1581687000-1581694200@cccld.org
SUMMARY:Georgetown Virtual Reality
DESCRIPTION:Drop in to experience the virtual world with our virtual reality system!
URL:https://cccld.org/event/georgetown-virtual-reality/
LOCATION:John Tomay Memorial Library\, 605 6th Street\, Georgetown\, CO\, 80444\, United States
CATEGORIES:Adults,Kids,Library Events
GEO:39.7061997;-105.6974142
X-APPLE-STRUCTURED-LOCATION;VALUE=URI;X-ADDRESS=John Tomay Memorial Library 605 6th Street Georgetown CO 80444 United States;X-APPLE-RADIUS=500;X-TITLE=605 6th Street:geo:-105.6974142,39.7061997
END:VEVENT
BEGIN:VEVENT
DTSTART;TZID=America/Denver:20200213T173000
DTEND;TZID=America/Denver:20200213T173000
DTSTAMP:20260420T143450
CREATED:20200114T200944Z
LAST-MODIFIED:20200114T200944Z
UID:10005403-1581615000-1581615000@cccld.org
SUMMARY:Georgetown Adult Craft Night
DESCRIPTION:Do you love to craft? Or are you craft-curious? Get creative and connect with other crafty patrons at our monthly craft workshops! No experience is necessary and all workshops are free. \nFebruary Craft – Iris Fold Valentine Cards
URL:https://cccld.org/event/georgetown-adult-craft-night-5/
LOCATION:John Tomay Memorial Library\, 605 6th Street\, Georgetown\, CO\, 80444\, United States
CATEGORIES:Adults,Library Events
GEO:39.7061997;-105.6974142
X-APPLE-STRUCTURED-LOCATION;VALUE=URI;X-ADDRESS=John Tomay Memorial Library 605 6th Street Georgetown CO 80444 United States;X-APPLE-RADIUS=500;X-TITLE=605 6th Street:geo:-105.6974142,39.7061997
END:VEVENT
BEGIN:VEVENT
DTSTART;TZID=America/Denver:20200213T110000
DTEND;TZID=America/Denver:20200213T133000
DTSTAMP:20260420T143450
CREATED:20200129T183002Z
LAST-MODIFIED:20200129T183002Z
UID:10005431-1581591600-1581600600@cccld.org
SUMMARY:Friends of the Georgetown Library Annual Soup Lunch
DESCRIPTION:Join the Friends of the Georgetown Library for their annual soup lunch. The event is free and all are welcome!
URL:https://cccld.org/event/friends-of-the-georgetown-library-annual-soup-lunch/
LOCATION:John Tomay Memorial Library\, 605 6th Street\, Georgetown\, CO\, 80444\, United States
CATEGORIES:Adults,Community Events,Kids,Library Events
GEO:39.7061997;-105.6974142
X-APPLE-STRUCTURED-LOCATION;VALUE=URI;X-ADDRESS=John Tomay Memorial Library 605 6th Street Georgetown CO 80444 United States;X-APPLE-RADIUS=500;X-TITLE=605 6th Street:geo:-105.6974142,39.7061997
END:VEVENT
BEGIN:VEVENT
DTSTART;TZID=America/Denver:20200212T154500
DTEND;TZID=America/Denver:20200212T170000
DTSTAMP:20260420T143450
CREATED:20200114T201946Z
LAST-MODIFIED:20200114T201946Z
UID:10005405-1581522300-1581526800@cccld.org
SUMMARY:Valentine Chemistry Lab
DESCRIPTION:
URL:https://cccld.org/event/valentine-chemistry-lab/
LOCATION:John Tomay Memorial Library\, 605 6th Street\, Georgetown\, CO\, 80444\, United States
CATEGORIES:Kids,Library Events
GEO:39.7061997;-105.6974142
X-APPLE-STRUCTURED-LOCATION;VALUE=URI;X-ADDRESS=John Tomay Memorial Library 605 6th Street Georgetown CO 80444 United States;X-APPLE-RADIUS=500;X-TITLE=605 6th Street:geo:-105.6974142,39.7061997
END:VEVENT
END:VCALENDAR