BEGIN:VCALENDAR
VERSION:2.0
PRODID:-//Clear Creek County Library District - ECPv6.15.16//NONSGML v1.0//EN
CALSCALE:GREGORIAN
METHOD:PUBLISH
X-WR-CALNAME:Clear Creek County Library District
X-ORIGINAL-URL:https://cccld.org
X-WR-CALDESC:Events for Clear Creek County Library District
REFRESH-INTERVAL;VALUE=DURATION:PT1H
X-Robots-Tag:noindex
X-PUBLISHED-TTL:PT1H
BEGIN:VTIMEZONE
TZID:America/Denver
BEGIN:DAYLIGHT
TZOFFSETFROM:-0700
TZOFFSETTO:-0600
TZNAME:MDT
DTSTART:20180311T090000
END:DAYLIGHT
BEGIN:STANDARD
TZOFFSETFROM:-0600
TZOFFSETTO:-0700
TZNAME:MST
DTSTART:20181104T080000
END:STANDARD
BEGIN:DAYLIGHT
TZOFFSETFROM:-0700
TZOFFSETTO:-0600
TZNAME:MDT
DTSTART:20190310T090000
END:DAYLIGHT
BEGIN:STANDARD
TZOFFSETFROM:-0600
TZOFFSETTO:-0700
TZNAME:MST
DTSTART:20191103T080000
END:STANDARD
BEGIN:DAYLIGHT
TZOFFSETFROM:-0700
TZOFFSETTO:-0600
TZNAME:MDT
DTSTART:20200308T090000
END:DAYLIGHT
BEGIN:STANDARD
TZOFFSETFROM:-0600
TZOFFSETTO:-0700
TZNAME:MST
DTSTART:20201101T080000
END:STANDARD
END:VTIMEZONE
BEGIN:VEVENT
DTSTART;TZID=America/Denver:20191016T111500
DTEND;TZID=America/Denver:20191016T111500
DTSTAMP:20260422T101639
CREATED:20190816T181205Z
LAST-MODIFIED:20190816T181205Z
UID:10004537-1571224500-1571224500@cccld.org
SUMMARY:JTML Storytime
DESCRIPTION:
URL:https://cccld.org/event/jtml-storytime-7/2019-10-16/
LOCATION:John Tomay Memorial Library\, 605 6th Street\, Georgetown\, CO\, 80444\, United States
CATEGORIES:Kids,Library Events
GEO:39.7061997;-105.6974142
X-APPLE-STRUCTURED-LOCATION;VALUE=URI;X-ADDRESS=John Tomay Memorial Library 605 6th Street Georgetown CO 80444 United States;X-APPLE-RADIUS=500;X-TITLE=605 6th Street:geo:-105.6974142,39.7061997
END:VEVENT
BEGIN:VEVENT
DTSTART;TZID=America/Denver:20191010T154500
DTEND;TZID=America/Denver:20191010T154500
DTSTAMP:20260422T101639
CREATED:20190815T211208Z
LAST-MODIFIED:20191122T223131Z
UID:10004501-1570722300-1570722300@cccld.org
SUMMARY:Niños Learning Español
DESCRIPTION:Learn basic\, conversational Spanish with our very own Señora Maria!
URL:https://cccld.org/event/ninos-learning-espanol-2/2019-10-10/
LOCATION:John Tomay Memorial Library\, 605 6th Street\, Georgetown\, CO\, 80444\, United States
CATEGORIES:Adults,Kids,Library Events
GEO:39.7061997;-105.6974142
X-APPLE-STRUCTURED-LOCATION;VALUE=URI;X-ADDRESS=John Tomay Memorial Library 605 6th Street Georgetown CO 80444 United States;X-APPLE-RADIUS=500;X-TITLE=605 6th Street:geo:-105.6974142,39.7061997
END:VEVENT
BEGIN:VEVENT
DTSTART;TZID=America/Denver:20191009T111500
DTEND;TZID=America/Denver:20191009T111500
DTSTAMP:20260422T101639
CREATED:20190816T181205Z
LAST-MODIFIED:20190816T181205Z
UID:10004536-1570619700-1570619700@cccld.org
SUMMARY:JTML Storytime
DESCRIPTION:
URL:https://cccld.org/event/jtml-storytime-7/2019-10-09/
LOCATION:John Tomay Memorial Library\, 605 6th Street\, Georgetown\, CO\, 80444\, United States
CATEGORIES:Kids,Library Events
GEO:39.7061997;-105.6974142
X-APPLE-STRUCTURED-LOCATION;VALUE=URI;X-ADDRESS=John Tomay Memorial Library 605 6th Street Georgetown CO 80444 United States;X-APPLE-RADIUS=500;X-TITLE=605 6th Street:geo:-105.6974142,39.7061997
END:VEVENT
BEGIN:VEVENT
DTSTART;TZID=America/Denver:20191003T154500
DTEND;TZID=America/Denver:20191003T154500
DTSTAMP:20260422T101639
CREATED:20190815T211208Z
LAST-MODIFIED:20191122T223131Z
UID:10004500-1570117500-1570117500@cccld.org
SUMMARY:Niños Learning Español
DESCRIPTION:Learn basic\, conversational Spanish with our very own Señora Maria!
URL:https://cccld.org/event/ninos-learning-espanol-2/2019-10-03/
LOCATION:John Tomay Memorial Library\, 605 6th Street\, Georgetown\, CO\, 80444\, United States
CATEGORIES:Adults,Kids,Library Events
GEO:39.7061997;-105.6974142
X-APPLE-STRUCTURED-LOCATION;VALUE=URI;X-ADDRESS=John Tomay Memorial Library 605 6th Street Georgetown CO 80444 United States;X-APPLE-RADIUS=500;X-TITLE=605 6th Street:geo:-105.6974142,39.7061997
END:VEVENT
BEGIN:VEVENT
DTSTART;TZID=America/Denver:20191002T111500
DTEND;TZID=America/Denver:20191002T111500
DTSTAMP:20260422T101639
CREATED:20190816T181205Z
LAST-MODIFIED:20190816T181205Z
UID:10004535-1570014900-1570014900@cccld.org
SUMMARY:JTML Storytime
DESCRIPTION:
URL:https://cccld.org/event/jtml-storytime-7/2019-10-02/
LOCATION:John Tomay Memorial Library\, 605 6th Street\, Georgetown\, CO\, 80444\, United States
CATEGORIES:Kids,Library Events
GEO:39.7061997;-105.6974142
X-APPLE-STRUCTURED-LOCATION;VALUE=URI;X-ADDRESS=John Tomay Memorial Library 605 6th Street Georgetown CO 80444 United States;X-APPLE-RADIUS=500;X-TITLE=605 6th Street:geo:-105.6974142,39.7061997
END:VEVENT
BEGIN:VEVENT
DTSTART;TZID=America/Denver:20190926T154500
DTEND;TZID=America/Denver:20190926T154500
DTSTAMP:20260422T101639
CREATED:20190815T211208Z
LAST-MODIFIED:20191122T223131Z
UID:10004499-1569512700-1569512700@cccld.org
SUMMARY:Niños Learning Español
DESCRIPTION:Learn basic\, conversational Spanish with our very own Señora Maria!
URL:https://cccld.org/event/ninos-learning-espanol-2/2019-09-26/
LOCATION:John Tomay Memorial Library\, 605 6th Street\, Georgetown\, CO\, 80444\, United States
CATEGORIES:Adults,Kids,Library Events
GEO:39.7061997;-105.6974142
X-APPLE-STRUCTURED-LOCATION;VALUE=URI;X-ADDRESS=John Tomay Memorial Library 605 6th Street Georgetown CO 80444 United States;X-APPLE-RADIUS=500;X-TITLE=605 6th Street:geo:-105.6974142,39.7061997
END:VEVENT
BEGIN:VEVENT
DTSTART;TZID=America/Denver:20190925T130000
DTEND;TZID=America/Denver:20190925T130000
DTSTAMP:20260422T101639
CREATED:20190815T210549Z
LAST-MODIFIED:20190815T210549Z
UID:10004493-1569416400-1569416400@cccld.org
SUMMARY:JTML Computer Basics
DESCRIPTION:Drop in for assistance with learning basic computer skills.
URL:https://cccld.org/event/jtml-computer-basics-2/2019-09-25/
LOCATION:John Tomay Memorial Library\, 605 6th Street\, Georgetown\, CO\, 80444\, United States
CATEGORIES:Adults,Library Events
GEO:39.7061997;-105.6974142
X-APPLE-STRUCTURED-LOCATION;VALUE=URI;X-ADDRESS=John Tomay Memorial Library 605 6th Street Georgetown CO 80444 United States;X-APPLE-RADIUS=500;X-TITLE=605 6th Street:geo:-105.6974142,39.7061997
END:VEVENT
BEGIN:VEVENT
DTSTART;TZID=America/Denver:20190925T111500
DTEND;TZID=America/Denver:20190925T111500
DTSTAMP:20260422T101639
CREATED:20190816T181205Z
LAST-MODIFIED:20190816T181205Z
UID:10004534-1569410100-1569410100@cccld.org
SUMMARY:JTML Storytime
DESCRIPTION:
URL:https://cccld.org/event/jtml-storytime-7/2019-09-25/
LOCATION:John Tomay Memorial Library\, 605 6th Street\, Georgetown\, CO\, 80444\, United States
CATEGORIES:Kids,Library Events
GEO:39.7061997;-105.6974142
X-APPLE-STRUCTURED-LOCATION;VALUE=URI;X-ADDRESS=John Tomay Memorial Library 605 6th Street Georgetown CO 80444 United States;X-APPLE-RADIUS=500;X-TITLE=605 6th Street:geo:-105.6974142,39.7061997
END:VEVENT
BEGIN:VEVENT
DTSTART;TZID=America/Denver:20190919T154500
DTEND;TZID=America/Denver:20190919T154500
DTSTAMP:20260422T101639
CREATED:20190815T211208Z
LAST-MODIFIED:20191122T223131Z
UID:10004498-1568907900-1568907900@cccld.org
SUMMARY:Niños Learning Español
DESCRIPTION:Learn basic\, conversational Spanish with our very own Señora Maria!
URL:https://cccld.org/event/ninos-learning-espanol-2/2019-09-19/
LOCATION:John Tomay Memorial Library\, 605 6th Street\, Georgetown\, CO\, 80444\, United States
CATEGORIES:Adults,Kids,Library Events
GEO:39.7061997;-105.6974142
X-APPLE-STRUCTURED-LOCATION;VALUE=URI;X-ADDRESS=John Tomay Memorial Library 605 6th Street Georgetown CO 80444 United States;X-APPLE-RADIUS=500;X-TITLE=605 6th Street:geo:-105.6974142,39.7061997
END:VEVENT
BEGIN:VEVENT
DTSTART;TZID=America/Denver:20190918T130000
DTEND;TZID=America/Denver:20190918T130000
DTSTAMP:20260422T101639
CREATED:20190815T210549Z
LAST-MODIFIED:20190815T210549Z
UID:10004492-1568811600-1568811600@cccld.org
SUMMARY:JTML Computer Basics
DESCRIPTION:Drop in for assistance with learning basic computer skills.
URL:https://cccld.org/event/jtml-computer-basics-2/2019-09-18/
LOCATION:John Tomay Memorial Library\, 605 6th Street\, Georgetown\, CO\, 80444\, United States
CATEGORIES:Adults,Library Events
GEO:39.7061997;-105.6974142
X-APPLE-STRUCTURED-LOCATION;VALUE=URI;X-ADDRESS=John Tomay Memorial Library 605 6th Street Georgetown CO 80444 United States;X-APPLE-RADIUS=500;X-TITLE=605 6th Street:geo:-105.6974142,39.7061997
END:VEVENT
BEGIN:VEVENT
DTSTART;TZID=America/Denver:20190918T111500
DTEND;TZID=America/Denver:20190918T111500
DTSTAMP:20260422T101639
CREATED:20190816T181205Z
LAST-MODIFIED:20190816T181205Z
UID:10004533-1568805300-1568805300@cccld.org
SUMMARY:JTML Storytime
DESCRIPTION:
URL:https://cccld.org/event/jtml-storytime-7/2019-09-18/
LOCATION:John Tomay Memorial Library\, 605 6th Street\, Georgetown\, CO\, 80444\, United States
CATEGORIES:Kids,Library Events
GEO:39.7061997;-105.6974142
X-APPLE-STRUCTURED-LOCATION;VALUE=URI;X-ADDRESS=John Tomay Memorial Library 605 6th Street Georgetown CO 80444 United States;X-APPLE-RADIUS=500;X-TITLE=605 6th Street:geo:-105.6974142,39.7061997
END:VEVENT
BEGIN:VEVENT
DTSTART;TZID=America/Denver:20190912T173000
DTEND;TZID=America/Denver:20190912T173000
DTSTAMP:20260422T101639
CREATED:20190729T204703Z
LAST-MODIFIED:20190729T204703Z
UID:10004998-1568309400-1568309400@cccld.org
SUMMARY:JTML Adult Craft
DESCRIPTION:Do you love to craft? Or are you craft-curious? Get creative and connect with other crafty patrons at our monthly craft workshops! No experience is necessary and all workshops are free.
URL:https://cccld.org/event/jtml-adult-craft-3/
LOCATION:John Tomay Memorial Library\, 605 6th Street\, Georgetown\, CO\, 80444\, United States
CATEGORIES:Adults,Library Events
GEO:39.7061997;-105.6974142
X-APPLE-STRUCTURED-LOCATION;VALUE=URI;X-ADDRESS=John Tomay Memorial Library 605 6th Street Georgetown CO 80444 United States;X-APPLE-RADIUS=500;X-TITLE=605 6th Street:geo:-105.6974142,39.7061997
END:VEVENT
BEGIN:VEVENT
DTSTART;TZID=America/Denver:20190912T154500
DTEND;TZID=America/Denver:20190912T154500
DTSTAMP:20260422T101639
CREATED:20190815T211208Z
LAST-MODIFIED:20191122T223131Z
UID:10004497-1568303100-1568303100@cccld.org
SUMMARY:Niños Learning Español
DESCRIPTION:Learn basic\, conversational Spanish with our very own Señora Maria!
URL:https://cccld.org/event/ninos-learning-espanol-2/2019-09-12/
LOCATION:John Tomay Memorial Library\, 605 6th Street\, Georgetown\, CO\, 80444\, United States
CATEGORIES:Adults,Kids,Library Events
GEO:39.7061997;-105.6974142
X-APPLE-STRUCTURED-LOCATION;VALUE=URI;X-ADDRESS=John Tomay Memorial Library 605 6th Street Georgetown CO 80444 United States;X-APPLE-RADIUS=500;X-TITLE=605 6th Street:geo:-105.6974142,39.7061997
END:VEVENT
BEGIN:VEVENT
DTSTART;TZID=America/Denver:20190911T130000
DTEND;TZID=America/Denver:20190911T130000
DTSTAMP:20260422T101639
CREATED:20190815T210549Z
LAST-MODIFIED:20190815T210549Z
UID:10004491-1568206800-1568206800@cccld.org
SUMMARY:JTML Computer Basics
DESCRIPTION:Drop in for assistance with learning basic computer skills.
URL:https://cccld.org/event/jtml-computer-basics-2/2019-09-11/
LOCATION:John Tomay Memorial Library\, 605 6th Street\, Georgetown\, CO\, 80444\, United States
CATEGORIES:Adults,Library Events
GEO:39.7061997;-105.6974142
X-APPLE-STRUCTURED-LOCATION;VALUE=URI;X-ADDRESS=John Tomay Memorial Library 605 6th Street Georgetown CO 80444 United States;X-APPLE-RADIUS=500;X-TITLE=605 6th Street:geo:-105.6974142,39.7061997
END:VEVENT
BEGIN:VEVENT
DTSTART;TZID=America/Denver:20190911T111500
DTEND;TZID=America/Denver:20190911T111500
DTSTAMP:20260422T101639
CREATED:20190816T181205Z
LAST-MODIFIED:20190816T181205Z
UID:10004532-1568200500-1568200500@cccld.org
SUMMARY:JTML Storytime
DESCRIPTION:
URL:https://cccld.org/event/jtml-storytime-7/2019-09-11/
LOCATION:John Tomay Memorial Library\, 605 6th Street\, Georgetown\, CO\, 80444\, United States
CATEGORIES:Kids,Library Events
GEO:39.7061997;-105.6974142
X-APPLE-STRUCTURED-LOCATION;VALUE=URI;X-ADDRESS=John Tomay Memorial Library 605 6th Street Georgetown CO 80444 United States;X-APPLE-RADIUS=500;X-TITLE=605 6th Street:geo:-105.6974142,39.7061997
END:VEVENT
BEGIN:VEVENT
DTSTART;TZID=America/Denver:20190905T154500
DTEND;TZID=America/Denver:20190905T154500
DTSTAMP:20260422T101639
CREATED:20190815T211208Z
LAST-MODIFIED:20191122T223131Z
UID:10004496-1567698300-1567698300@cccld.org
SUMMARY:Niños Learning Español
DESCRIPTION:Learn basic\, conversational Spanish with our very own Señora Maria!
URL:https://cccld.org/event/ninos-learning-espanol-2/2019-09-05/
LOCATION:John Tomay Memorial Library\, 605 6th Street\, Georgetown\, CO\, 80444\, United States
CATEGORIES:Adults,Kids,Library Events
GEO:39.7061997;-105.6974142
X-APPLE-STRUCTURED-LOCATION;VALUE=URI;X-ADDRESS=John Tomay Memorial Library 605 6th Street Georgetown CO 80444 United States;X-APPLE-RADIUS=500;X-TITLE=605 6th Street:geo:-105.6974142,39.7061997
END:VEVENT
BEGIN:VEVENT
DTSTART;TZID=America/Denver:20190904T130000
DTEND;TZID=America/Denver:20190904T130000
DTSTAMP:20260422T101639
CREATED:20190815T210549Z
LAST-MODIFIED:20190815T210549Z
UID:10004490-1567602000-1567602000@cccld.org
SUMMARY:JTML Computer Basics
DESCRIPTION:Drop in for assistance with learning basic computer skills.
URL:https://cccld.org/event/jtml-computer-basics-2/2019-09-04/
LOCATION:John Tomay Memorial Library\, 605 6th Street\, Georgetown\, CO\, 80444\, United States
CATEGORIES:Adults,Library Events
GEO:39.7061997;-105.6974142
X-APPLE-STRUCTURED-LOCATION;VALUE=URI;X-ADDRESS=John Tomay Memorial Library 605 6th Street Georgetown CO 80444 United States;X-APPLE-RADIUS=500;X-TITLE=605 6th Street:geo:-105.6974142,39.7061997
END:VEVENT
BEGIN:VEVENT
DTSTART;TZID=America/Denver:20190904T111500
DTEND;TZID=America/Denver:20190904T111500
DTSTAMP:20260422T101639
CREATED:20190816T181205Z
LAST-MODIFIED:20190816T181205Z
UID:10004531-1567595700-1567595700@cccld.org
SUMMARY:JTML Storytime
DESCRIPTION:
URL:https://cccld.org/event/jtml-storytime-7/2019-09-04/
LOCATION:John Tomay Memorial Library\, 605 6th Street\, Georgetown\, CO\, 80444\, United States
CATEGORIES:Kids,Library Events
GEO:39.7061997;-105.6974142
X-APPLE-STRUCTURED-LOCATION;VALUE=URI;X-ADDRESS=John Tomay Memorial Library 605 6th Street Georgetown CO 80444 United States;X-APPLE-RADIUS=500;X-TITLE=605 6th Street:geo:-105.6974142,39.7061997
END:VEVENT
BEGIN:VEVENT
DTSTART;TZID=America/Denver:20190808T173000
DTEND;TZID=America/Denver:20190808T173000
DTSTAMP:20260422T101639
CREATED:20190717T222410Z
LAST-MODIFIED:20190717T222410Z
UID:10004950-1565285400-1565285400@cccld.org
SUMMARY:JTML Adult Craft
DESCRIPTION:Do you love to craft? Or are you craft-curious? Get creative and connect with other crafty patrons at our monthly craft workshops! No experience is necessary and all workshops are free.
URL:https://cccld.org/event/jtml-adult-craft-2/
LOCATION:John Tomay Memorial Library\, 605 6th Street\, Georgetown\, CO\, 80444\, United States
CATEGORIES:Adults,Library Events
GEO:39.7061997;-105.6974142
X-APPLE-STRUCTURED-LOCATION;VALUE=URI;X-ADDRESS=John Tomay Memorial Library 605 6th Street Georgetown CO 80444 United States;X-APPLE-RADIUS=500;X-TITLE=605 6th Street:geo:-105.6974142,39.7061997
END:VEVENT
BEGIN:VEVENT
DTSTART;TZID=America/Denver:20190731T130000
DTEND;TZID=America/Denver:20190731T140000
DTSTAMP:20260422T101639
CREATED:20190701T185325Z
LAST-MODIFIED:20190701T185325Z
UID:10004455-1564578000-1564581600@cccld.org
SUMMARY:JTML Computer Basics
DESCRIPTION:Drop in for assistance with learning basic computer skills.
URL:https://cccld.org/event/jtml-computer-basics/2019-07-31/
LOCATION:John Tomay Memorial Library\, 605 6th Street\, Georgetown\, CO\, 80444\, United States
CATEGORIES:Adults,Library Events
GEO:39.7061997;-105.6974142
X-APPLE-STRUCTURED-LOCATION;VALUE=URI;X-ADDRESS=John Tomay Memorial Library 605 6th Street Georgetown CO 80444 United States;X-APPLE-RADIUS=500;X-TITLE=605 6th Street:geo:-105.6974142,39.7061997
END:VEVENT
BEGIN:VEVENT
DTSTART;TZID=America/Denver:20190731T130000
DTEND;TZID=America/Denver:20190731T140000
DTSTAMP:20260422T101639
CREATED:20190606T222207Z
LAST-MODIFIED:20190606T222207Z
UID:10004862-1564578000-1564581600@cccld.org
SUMMARY:JTML Summer Reading Week 9: Emberclaw House
DESCRIPTION:Emberclaw House: 6th – 12th grade \nWeek 9 in Georgetown: Defense Against the Dark Arts – Petronus Origami
URL:https://cccld.org/event/jtml-summer-reading-week-9-emberclaw-house/
LOCATION:John Tomay Memorial Library\, 605 6th Street\, Georgetown\, CO\, 80444\, United States
CATEGORIES:Kids,Library Events,Summer Reading
GEO:39.7061997;-105.6974142
X-APPLE-STRUCTURED-LOCATION;VALUE=URI;X-ADDRESS=John Tomay Memorial Library 605 6th Street Georgetown CO 80444 United States;X-APPLE-RADIUS=500;X-TITLE=605 6th Street:geo:-105.6974142,39.7061997
END:VEVENT
BEGIN:VEVENT
DTSTART;TZID=America/Denver:20190731T100000
DTEND;TZID=America/Denver:20190731T120000
DTSTAMP:20260422T101639
CREATED:20190516T202507Z
LAST-MODIFIED:20190606T214650Z
UID:10004762-1564567200-1564574400@cccld.org
SUMMARY:JTML Summer Reading Week 9: Pippinhoot & Featherfayre Houses
DESCRIPTION:Pippinhoot House: early learning – 2nd grade \nFeatherfayre House: 3rd – 5th grade \nWeek 9 in Georgetown: Monsters & Ghouls – Monster Bookmarks
URL:https://cccld.org/event/jtml-summer-reading-pippinhoot-featherfayre-houses-5/
LOCATION:John Tomay Memorial Library\, 605 6th Street\, Georgetown\, CO\, 80444\, United States
CATEGORIES:Kids,Library Events,Summer Reading
GEO:39.7061997;-105.6974142
X-APPLE-STRUCTURED-LOCATION;VALUE=URI;X-ADDRESS=John Tomay Memorial Library 605 6th Street Georgetown CO 80444 United States;X-APPLE-RADIUS=500;X-TITLE=605 6th Street:geo:-105.6974142,39.7061997
END:VEVENT
BEGIN:VEVENT
DTSTART;TZID=America/Denver:20190724T130000
DTEND;TZID=America/Denver:20190724T140000
DTSTAMP:20260422T101639
CREATED:20190701T185325Z
LAST-MODIFIED:20190701T185325Z
UID:10004454-1563973200-1563976800@cccld.org
SUMMARY:JTML Computer Basics
DESCRIPTION:Drop in for assistance with learning basic computer skills.
URL:https://cccld.org/event/jtml-computer-basics/2019-07-24/
LOCATION:John Tomay Memorial Library\, 605 6th Street\, Georgetown\, CO\, 80444\, United States
CATEGORIES:Adults,Library Events
GEO:39.7061997;-105.6974142
X-APPLE-STRUCTURED-LOCATION;VALUE=URI;X-ADDRESS=John Tomay Memorial Library 605 6th Street Georgetown CO 80444 United States;X-APPLE-RADIUS=500;X-TITLE=605 6th Street:geo:-105.6974142,39.7061997
END:VEVENT
BEGIN:VEVENT
DTSTART;TZID=America/Denver:20190724T130000
DTEND;TZID=America/Denver:20190724T140000
DTSTAMP:20260422T101639
CREATED:20190516T231705Z
LAST-MODIFIED:20190516T231705Z
UID:10004783-1563973200-1563976800@cccld.org
SUMMARY:JTML Summer Reading Week 8: Emberclaw House
DESCRIPTION:Emberclaw House: 6th – 12th grade \nWeek 8 in Georgetown: Scholar’s Choice – Palmistry Chart OR Tarot Cards
URL:https://cccld.org/event/jtml-summer-reading-week-8-emberclaw-house/
LOCATION:John Tomay Memorial Library\, 605 6th Street\, Georgetown\, CO\, 80444\, United States
CATEGORIES:Library Events,Summer Reading
GEO:39.7061997;-105.6974142
X-APPLE-STRUCTURED-LOCATION;VALUE=URI;X-ADDRESS=John Tomay Memorial Library 605 6th Street Georgetown CO 80444 United States;X-APPLE-RADIUS=500;X-TITLE=605 6th Street:geo:-105.6974142,39.7061997
END:VEVENT
BEGIN:VEVENT
DTSTART;TZID=America/Denver:20190724T100000
DTEND;TZID=America/Denver:20190724T120000
DTSTAMP:20260422T101639
CREATED:20190516T202002Z
LAST-MODIFIED:20190606T210609Z
UID:10004758-1563962400-1563969600@cccld.org
SUMMARY:JTML Summer Reading Week 8: Pippinhoot & Featherfayre Houses
DESCRIPTION:Pippinhoot House: early learning – 2nd grade \nFeatherfayre House: 3rd – 5th grade \nWeek 8 in Georgetown: Fortune Telling Lab – Crystal balls\, tea leaves\, & more!
URL:https://cccld.org/event/jtml-summer-reading-week-8-pippinhoot-featherfayre-houses/
LOCATION:John Tomay Memorial Library\, 605 6th Street\, Georgetown\, CO\, 80444\, United States
CATEGORIES:Kids,Library Events,Summer Reading
GEO:39.7061997;-105.6974142
X-APPLE-STRUCTURED-LOCATION;VALUE=URI;X-ADDRESS=John Tomay Memorial Library 605 6th Street Georgetown CO 80444 United States;X-APPLE-RADIUS=500;X-TITLE=605 6th Street:geo:-105.6974142,39.7061997
END:VEVENT
BEGIN:VEVENT
DTSTART;TZID=America/Denver:20190717T130000
DTEND;TZID=America/Denver:20190717T140000
DTSTAMP:20260422T101639
CREATED:20190701T185325Z
LAST-MODIFIED:20190701T185325Z
UID:10004453-1563368400-1563372000@cccld.org
SUMMARY:JTML Computer Basics
DESCRIPTION:Drop in for assistance with learning basic computer skills.
URL:https://cccld.org/event/jtml-computer-basics/2019-07-17/
LOCATION:John Tomay Memorial Library\, 605 6th Street\, Georgetown\, CO\, 80444\, United States
CATEGORIES:Adults,Library Events
GEO:39.7061997;-105.6974142
X-APPLE-STRUCTURED-LOCATION;VALUE=URI;X-ADDRESS=John Tomay Memorial Library 605 6th Street Georgetown CO 80444 United States;X-APPLE-RADIUS=500;X-TITLE=605 6th Street:geo:-105.6974142,39.7061997
END:VEVENT
BEGIN:VEVENT
DTSTART;TZID=America/Denver:20190717T130000
DTEND;TZID=America/Denver:20190717T140000
DTSTAMP:20260422T101639
CREATED:20190516T231132Z
LAST-MODIFIED:20190516T231132Z
UID:10004780-1563368400-1563372000@cccld.org
SUMMARY:JTML Summer Reading Week 7: Emberclaw House
DESCRIPTION:Emberclaw House: 6th – 12th grade \nWeek 7 in Georgetown: Charms – Mirror of Erised Workshop
URL:https://cccld.org/event/jtml-summer-reading-week-7-emberclaw-house/
LOCATION:John Tomay Memorial Library\, 605 6th Street\, Georgetown\, CO\, 80444\, United States
CATEGORIES:Library Events,Summer Reading
GEO:39.7061997;-105.6974142
X-APPLE-STRUCTURED-LOCATION;VALUE=URI;X-ADDRESS=John Tomay Memorial Library 605 6th Street Georgetown CO 80444 United States;X-APPLE-RADIUS=500;X-TITLE=605 6th Street:geo:-105.6974142,39.7061997
END:VEVENT
BEGIN:VEVENT
DTSTART;TZID=America/Denver:20190717T100000
DTEND;TZID=America/Denver:20190717T120000
DTSTAMP:20260422T101639
CREATED:20190516T201627Z
LAST-MODIFIED:20190606T210453Z
UID:10004425-1563357600-1563364800@cccld.org
SUMMARY:JTML Summer Reading Week 7: Pippinhoot & Featherfayre Houses
DESCRIPTION:Pippinhoot House: early learning – 2nd grade \nFeatherfayre House: 3rd – 5th grade \nWeek 7 in Georgetown: Simply Enchanting! – Magic Mirror Workshop
URL:https://cccld.org/event/jtml-summer-reading-week-7-pippinhoot-featherfayre-houses/
LOCATION:John Tomay Memorial Library\, 605 6th Street\, Georgetown\, CO\, 80444\, United States
CATEGORIES:Kids,Library Events,Summer Reading
GEO:39.7061997;-105.6974142
X-APPLE-STRUCTURED-LOCATION;VALUE=URI;X-ADDRESS=John Tomay Memorial Library 605 6th Street Georgetown CO 80444 United States;X-APPLE-RADIUS=500;X-TITLE=605 6th Street:geo:-105.6974142,39.7061997
END:VEVENT
BEGIN:VEVENT
DTSTART;TZID=America/Denver:20190716T140000
DTEND;TZID=America/Denver:20190716T140000
DTSTAMP:20260422T101639
CREATED:20190701T191212Z
LAST-MODIFIED:20190701T191212Z
UID:10004464-1563285600-1563285600@cccld.org
SUMMARY:JTML Harry Potter Trivia
DESCRIPTION:Do you think you know everything there is to know about Harry Potter? Put your knowledge to the test! Harry Potter Trivia will be at the John Tomay Memorial Library on Tuesday\, July 16 at 2 pm. All ages welcome!
URL:https://cccld.org/event/jtml-harry-potter-trivia/
LOCATION:John Tomay Memorial Library\, 605 6th Street\, Georgetown\, CO\, 80444\, United States
CATEGORIES:Adults,Kids,Library Events
GEO:39.7061997;-105.6974142
X-APPLE-STRUCTURED-LOCATION;VALUE=URI;X-ADDRESS=John Tomay Memorial Library 605 6th Street Georgetown CO 80444 United States;X-APPLE-RADIUS=500;X-TITLE=605 6th Street:geo:-105.6974142,39.7061997
END:VEVENT
BEGIN:VEVENT
DTSTART;TZID=America/Denver:20190711T173000
DTEND;TZID=America/Denver:20190711T190000
DTSTAMP:20260422T101639
CREATED:20190619T165509Z
LAST-MODIFIED:20190619T165509Z
UID:10004457-1562866200-1562871600@cccld.org
SUMMARY:JTML Adult Craft Night
DESCRIPTION:Do you love to craft? Or are you craft-curious? Get creative and connect with other crafty patrons at our monthly craft workshops! No experience is necessary and all workshops are free. \nIn July\, we’ll be making strawberry jam!
URL:https://cccld.org/event/jtml-adult-craft-night-2/
LOCATION:John Tomay Memorial Library\, 605 6th Street\, Georgetown\, CO\, 80444\, United States
CATEGORIES:Adults,Library Events
GEO:39.7061997;-105.6974142
X-APPLE-STRUCTURED-LOCATION;VALUE=URI;X-ADDRESS=John Tomay Memorial Library 605 6th Street Georgetown CO 80444 United States;X-APPLE-RADIUS=500;X-TITLE=605 6th Street:geo:-105.6974142,39.7061997
END:VEVENT
END:VCALENDAR