BEGIN:VCALENDAR
VERSION:2.0
PRODID:-//Clear Creek County Library District - ECPv6.15.16//NONSGML v1.0//EN
CALSCALE:GREGORIAN
METHOD:PUBLISH
X-WR-CALNAME:Clear Creek County Library District
X-ORIGINAL-URL:https://cccld.org
X-WR-CALDESC:Events for Clear Creek County Library District
REFRESH-INTERVAL;VALUE=DURATION:PT1H
X-Robots-Tag:noindex
X-PUBLISHED-TTL:PT1H
BEGIN:VTIMEZONE
TZID:America/Denver
BEGIN:DAYLIGHT
TZOFFSETFROM:-0700
TZOFFSETTO:-0600
TZNAME:MDT
DTSTART:20180311T090000
END:DAYLIGHT
BEGIN:STANDARD
TZOFFSETFROM:-0600
TZOFFSETTO:-0700
TZNAME:MST
DTSTART:20181104T080000
END:STANDARD
BEGIN:DAYLIGHT
TZOFFSETFROM:-0700
TZOFFSETTO:-0600
TZNAME:MDT
DTSTART:20190310T090000
END:DAYLIGHT
BEGIN:STANDARD
TZOFFSETFROM:-0600
TZOFFSETTO:-0700
TZNAME:MST
DTSTART:20191103T080000
END:STANDARD
BEGIN:DAYLIGHT
TZOFFSETFROM:-0700
TZOFFSETTO:-0600
TZNAME:MDT
DTSTART:20200308T090000
END:DAYLIGHT
BEGIN:STANDARD
TZOFFSETFROM:-0600
TZOFFSETTO:-0700
TZNAME:MST
DTSTART:20201101T080000
END:STANDARD
END:VTIMEZONE
BEGIN:VEVENT
DTSTART;TZID=America/Denver:20190731T130000
DTEND;TZID=America/Denver:20190731T140000
DTSTAMP:20260422T131732
CREATED:20190606T222207Z
LAST-MODIFIED:20190606T222207Z
UID:10004862-1564578000-1564581600@cccld.org
SUMMARY:JTML Summer Reading Week 9: Emberclaw House
DESCRIPTION:Emberclaw House: 6th – 12th grade \nWeek 9 in Georgetown: Defense Against the Dark Arts – Petronus Origami
URL:https://cccld.org/event/jtml-summer-reading-week-9-emberclaw-house/
LOCATION:John Tomay Memorial Library\, 605 6th Street\, Georgetown\, CO\, 80444\, United States
CATEGORIES:Kids,Library Events,Summer Reading
GEO:39.7061997;-105.6974142
X-APPLE-STRUCTURED-LOCATION;VALUE=URI;X-ADDRESS=John Tomay Memorial Library 605 6th Street Georgetown CO 80444 United States;X-APPLE-RADIUS=500;X-TITLE=605 6th Street:geo:-105.6974142,39.7061997
END:VEVENT
BEGIN:VEVENT
DTSTART;TZID=America/Denver:20190731T100000
DTEND;TZID=America/Denver:20190731T120000
DTSTAMP:20260422T131732
CREATED:20190516T202507Z
LAST-MODIFIED:20190606T214650Z
UID:10004762-1564567200-1564574400@cccld.org
SUMMARY:JTML Summer Reading Week 9: Pippinhoot & Featherfayre Houses
DESCRIPTION:Pippinhoot House: early learning – 2nd grade \nFeatherfayre House: 3rd – 5th grade \nWeek 9 in Georgetown: Monsters & Ghouls – Monster Bookmarks
URL:https://cccld.org/event/jtml-summer-reading-pippinhoot-featherfayre-houses-5/
LOCATION:John Tomay Memorial Library\, 605 6th Street\, Georgetown\, CO\, 80444\, United States
CATEGORIES:Kids,Library Events,Summer Reading
GEO:39.7061997;-105.6974142
X-APPLE-STRUCTURED-LOCATION;VALUE=URI;X-ADDRESS=John Tomay Memorial Library 605 6th Street Georgetown CO 80444 United States;X-APPLE-RADIUS=500;X-TITLE=605 6th Street:geo:-105.6974142,39.7061997
END:VEVENT
BEGIN:VEVENT
DTSTART;TZID=America/Denver:20190724T130000
DTEND;TZID=America/Denver:20190724T140000
DTSTAMP:20260422T131732
CREATED:20190701T185325Z
LAST-MODIFIED:20190701T185325Z
UID:10004454-1563973200-1563976800@cccld.org
SUMMARY:JTML Computer Basics
DESCRIPTION:Drop in for assistance with learning basic computer skills.
URL:https://cccld.org/event/jtml-computer-basics/2019-07-24/
LOCATION:John Tomay Memorial Library\, 605 6th Street\, Georgetown\, CO\, 80444\, United States
CATEGORIES:Adults,Library Events
GEO:39.7061997;-105.6974142
X-APPLE-STRUCTURED-LOCATION;VALUE=URI;X-ADDRESS=John Tomay Memorial Library 605 6th Street Georgetown CO 80444 United States;X-APPLE-RADIUS=500;X-TITLE=605 6th Street:geo:-105.6974142,39.7061997
END:VEVENT
BEGIN:VEVENT
DTSTART;TZID=America/Denver:20190724T130000
DTEND;TZID=America/Denver:20190724T140000
DTSTAMP:20260422T131732
CREATED:20190516T231705Z
LAST-MODIFIED:20190516T231705Z
UID:10004783-1563973200-1563976800@cccld.org
SUMMARY:JTML Summer Reading Week 8: Emberclaw House
DESCRIPTION:Emberclaw House: 6th – 12th grade \nWeek 8 in Georgetown: Scholar’s Choice – Palmistry Chart OR Tarot Cards
URL:https://cccld.org/event/jtml-summer-reading-week-8-emberclaw-house/
LOCATION:John Tomay Memorial Library\, 605 6th Street\, Georgetown\, CO\, 80444\, United States
CATEGORIES:Library Events,Summer Reading
GEO:39.7061997;-105.6974142
X-APPLE-STRUCTURED-LOCATION;VALUE=URI;X-ADDRESS=John Tomay Memorial Library 605 6th Street Georgetown CO 80444 United States;X-APPLE-RADIUS=500;X-TITLE=605 6th Street:geo:-105.6974142,39.7061997
END:VEVENT
BEGIN:VEVENT
DTSTART;TZID=America/Denver:20190724T100000
DTEND;TZID=America/Denver:20190724T120000
DTSTAMP:20260422T131732
CREATED:20190516T202002Z
LAST-MODIFIED:20190606T210609Z
UID:10004758-1563962400-1563969600@cccld.org
SUMMARY:JTML Summer Reading Week 8: Pippinhoot & Featherfayre Houses
DESCRIPTION:Pippinhoot House: early learning – 2nd grade \nFeatherfayre House: 3rd – 5th grade \nWeek 8 in Georgetown: Fortune Telling Lab – Crystal balls\, tea leaves\, & more!
URL:https://cccld.org/event/jtml-summer-reading-week-8-pippinhoot-featherfayre-houses/
LOCATION:John Tomay Memorial Library\, 605 6th Street\, Georgetown\, CO\, 80444\, United States
CATEGORIES:Kids,Library Events,Summer Reading
GEO:39.7061997;-105.6974142
X-APPLE-STRUCTURED-LOCATION;VALUE=URI;X-ADDRESS=John Tomay Memorial Library 605 6th Street Georgetown CO 80444 United States;X-APPLE-RADIUS=500;X-TITLE=605 6th Street:geo:-105.6974142,39.7061997
END:VEVENT
BEGIN:VEVENT
DTSTART;TZID=America/Denver:20190717T130000
DTEND;TZID=America/Denver:20190717T140000
DTSTAMP:20260422T131732
CREATED:20190701T185325Z
LAST-MODIFIED:20190701T185325Z
UID:10004453-1563368400-1563372000@cccld.org
SUMMARY:JTML Computer Basics
DESCRIPTION:Drop in for assistance with learning basic computer skills.
URL:https://cccld.org/event/jtml-computer-basics/2019-07-17/
LOCATION:John Tomay Memorial Library\, 605 6th Street\, Georgetown\, CO\, 80444\, United States
CATEGORIES:Adults,Library Events
GEO:39.7061997;-105.6974142
X-APPLE-STRUCTURED-LOCATION;VALUE=URI;X-ADDRESS=John Tomay Memorial Library 605 6th Street Georgetown CO 80444 United States;X-APPLE-RADIUS=500;X-TITLE=605 6th Street:geo:-105.6974142,39.7061997
END:VEVENT
BEGIN:VEVENT
DTSTART;TZID=America/Denver:20190717T130000
DTEND;TZID=America/Denver:20190717T140000
DTSTAMP:20260422T131732
CREATED:20190516T231132Z
LAST-MODIFIED:20190516T231132Z
UID:10004780-1563368400-1563372000@cccld.org
SUMMARY:JTML Summer Reading Week 7: Emberclaw House
DESCRIPTION:Emberclaw House: 6th – 12th grade \nWeek 7 in Georgetown: Charms – Mirror of Erised Workshop
URL:https://cccld.org/event/jtml-summer-reading-week-7-emberclaw-house/
LOCATION:John Tomay Memorial Library\, 605 6th Street\, Georgetown\, CO\, 80444\, United States
CATEGORIES:Library Events,Summer Reading
GEO:39.7061997;-105.6974142
X-APPLE-STRUCTURED-LOCATION;VALUE=URI;X-ADDRESS=John Tomay Memorial Library 605 6th Street Georgetown CO 80444 United States;X-APPLE-RADIUS=500;X-TITLE=605 6th Street:geo:-105.6974142,39.7061997
END:VEVENT
BEGIN:VEVENT
DTSTART;TZID=America/Denver:20190717T100000
DTEND;TZID=America/Denver:20190717T120000
DTSTAMP:20260422T131732
CREATED:20190516T201627Z
LAST-MODIFIED:20190606T210453Z
UID:10004425-1563357600-1563364800@cccld.org
SUMMARY:JTML Summer Reading Week 7: Pippinhoot & Featherfayre Houses
DESCRIPTION:Pippinhoot House: early learning – 2nd grade \nFeatherfayre House: 3rd – 5th grade \nWeek 7 in Georgetown: Simply Enchanting! – Magic Mirror Workshop
URL:https://cccld.org/event/jtml-summer-reading-week-7-pippinhoot-featherfayre-houses/
LOCATION:John Tomay Memorial Library\, 605 6th Street\, Georgetown\, CO\, 80444\, United States
CATEGORIES:Kids,Library Events,Summer Reading
GEO:39.7061997;-105.6974142
X-APPLE-STRUCTURED-LOCATION;VALUE=URI;X-ADDRESS=John Tomay Memorial Library 605 6th Street Georgetown CO 80444 United States;X-APPLE-RADIUS=500;X-TITLE=605 6th Street:geo:-105.6974142,39.7061997
END:VEVENT
BEGIN:VEVENT
DTSTART;TZID=America/Denver:20190716T140000
DTEND;TZID=America/Denver:20190716T140000
DTSTAMP:20260422T131732
CREATED:20190701T191212Z
LAST-MODIFIED:20190701T191212Z
UID:10004464-1563285600-1563285600@cccld.org
SUMMARY:JTML Harry Potter Trivia
DESCRIPTION:Do you think you know everything there is to know about Harry Potter? Put your knowledge to the test! Harry Potter Trivia will be at the John Tomay Memorial Library on Tuesday\, July 16 at 2 pm. All ages welcome!
URL:https://cccld.org/event/jtml-harry-potter-trivia/
LOCATION:John Tomay Memorial Library\, 605 6th Street\, Georgetown\, CO\, 80444\, United States
CATEGORIES:Adults,Kids,Library Events
GEO:39.7061997;-105.6974142
X-APPLE-STRUCTURED-LOCATION;VALUE=URI;X-ADDRESS=John Tomay Memorial Library 605 6th Street Georgetown CO 80444 United States;X-APPLE-RADIUS=500;X-TITLE=605 6th Street:geo:-105.6974142,39.7061997
END:VEVENT
BEGIN:VEVENT
DTSTART;TZID=America/Denver:20190711T173000
DTEND;TZID=America/Denver:20190711T190000
DTSTAMP:20260422T131732
CREATED:20190619T165509Z
LAST-MODIFIED:20190619T165509Z
UID:10004457-1562866200-1562871600@cccld.org
SUMMARY:JTML Adult Craft Night
DESCRIPTION:Do you love to craft? Or are you craft-curious? Get creative and connect with other crafty patrons at our monthly craft workshops! No experience is necessary and all workshops are free. \nIn July\, we’ll be making strawberry jam!
URL:https://cccld.org/event/jtml-adult-craft-night-2/
LOCATION:John Tomay Memorial Library\, 605 6th Street\, Georgetown\, CO\, 80444\, United States
CATEGORIES:Adults,Library Events
GEO:39.7061997;-105.6974142
X-APPLE-STRUCTURED-LOCATION;VALUE=URI;X-ADDRESS=John Tomay Memorial Library 605 6th Street Georgetown CO 80444 United States;X-APPLE-RADIUS=500;X-TITLE=605 6th Street:geo:-105.6974142,39.7061997
END:VEVENT
BEGIN:VEVENT
DTSTART;TZID=America/Denver:20190710T130000
DTEND;TZID=America/Denver:20190710T140000
DTSTAMP:20260422T131732
CREATED:20190701T185325Z
LAST-MODIFIED:20190701T185325Z
UID:10004452-1562763600-1562767200@cccld.org
SUMMARY:JTML Computer Basics
DESCRIPTION:Drop in for assistance with learning basic computer skills.
URL:https://cccld.org/event/jtml-computer-basics/2019-07-10/
LOCATION:John Tomay Memorial Library\, 605 6th Street\, Georgetown\, CO\, 80444\, United States
CATEGORIES:Adults,Library Events
GEO:39.7061997;-105.6974142
X-APPLE-STRUCTURED-LOCATION;VALUE=URI;X-ADDRESS=John Tomay Memorial Library 605 6th Street Georgetown CO 80444 United States;X-APPLE-RADIUS=500;X-TITLE=605 6th Street:geo:-105.6974142,39.7061997
END:VEVENT
BEGIN:VEVENT
DTSTART;TZID=America/Denver:20190710T130000
DTEND;TZID=America/Denver:20190710T140000
DTSTAMP:20260422T131732
CREATED:20190516T230555Z
LAST-MODIFIED:20190516T230555Z
UID:10004778-1562763600-1562767200@cccld.org
SUMMARY:JTML Summer Reading Week 6: Emberclaw House
DESCRIPTION:Emberclaw House: 6th – 12th grade \nWeek 6 in Georgetown: Transfiguration – Spellcraft
URL:https://cccld.org/event/jtml-summer-reading-week-6-emberclaw-house/
LOCATION:John Tomay Memorial Library\, 605 6th Street\, Georgetown\, CO\, 80444\, United States
CATEGORIES:Library Events,Summer Reading
GEO:39.7061997;-105.6974142
X-APPLE-STRUCTURED-LOCATION;VALUE=URI;X-ADDRESS=John Tomay Memorial Library 605 6th Street Georgetown CO 80444 United States;X-APPLE-RADIUS=500;X-TITLE=605 6th Street:geo:-105.6974142,39.7061997
END:VEVENT
BEGIN:VEVENT
DTSTART;TZID=America/Denver:20190710T100000
DTEND;TZID=America/Denver:20190710T120000
DTSTAMP:20260422T131732
CREATED:20190516T201317Z
LAST-MODIFIED:20190606T210419Z
UID:10004420-1562752800-1562760000@cccld.org
SUMMARY:JTML Summer Reading Week 6: Pippinhoot & Featherfayre Houses
DESCRIPTION:Pippinhoot House: early learning – 2nd grade \nFeatherfayre House: 3rd – 5th grade \nWeek 6 in Georgetown: Spells & Ciphers – Quillcraft & Magic Madlibs
URL:https://cccld.org/event/jtml-summer-reading-week-6-pippinhoot-featherfayre-houses/
LOCATION:John Tomay Memorial Library\, 605 6th Street\, Georgetown\, CO\, 80444\, United States
CATEGORIES:Kids,Library Events,Summer Reading
GEO:39.7061997;-105.6974142
X-APPLE-STRUCTURED-LOCATION;VALUE=URI;X-ADDRESS=John Tomay Memorial Library 605 6th Street Georgetown CO 80444 United States;X-APPLE-RADIUS=500;X-TITLE=605 6th Street:geo:-105.6974142,39.7061997
END:VEVENT
BEGIN:VEVENT
DTSTART;TZID=America/Denver:20190707T100000
DTEND;TZID=America/Denver:20190707T160000
DTSTAMP:20260422T131732
CREATED:20190701T184446Z
LAST-MODIFIED:20190701T184446Z
UID:10004443-1562493600-1562515200@cccld.org
SUMMARY:Friends of the Georgetown Library Book Sale
DESCRIPTION:Support the Friends of the Georgetown Library by visiting their 4th of July Book Sale at the John Tomay Memorial Library. The sale will be open July 4\, 6\, and 7 from 10 am – 4 pm.
URL:https://cccld.org/event/friends-of-the-georgetown-library-book-sale/2019-07-07/
LOCATION:John Tomay Memorial Library\, 605 6th Street\, Georgetown\, CO\, 80444\, United States
CATEGORIES:Adults,Community Events,Kids,Library Events
GEO:39.7061997;-105.6974142
X-APPLE-STRUCTURED-LOCATION;VALUE=URI;X-ADDRESS=John Tomay Memorial Library 605 6th Street Georgetown CO 80444 United States;X-APPLE-RADIUS=500;X-TITLE=605 6th Street:geo:-105.6974142,39.7061997
END:VEVENT
BEGIN:VEVENT
DTSTART;TZID=America/Denver:20190706T100000
DTEND;TZID=America/Denver:20190706T160000
DTSTAMP:20260422T131732
CREATED:20190701T184446Z
LAST-MODIFIED:20190701T184446Z
UID:10004442-1562407200-1562428800@cccld.org
SUMMARY:Friends of the Georgetown Library Book Sale
DESCRIPTION:Support the Friends of the Georgetown Library by visiting their 4th of July Book Sale at the John Tomay Memorial Library. The sale will be open July 4\, 6\, and 7 from 10 am – 4 pm.
URL:https://cccld.org/event/friends-of-the-georgetown-library-book-sale/2019-07-06/
LOCATION:John Tomay Memorial Library\, 605 6th Street\, Georgetown\, CO\, 80444\, United States
CATEGORIES:Adults,Community Events,Kids,Library Events
GEO:39.7061997;-105.6974142
X-APPLE-STRUCTURED-LOCATION;VALUE=URI;X-ADDRESS=John Tomay Memorial Library 605 6th Street Georgetown CO 80444 United States;X-APPLE-RADIUS=500;X-TITLE=605 6th Street:geo:-105.6974142,39.7061997
END:VEVENT
BEGIN:VEVENT
DTSTART;TZID=America/Denver:20190704T100000
DTEND;TZID=America/Denver:20190704T160000
DTSTAMP:20260422T131732
CREATED:20190701T184446Z
LAST-MODIFIED:20190701T184446Z
UID:10004441-1562234400-1562256000@cccld.org
SUMMARY:Friends of the Georgetown Library Book Sale
DESCRIPTION:Support the Friends of the Georgetown Library by visiting their 4th of July Book Sale at the John Tomay Memorial Library. The sale will be open July 4\, 6\, and 7 from 10 am – 4 pm.
URL:https://cccld.org/event/friends-of-the-georgetown-library-book-sale/2019-07-04/
LOCATION:John Tomay Memorial Library\, 605 6th Street\, Georgetown\, CO\, 80444\, United States
CATEGORIES:Adults,Community Events,Kids,Library Events
GEO:39.7061997;-105.6974142
X-APPLE-STRUCTURED-LOCATION;VALUE=URI;X-ADDRESS=John Tomay Memorial Library 605 6th Street Georgetown CO 80444 United States;X-APPLE-RADIUS=500;X-TITLE=605 6th Street:geo:-105.6974142,39.7061997
END:VEVENT
BEGIN:VEVENT
DTSTART;TZID=America/Denver:20190626T130000
DTEND;TZID=America/Denver:20190626T140000
DTSTAMP:20260422T131732
CREATED:20190516T230058Z
LAST-MODIFIED:20190516T230058Z
UID:10004776-1561554000-1561557600@cccld.org
SUMMARY:JTML Summer Reading Week 4: Emberclaw House
DESCRIPTION:Emberclaw House: 6th – 12th grade \nWeek 4 in Georgetown: Castles – Castlecraft
URL:https://cccld.org/event/jtml-summer-reading-week-4-emberclaw-house/
LOCATION:John Tomay Memorial Library\, 605 6th Street\, Georgetown\, CO\, 80444\, United States
CATEGORIES:Library Events,Summer Reading
GEO:39.7061997;-105.6974142
X-APPLE-STRUCTURED-LOCATION;VALUE=URI;X-ADDRESS=John Tomay Memorial Library 605 6th Street Georgetown CO 80444 United States;X-APPLE-RADIUS=500;X-TITLE=605 6th Street:geo:-105.6974142,39.7061997
END:VEVENT
BEGIN:VEVENT
DTSTART;TZID=America/Denver:20190626T100000
DTEND;TZID=America/Denver:20190626T120000
DTSTAMP:20260422T131732
CREATED:20190516T190441Z
LAST-MODIFIED:20190606T210256Z
UID:10004412-1561543200-1561550400@cccld.org
SUMMARY:JTML Summer Reading Week 4: Pippinhoot & Featherfayre Houses
DESCRIPTION:Pippinhoot House: early learning – 2nd grade \nFeatherfayre House: 3rd – 5th grade \nWeek 4 in Georgetown: Castles – Castlecraft
URL:https://cccld.org/event/jtml-summer-reading-pippinhoot-featherfayre-houses-4/
LOCATION:John Tomay Memorial Library\, 605 6th Street\, Georgetown\, CO\, 80444\, United States
CATEGORIES:Kids,Library Events,Summer Reading
GEO:39.7061997;-105.6974142
X-APPLE-STRUCTURED-LOCATION;VALUE=URI;X-ADDRESS=John Tomay Memorial Library 605 6th Street Georgetown CO 80444 United States;X-APPLE-RADIUS=500;X-TITLE=605 6th Street:geo:-105.6974142,39.7061997
END:VEVENT
BEGIN:VEVENT
DTSTART;TZID=America/Denver:20190619T130000
DTEND;TZID=America/Denver:20190619T140000
DTSTAMP:20260422T131732
CREATED:20190516T225409Z
LAST-MODIFIED:20190516T225409Z
UID:10004774-1560949200-1560952800@cccld.org
SUMMARY:JTML Summer Reading Week 3: Emberclaw House
DESCRIPTION:Emberclaw House: 6th – 12th grade \nWeek 3 in Georgetown: Potions – Potion Workshop
URL:https://cccld.org/event/jtml-summer-reading-week-3-emberclaw-house/
LOCATION:John Tomay Memorial Library\, 605 6th Street\, Georgetown\, CO\, 80444\, United States
CATEGORIES:Library Events,Summer Reading
GEO:39.7061997;-105.6974142
X-APPLE-STRUCTURED-LOCATION;VALUE=URI;X-ADDRESS=John Tomay Memorial Library 605 6th Street Georgetown CO 80444 United States;X-APPLE-RADIUS=500;X-TITLE=605 6th Street:geo:-105.6974142,39.7061997
END:VEVENT
BEGIN:VEVENT
DTSTART;TZID=America/Denver:20190619T100000
DTEND;TZID=America/Denver:20190619T120000
DTSTAMP:20260422T131732
CREATED:20190516T185718Z
LAST-MODIFIED:20190606T210123Z
UID:10004406-1560938400-1560945600@cccld.org
SUMMARY:JTML Summer Reading Week 3: Pippinhoot & Featherfayre Houses
DESCRIPTION:Pippinhoot House: early learning – 2nd grade \nFeatherfayre House: 3rd – 5th grade \nWeek 3 in Georgetown: Potions Workshop
URL:https://cccld.org/event/jtml-summer-reading-pippinhoot-featherfayre-houses-3/
LOCATION:John Tomay Memorial Library\, 605 6th Street\, Georgetown\, CO\, 80444\, United States
CATEGORIES:Kids,Library Events,Summer Reading
GEO:39.7061997;-105.6974142
X-APPLE-STRUCTURED-LOCATION;VALUE=URI;X-ADDRESS=John Tomay Memorial Library 605 6th Street Georgetown CO 80444 United States;X-APPLE-RADIUS=500;X-TITLE=605 6th Street:geo:-105.6974142,39.7061997
END:VEVENT
BEGIN:VEVENT
DTSTART;TZID=America/Denver:20190613T173000
DTEND;TZID=America/Denver:20190613T190000
DTSTAMP:20260422T131732
CREATED:20190610T185201Z
LAST-MODIFIED:20190610T185201Z
UID:10004434-1560447000-1560452400@cccld.org
SUMMARY:JTML Adult Craft Night
DESCRIPTION:Do you love to craft? Or are you craft-curious? Get creative and connect with other crafty patrons at our monthly craft workshops! No experience is necessary and all workshops are free\, but registration is required for each session. Please email holly@cccld.org to sign up. \nJune craft: pompom owls
URL:https://cccld.org/event/jtml-adult-craft-night/
LOCATION:John Tomay Memorial Library\, 605 6th Street\, Georgetown\, CO\, 80444\, United States
CATEGORIES:Adults,Library Events
GEO:39.7061997;-105.6974142
X-APPLE-STRUCTURED-LOCATION;VALUE=URI;X-ADDRESS=John Tomay Memorial Library 605 6th Street Georgetown CO 80444 United States;X-APPLE-RADIUS=500;X-TITLE=605 6th Street:geo:-105.6974142,39.7061997
END:VEVENT
BEGIN:VEVENT
DTSTART;TZID=America/Denver:20190612T130000
DTEND;TZID=America/Denver:20190612T140000
DTSTAMP:20260422T131732
CREATED:20190516T224716Z
LAST-MODIFIED:20190516T224716Z
UID:10004770-1560344400-1560348000@cccld.org
SUMMARY:JTML Summer Reading Week 2: Emberclaw House
DESCRIPTION:Emberclaw House: 6th – 12th grade \nWeek 2 in Georgetown: Owlery Visit – Owlcraft
URL:https://cccld.org/event/jtml-summer-reading-week-2-emberclaw-house/
LOCATION:John Tomay Memorial Library\, 605 6th Street\, Georgetown\, CO\, 80444\, United States
CATEGORIES:Library Events,Summer Reading
GEO:39.7061997;-105.6974142
X-APPLE-STRUCTURED-LOCATION;VALUE=URI;X-ADDRESS=John Tomay Memorial Library 605 6th Street Georgetown CO 80444 United States;X-APPLE-RADIUS=500;X-TITLE=605 6th Street:geo:-105.6974142,39.7061997
END:VEVENT
BEGIN:VEVENT
DTSTART;TZID=America/Denver:20190612T100000
DTEND;TZID=America/Denver:20190612T120000
DTSTAMP:20260422T131732
CREATED:20190516T185152Z
LAST-MODIFIED:20190606T205906Z
UID:10004400-1560333600-1560340800@cccld.org
SUMMARY:JTML Summer Reading Week 2: Pippinhoot & Featherfayre Houses
DESCRIPTION:Pippinhoot House: early learning – 2nd grade \nFeatherfayre House: 3rd – 5th grade \nWeek 2 in Georgetown: Owlery Visit – Owlcraft
URL:https://cccld.org/event/jtml-summer-reading-pippinhoot-featherfayre-houses-2/
LOCATION:John Tomay Memorial Library\, 605 6th Street\, Georgetown\, CO\, 80444\, United States
CATEGORIES:Kids,Library Events,Summer Reading
GEO:39.7061997;-105.6974142
X-APPLE-STRUCTURED-LOCATION;VALUE=URI;X-ADDRESS=John Tomay Memorial Library 605 6th Street Georgetown CO 80444 United States;X-APPLE-RADIUS=500;X-TITLE=605 6th Street:geo:-105.6974142,39.7061997
END:VEVENT
BEGIN:VEVENT
DTSTART;TZID=America/Denver:20190605T130000
DTEND;TZID=America/Denver:20190605T140000
DTSTAMP:20260422T131732
CREATED:20190516T223849Z
LAST-MODIFIED:20190516T223849Z
UID:10004766-1559739600-1559743200@cccld.org
SUMMARY:JTML Summer Reading Week 1: Emberclaw House
DESCRIPTION:Emberclaw House: 6th – 12th grade \nWeek 1 in Georgetown: Witches’ Welcome – Ollivander’s Wand Workshop
URL:https://cccld.org/event/jtml-summer-reading-week-1-emberclaw-house/
LOCATION:John Tomay Memorial Library\, 605 6th Street\, Georgetown\, CO\, 80444\, United States
CATEGORIES:Library Events,Summer Reading
GEO:39.7061997;-105.6974142
X-APPLE-STRUCTURED-LOCATION;VALUE=URI;X-ADDRESS=John Tomay Memorial Library 605 6th Street Georgetown CO 80444 United States;X-APPLE-RADIUS=500;X-TITLE=605 6th Street:geo:-105.6974142,39.7061997
END:VEVENT
BEGIN:VEVENT
DTSTART;TZID=America/Denver:20190605T100000
DTEND;TZID=America/Denver:20190605T120000
DTSTAMP:20260422T131732
CREATED:20190516T184219Z
LAST-MODIFIED:20190516T190858Z
UID:10004754-1559728800-1559736000@cccld.org
SUMMARY:JTML Summer Reading Week 1: Pippinhoot & Featherfayre Houses
DESCRIPTION:Pippinhoot House: early learning – 2nd grade \nFeatherfayre House: 3rd – 5th grade \nWeek One in Georgetown: Witches & Wands – Magic Wand Workshop
URL:https://cccld.org/event/jtml-summer-reading-pippinhoot-featherfayre-houses/
LOCATION:John Tomay Memorial Library\, 605 6th Street\, Georgetown\, CO\, 80444\, United States
CATEGORIES:Kids,Library Events,Summer Reading
GEO:39.7061997;-105.6974142
X-APPLE-STRUCTURED-LOCATION;VALUE=URI;X-ADDRESS=John Tomay Memorial Library 605 6th Street Georgetown CO 80444 United States;X-APPLE-RADIUS=500;X-TITLE=605 6th Street:geo:-105.6974142,39.7061997
END:VEVENT
BEGIN:VEVENT
DTSTART;TZID=America/Denver:20190527T100000
DTEND;TZID=America/Denver:20190527T160000
DTSTAMP:20260422T131732
CREATED:20190507T193857Z
LAST-MODIFIED:20190507T193857Z
UID:10004416-1558951200-1558972800@cccld.org
SUMMARY:Friends of the Georgetown Library Memorial Day Weekend Book Sale
DESCRIPTION:Stop by the Friends of the Georgetown Library annual Memorial Day weekend book sale Saturday\, May 25\, Sunday\, May 26\, and Monday\, May 27 from 10 am to 4 pm.
URL:https://cccld.org/event/friends-of-the-georgetown-library-memorial-day-weekend-book-sale/2019-05-27/
LOCATION:John Tomay Memorial Library\, 605 6th Street\, Georgetown\, CO\, 80444\, United States
CATEGORIES:Library Events
GEO:39.7061997;-105.6974142
X-APPLE-STRUCTURED-LOCATION;VALUE=URI;X-ADDRESS=John Tomay Memorial Library 605 6th Street Georgetown CO 80444 United States;X-APPLE-RADIUS=500;X-TITLE=605 6th Street:geo:-105.6974142,39.7061997
END:VEVENT
BEGIN:VEVENT
DTSTART;TZID=America/Denver:20190526T100000
DTEND;TZID=America/Denver:20190526T160000
DTSTAMP:20260422T131732
CREATED:20190507T193857Z
LAST-MODIFIED:20190507T193857Z
UID:10004415-1558864800-1558886400@cccld.org
SUMMARY:Friends of the Georgetown Library Memorial Day Weekend Book Sale
DESCRIPTION:Stop by the Friends of the Georgetown Library annual Memorial Day weekend book sale Saturday\, May 25\, Sunday\, May 26\, and Monday\, May 27 from 10 am to 4 pm.
URL:https://cccld.org/event/friends-of-the-georgetown-library-memorial-day-weekend-book-sale/2019-05-26/
LOCATION:John Tomay Memorial Library\, 605 6th Street\, Georgetown\, CO\, 80444\, United States
CATEGORIES:Library Events
GEO:39.7061997;-105.6974142
X-APPLE-STRUCTURED-LOCATION;VALUE=URI;X-ADDRESS=John Tomay Memorial Library 605 6th Street Georgetown CO 80444 United States;X-APPLE-RADIUS=500;X-TITLE=605 6th Street:geo:-105.6974142,39.7061997
END:VEVENT
BEGIN:VEVENT
DTSTART;TZID=America/Denver:20190525T100000
DTEND;TZID=America/Denver:20190525T160000
DTSTAMP:20260422T131732
CREATED:20190507T193857Z
LAST-MODIFIED:20190507T193857Z
UID:10004414-1558778400-1558800000@cccld.org
SUMMARY:Friends of the Georgetown Library Memorial Day Weekend Book Sale
DESCRIPTION:Stop by the Friends of the Georgetown Library annual Memorial Day weekend book sale Saturday\, May 25\, Sunday\, May 26\, and Monday\, May 27 from 10 am to 4 pm.
URL:https://cccld.org/event/friends-of-the-georgetown-library-memorial-day-weekend-book-sale/2019-05-25/
LOCATION:John Tomay Memorial Library\, 605 6th Street\, Georgetown\, CO\, 80444\, United States
CATEGORIES:Library Events
GEO:39.7061997;-105.6974142
X-APPLE-STRUCTURED-LOCATION;VALUE=URI;X-ADDRESS=John Tomay Memorial Library 605 6th Street Georgetown CO 80444 United States;X-APPLE-RADIUS=500;X-TITLE=605 6th Street:geo:-105.6974142,39.7061997
END:VEVENT
BEGIN:VEVENT
DTSTART;TZID=America/Denver:20190516T154500
DTEND;TZID=America/Denver:20190516T154500
DTSTAMP:20260422T131732
CREATED:20190403T220541Z
LAST-MODIFIED:20190403T220541Z
UID:10004652-1558021500-1558021500@cccld.org
SUMMARY:Niños Learning Español
DESCRIPTION:Learn basic\, conversational Spanish with our very own Señora Maria.
URL:https://cccld.org/event/ninos-learning-espanol-7/
LOCATION:John Tomay Memorial Library\, 605 6th Street\, Georgetown\, CO\, 80444\, United States
CATEGORIES:Kids,Library Events
GEO:39.7061997;-105.6974142
X-APPLE-STRUCTURED-LOCATION;VALUE=URI;X-ADDRESS=John Tomay Memorial Library 605 6th Street Georgetown CO 80444 United States;X-APPLE-RADIUS=500;X-TITLE=605 6th Street:geo:-105.6974142,39.7061997
END:VEVENT
BEGIN:VEVENT
DTSTART;TZID=America/Denver:20190515T160000
DTEND;TZID=America/Denver:20190515T160000
DTSTAMP:20260422T131732
CREATED:20190329T155154Z
LAST-MODIFIED:20190509T175515Z
UID:10004631-1557936000-1557936000@cccld.org
SUMMARY:Friends of the Georgetown Library Meeting
DESCRIPTION:
URL:https://cccld.org/event/friends-of-the-georgetown-library-meeting/
LOCATION:John Tomay Memorial Library\, 605 6th Street\, Georgetown\, CO\, 80444\, United States
CATEGORIES:Library Events
GEO:39.7061997;-105.6974142
X-APPLE-STRUCTURED-LOCATION;VALUE=URI;X-ADDRESS=John Tomay Memorial Library 605 6th Street Georgetown CO 80444 United States;X-APPLE-RADIUS=500;X-TITLE=605 6th Street:geo:-105.6974142,39.7061997
END:VEVENT
END:VCALENDAR