BEGIN:VCALENDAR
VERSION:2.0
PRODID:-//Clear Creek County Library District - ECPv6.15.16//NONSGML v1.0//EN
CALSCALE:GREGORIAN
METHOD:PUBLISH
X-ORIGINAL-URL:https://cccld.org
X-WR-CALDESC:Events for Clear Creek County Library District
REFRESH-INTERVAL;VALUE=DURATION:PT1H
X-Robots-Tag:noindex
X-PUBLISHED-TTL:PT1H
BEGIN:VTIMEZONE
TZID:America/Denver
BEGIN:DAYLIGHT
TZOFFSETFROM:-0700
TZOFFSETTO:-0600
TZNAME:MDT
DTSTART:20180311T090000
END:DAYLIGHT
BEGIN:STANDARD
TZOFFSETFROM:-0600
TZOFFSETTO:-0700
TZNAME:MST
DTSTART:20181104T080000
END:STANDARD
BEGIN:DAYLIGHT
TZOFFSETFROM:-0700
TZOFFSETTO:-0600
TZNAME:MDT
DTSTART:20190310T090000
END:DAYLIGHT
BEGIN:STANDARD
TZOFFSETFROM:-0600
TZOFFSETTO:-0700
TZNAME:MST
DTSTART:20191103T080000
END:STANDARD
BEGIN:DAYLIGHT
TZOFFSETFROM:-0700
TZOFFSETTO:-0600
TZNAME:MDT
DTSTART:20200308T090000
END:DAYLIGHT
BEGIN:STANDARD
TZOFFSETFROM:-0600
TZOFFSETTO:-0700
TZNAME:MST
DTSTART:20201101T080000
END:STANDARD
END:VTIMEZONE
BEGIN:VEVENT
DTSTART;TZID=America/Denver:20190417T111500
DTEND;TZID=America/Denver:20190417T111500
DTSTAMP:20260422T225858
CREATED:20190403T222512Z
LAST-MODIFIED:20190403T222512Z
UID:10004659-1555499700-1555499700@cccld.org
SUMMARY:JTML Storytime
DESCRIPTION:Join us at the John Tomay Memorial Library for stories\, fun activities\, and snacks each week. Connect with other families and your library!
URL:https://cccld.org/event/jtml-storytime-2/
LOCATION:John Tomay Memorial Library\, 605 6th Street\, Georgetown\, CO\, 80444\, United States
CATEGORIES:Kids,Library Events
GEO:39.7061997;-105.6974142
X-APPLE-STRUCTURED-LOCATION;VALUE=URI;X-ADDRESS=John Tomay Memorial Library 605 6th Street Georgetown CO 80444 United States;X-APPLE-RADIUS=500;X-TITLE=605 6th Street:geo:-105.6974142,39.7061997
END:VEVENT
BEGIN:VEVENT
DTSTART;TZID=America/Denver:20190410T154000
DTEND;TZID=America/Denver:20190410T154000
DTSTAMP:20260422T225858
CREATED:20190403T225059Z
LAST-MODIFIED:20190403T225059Z
UID:10004681-1554910800-1554910800@cccld.org
SUMMARY:JTML League of the Beastly Dreadfuls Book Club
DESCRIPTION:Join the League of Beastly Dreadfuls Book Club at the John Tomay Memorial Library! There are snacks\, crafts\, and games each week.
URL:https://cccld.org/event/jtml-league-of-the-beastly-dreadfuls-book-club-2/
LOCATION:John Tomay Memorial Library\, 605 6th Street\, Georgetown\, CO\, 80444\, United States
CATEGORIES:Kids,Library Events
GEO:39.7061997;-105.6974142
X-APPLE-STRUCTURED-LOCATION;VALUE=URI;X-ADDRESS=John Tomay Memorial Library 605 6th Street Georgetown CO 80444 United States;X-APPLE-RADIUS=500;X-TITLE=605 6th Street:geo:-105.6974142,39.7061997
END:VEVENT
BEGIN:VEVENT
DTSTART;TZID=America/Denver:20190410T154000
DTEND;TZID=America/Denver:20190410T154000
DTSTAMP:20260422T225858
CREATED:20190329T162152Z
LAST-MODIFIED:20190329T162152Z
UID:10004327-1554910800-1554910800@cccld.org
SUMMARY:JTML League of the Beastly Dreadfuls Book Club
DESCRIPTION:Join the League of Beastly Dreadfuls Book Club at the John Tomay Memorial Library! There are snacks\, crafts\, and games each week.
URL:https://cccld.org/event/jtml-league-of-the-beastly-dreadfuls-book-club/2019-04-10/
LOCATION:John Tomay Memorial Library\, 605 6th Street\, Georgetown\, CO\, 80444\, United States
GEO:39.7061997;-105.6974142
X-APPLE-STRUCTURED-LOCATION;VALUE=URI;X-ADDRESS=John Tomay Memorial Library 605 6th Street Georgetown CO 80444 United States;X-APPLE-RADIUS=500;X-TITLE=605 6th Street:geo:-105.6974142,39.7061997
END:VEVENT
BEGIN:VEVENT
DTSTART;TZID=America/Denver:20190410T130000
DTEND;TZID=America/Denver:20190410T141500
DTSTAMP:20260422T225858
CREATED:20190329T163149Z
LAST-MODIFIED:20190329T163149Z
UID:10004333-1554901200-1554905700@cccld.org
SUMMARY:JTML Tech Time: Computer Basics
DESCRIPTION:Learn how to write a letter\, search the internet\, check the news\, find stock tips\, set up email\, and more.
URL:https://cccld.org/event/jtml-tech-time-computer-basics/2019-04-10/
LOCATION:John Tomay Memorial Library\, 605 6th Street\, Georgetown\, CO\, 80444\, United States
GEO:39.7061997;-105.6974142
X-APPLE-STRUCTURED-LOCATION;VALUE=URI;X-ADDRESS=John Tomay Memorial Library 605 6th Street Georgetown CO 80444 United States;X-APPLE-RADIUS=500;X-TITLE=605 6th Street:geo:-105.6974142,39.7061997
END:VEVENT
BEGIN:VEVENT
DTSTART;TZID=America/Denver:20190410T130000
DTEND;TZID=America/Denver:20190410T130000
DTSTAMP:20260422T225858
CREATED:20190403T224726Z
LAST-MODIFIED:20190403T224726Z
UID:10004680-1554901200-1554901200@cccld.org
SUMMARY:JTML Tech Time: Computer Basics
DESCRIPTION:Learn how to write a letter\, search the internet\, check the news\, find stock tips\, set up email\, and more.
URL:https://cccld.org/event/jtml-tech-time-computer-basics-2/
LOCATION:John Tomay Memorial Library\, 605 6th Street\, Georgetown\, CO\, 80444\, United States
CATEGORIES:Library Events
GEO:39.7061997;-105.6974142
X-APPLE-STRUCTURED-LOCATION;VALUE=URI;X-ADDRESS=John Tomay Memorial Library 605 6th Street Georgetown CO 80444 United States;X-APPLE-RADIUS=500;X-TITLE=605 6th Street:geo:-105.6974142,39.7061997
END:VEVENT
BEGIN:VEVENT
DTSTART;TZID=America/Denver:20190410T111500
DTEND;TZID=America/Denver:20190410T111500
DTSTAMP:20260422T225858
CREATED:20190403T222430Z
LAST-MODIFIED:20190403T222430Z
UID:10004658-1554894900-1554894900@cccld.org
SUMMARY:JTML Storytime
DESCRIPTION:Join us at the John Tomay Memorial Library for stories\, fun activities\, and snacks each week. Connect with other families and your library!
URL:https://cccld.org/event/jtml-storytime/
LOCATION:John Tomay Memorial Library\, 605 6th Street\, Georgetown\, CO\, 80444\, United States
CATEGORIES:Kids,Library Events
GEO:39.7061997;-105.6974142
X-APPLE-STRUCTURED-LOCATION;VALUE=URI;X-ADDRESS=John Tomay Memorial Library 605 6th Street Georgetown CO 80444 United States;X-APPLE-RADIUS=500;X-TITLE=605 6th Street:geo:-105.6974142,39.7061997
END:VEVENT
BEGIN:VEVENT
DTSTART;TZID=America/Denver:20190404T154500
DTEND;TZID=America/Denver:20190404T154500
DTSTAMP:20260422T225858
CREATED:20190403T215838Z
LAST-MODIFIED:20190403T215838Z
UID:10004642-1554392700-1554392700@cccld.org
SUMMARY:Niños Learning Español
DESCRIPTION:Learn basic\, conversational Spanish with our very own Señora Maria.
URL:https://cccld.org/event/ninos-learning-espanol/
LOCATION:John Tomay Memorial Library\, 605 6th Street\, Georgetown\, CO\, 80444\, United States
CATEGORIES:Kids,Library Events
GEO:39.7061997;-105.6974142
X-APPLE-STRUCTURED-LOCATION;VALUE=URI;X-ADDRESS=John Tomay Memorial Library 605 6th Street Georgetown CO 80444 United States;X-APPLE-RADIUS=500;X-TITLE=605 6th Street:geo:-105.6974142,39.7061997
END:VEVENT
BEGIN:VEVENT
DTSTART;TZID=America/Denver:20190403T154000
DTEND;TZID=America/Denver:20190403T154000
DTSTAMP:20260422T225858
CREATED:20190329T162152Z
LAST-MODIFIED:20190329T162152Z
UID:10004326-1554306000-1554306000@cccld.org
SUMMARY:JTML League of the Beastly Dreadfuls Book Club
DESCRIPTION:Join the League of Beastly Dreadfuls Book Club at the John Tomay Memorial Library! There are snacks\, crafts\, and games each week.
URL:https://cccld.org/event/jtml-league-of-the-beastly-dreadfuls-book-club/2019-04-03/
LOCATION:John Tomay Memorial Library\, 605 6th Street\, Georgetown\, CO\, 80444\, United States
GEO:39.7061997;-105.6974142
X-APPLE-STRUCTURED-LOCATION;VALUE=URI;X-ADDRESS=John Tomay Memorial Library 605 6th Street Georgetown CO 80444 United States;X-APPLE-RADIUS=500;X-TITLE=605 6th Street:geo:-105.6974142,39.7061997
END:VEVENT
BEGIN:VEVENT
DTSTART;TZID=America/Denver:20190403T130000
DTEND;TZID=America/Denver:20190403T141500
DTSTAMP:20260422T225858
CREATED:20190329T163149Z
LAST-MODIFIED:20190329T163149Z
UID:10004332-1554296400-1554300900@cccld.org
SUMMARY:JTML Tech Time: Computer Basics
DESCRIPTION:Learn how to write a letter\, search the internet\, check the news\, find stock tips\, set up email\, and more.
URL:https://cccld.org/event/jtml-tech-time-computer-basics/2019-04-03/
LOCATION:John Tomay Memorial Library\, 605 6th Street\, Georgetown\, CO\, 80444\, United States
GEO:39.7061997;-105.6974142
X-APPLE-STRUCTURED-LOCATION;VALUE=URI;X-ADDRESS=John Tomay Memorial Library 605 6th Street Georgetown CO 80444 United States;X-APPLE-RADIUS=500;X-TITLE=605 6th Street:geo:-105.6974142,39.7061997
END:VEVENT
BEGIN:VEVENT
DTSTART;TZID=America/Denver:20190321T190000
DTEND;TZID=America/Denver:20190321T203000
DTSTAMP:20260422T225858
CREATED:20190129T185842Z
LAST-MODIFIED:20190212T193540Z
UID:10004393-1553194800-1553200200@cccld.org
SUMMARY:Adult Book Connection
DESCRIPTION:Connect with other readers in our community at monthly library book meetups. Share your ideas  and discover new stories. New readers are always welcome! Please contact holly@cccld.org for more information. \nIn March we will be discussing Beartown by Frederik Backman.
URL:https://cccld.org/event/adult-book-group-2/
LOCATION:John Tomay Memorial Library\, 605 6th Street\, Georgetown\, CO\, 80444\, United States
CATEGORIES:Adults,Library Events
GEO:39.7061997;-105.6974142
X-APPLE-STRUCTURED-LOCATION;VALUE=URI;X-ADDRESS=John Tomay Memorial Library 605 6th Street Georgetown CO 80444 United States;X-APPLE-RADIUS=500;X-TITLE=605 6th Street:geo:-105.6974142,39.7061997
END:VEVENT
BEGIN:VEVENT
DTSTART;TZID=America/Denver:20190314T173000
DTEND;TZID=America/Denver:20190314T173000
DTSTAMP:20260422T225858
CREATED:20190129T185609Z
LAST-MODIFIED:20190225T213553Z
UID:10004391-1552584600-1552584600@cccld.org
SUMMARY:Adult Craft
DESCRIPTION:Do you love to craft? Or are you craft-curious? Get creative and connect with other crafty patrons at our monthly craft workshops! No experience is necessary and all workshops are free\, but registration is required for each session. Please email holly@cccld.org to sign up. \nMarch craft: Pinwheel Wreaths
URL:https://cccld.org/event/adult-craft-2/
LOCATION:John Tomay Memorial Library\, 605 6th Street\, Georgetown\, CO\, 80444\, United States
CATEGORIES:Adults,Library Events
GEO:39.7061997;-105.6974142
X-APPLE-STRUCTURED-LOCATION;VALUE=URI;X-ADDRESS=John Tomay Memorial Library 605 6th Street Georgetown CO 80444 United States;X-APPLE-RADIUS=500;X-TITLE=605 6th Street:geo:-105.6974142,39.7061997
END:VEVENT
BEGIN:VEVENT
DTSTART;TZID=America/Denver:20190214T110000
DTEND;TZID=America/Denver:20190214T133000
DTSTAMP:20260422T225858
CREATED:20190129T194130Z
LAST-MODIFIED:20190129T194130Z
UID:10004429-1550142000-1550151000@cccld.org
SUMMARY:JTML Friends Soup Lunch
DESCRIPTION:Join the Friends of the Georgetown Library for their annual soup lunch so they can say THANK YOU to their community.
URL:https://cccld.org/event/jtml-friends-soup-lunch/
LOCATION:John Tomay Memorial Library\, 605 6th Street\, Georgetown\, CO\, 80444\, United States
CATEGORIES:Library Events
GEO:39.7061997;-105.6974142
X-APPLE-STRUCTURED-LOCATION;VALUE=URI;X-ADDRESS=John Tomay Memorial Library 605 6th Street Georgetown CO 80444 United States;X-APPLE-RADIUS=500;X-TITLE=605 6th Street:geo:-105.6974142,39.7061997
END:VEVENT
BEGIN:VEVENT
DTSTART;TZID=America/Denver:20190213T170000
DTEND;TZID=America/Denver:20190213T190000
DTSTAMP:20260422T225858
CREATED:20190129T184037Z
LAST-MODIFIED:20190129T184037Z
UID:10004237-1550077200-1550084400@cccld.org
SUMMARY:Adult Craft: Cards with Dori
DESCRIPTION:Do you love to craft? Or are you craft-curious? Get creative and connect with other crafty patrons at our monthly craft workshops! No experience is necessary and all workshops are free\, but registration is required for each session. Please email holly@cccld.org to sign up. \nThis month we will be making beautiful “iris fold” Valentine cards. This class will be taught by local artist Dori Nelson.
URL:https://cccld.org/event/adult-craft-cards-with-dori-2/
LOCATION:John Tomay Memorial Library\, 605 6th Street\, Georgetown\, CO\, 80444\, United States
CATEGORIES:Library Events
GEO:39.7061997;-105.6974142
X-APPLE-STRUCTURED-LOCATION;VALUE=URI;X-ADDRESS=John Tomay Memorial Library 605 6th Street Georgetown CO 80444 United States;X-APPLE-RADIUS=500;X-TITLE=605 6th Street:geo:-105.6974142,39.7061997
END:VEVENT
BEGIN:VEVENT
DTSTART;TZID=America/Denver:20190206T153000
DTEND;TZID=America/Denver:20190206T163000
DTSTAMP:20260422T225858
CREATED:20190129T193525Z
LAST-MODIFIED:20190129T193525Z
UID:10004428-1549467000-1549470600@cccld.org
SUMMARY:Crafternoon at the Library
DESCRIPTION:Zombify your stuffies for the Zombie Dance on Valentine’s Day!
URL:https://cccld.org/event/crafternoon-at-the-library-2/
LOCATION:John Tomay Memorial Library\, 605 6th Street\, Georgetown\, CO\, 80444\, United States
GEO:39.7061997;-105.6974142
X-APPLE-STRUCTURED-LOCATION;VALUE=URI;X-ADDRESS=John Tomay Memorial Library 605 6th Street Georgetown CO 80444 United States;X-APPLE-RADIUS=500;X-TITLE=605 6th Street:geo:-105.6974142,39.7061997
END:VEVENT
END:VCALENDAR